{"text_format":"1","workbook":"xlsx","n_sheets":2,"sheets":["Carta de Presentación","Datos Ocultos"],"not_rendered":{"charts":0,"images":0,"macros":1,"external_links":0,"defined_names":0,"comments":0,"pivot_tables":0},"unopened":[],"bounds":{"document_bytes":16777216,"sheet_cells":100000,"rows_first":2000,"rows_last":500,"rows_between":2000,"halvings":0,"cell_chars":16384,"cell_head_chars":4096},"cells_cut":0,"cells_raw":0,"read":"whole","date_system":"1900"}

{"sheet":"Carta de Presentación","index":0,"n_rows":38,"n_cols":8,"rows_kept":38,"cut":false,"hidden":false,"merged":[[31,1,31,8],[20,6,20,8],[23,6,23,8],[26,6,26,8],[21,6,21,8],[22,6,22,8],[19,6,19,8],[28,6,28,8],[29,6,29,8],[7,2,8,8],[10,1,11,8],[13,3,13,6],[14,3,14,6],[16,3,16,6],[15,3,15,6],[18,6,18,8],[24,7,25,8]]}
[]
[null,"Carta de Presentación de Oferta"]
[]
[null,null,null,null,null,null,"Buenos Aires 27 de Abril de 2023"]
[]
[null,"Sres.  Compañía Administradora del Mercado Eléctrico Mayorista S.A. "]
[]
[null,"Ref.:","Convocatoria Abierta Nacional e Internacional en el Marco de la Resolución SE N°36/2023 (RenMDI)"]
[]
[]
[null,"Declaro que la información que manifiesto en esta oferta tiene carácter de declaración jurada. Asimismo, tomo conocimiento que cualquier falsedad y/o error en la información que en este acto manifiesto, producirá que mi Oferta no sea evaluada y por ende sea desestimada."]
[]
[]
[null,"NOMBRE DEL PROYECTO"]
[null,"OFERENTE"]
[null,"RENGLÓN",null,null,null,null,null,"(*)"]
[null,"TECNOLOGIA",null,"BM - BioMasa"]
[]
[null,"Potencia Ofertada [MW]"]
[null,"Almacenamiento Potencia [MW] (si aplica)"]
[null,"Almacenamiento Horas de Entrega (si aplica)"]
[null,"Provincia"]
[null,"Localidad"]
[null,"Distribuidora / PAFTT"]
[null,"Nodo de Conexión (NDC) (Para Renglón 1 / Anexo 3) - ID",null,null,null,null,null,{"$f":"IF(OR(G25=\"\",D16<>1),\"\",VLOOKUP(G25,'Datos Ocultos'!$T$6:$U$299,2,FALSE))","v":""}]
[null,"Nodo de Conexión (NDC) (Para Renglón 1 / Anexo 3) - Tensión [kV]"]
[null,"Punto de Conexión - Descripción"]
[null,"Punto de Conexión - Nivel de Tensión [kV]"]
[null,"Coordenadas geográficas del Proyecto - Latitud (**)"]
[null,"Coordenadas geográficas del Proyecto - Longitud (**)"]
[null,"(**) Coordenadas geográficas en grados decimales (WGS84)"]
[null,"El Oferente se compromete a mantener la presente Oferta por el plazo de 240 días corridos en los términos establecidos en el Artículo 10 del PBC."]
[]
[]
[]
[null,"(firma y aclaración del representante legal o apoderado de cada persona que integra el Oferente)"]
[]
[null,"(*) Para la Tecnología BioMasa, las ofertas no adjudicadas en Renglón 1 pasan a participar del Renglón 2"]

{"sheet":"Datos Ocultos","index":1,"n_rows":299,"n_cols":324,"rows_kept":299,"cut":false,"hidden":true,"merged":[]}
[null,{"$f":"'Carta de Presentación'!D16","v":0}]
[null,"TECNOLOGIA",null,null,null,"TECNOLOGIA R1",null,null,null,null,null,"PROVINCIAS","Validación:",1]
[]
[{"$f":"IF($B$1=1,1,IF($B$1=2,5,9))","v":9},{"$f":"VLOOKUP(A4,$G$4:$H$12,2,FALSE)","v":""},null,null,null,"TECNOLOGIA R1",1,"BM - BioMasa",null,null,null,"BUENOS AIRES",null,null,null,null,null,null,null,"NODO","DESC","Kv1","Kv2","Kv3","Kv4",null,null,null,null,null,null,null,null,null,null,null,null,null,null,null,null,null,null,null,null,null,null,null,null,null,null,null,null,null,null,null,null,null,null,null,null,null,null,null,null,null,null,null,null,null,null,null,null,null,null,null,null,null,null,null,null,null,null,null,null,null,null,null,null,null,null,null,null,null,null,null,null,null,null,null,null,null,null,null,null,null,null,null,null,null,null,null,null,null,null,null,null,null,null,null,null,null,null,null,null,null,null,null,null,null,null,null,null,null,null,null,null,null,null,null,null,null,null,null,null,null,null,null,null,null,null,null,null,null,null,null,null,null,null,null,null,null,null,null,null,null,null,null,null,null,null,null,null,null,null,null,null,null,null,null,null,null,null,null,null,null,null,null,null,null,null,null,null,null,null,null,null,null,null,null,null,null,null,null,null,null,null,null,null,null,null,null,null,null,null,null,null,null,null,null,null,null,null,null,null,null,null,null,null,null,null,null,null,null,null,null,null,null,null,null,null,null,null,null,null,null,null,null,null,null,null,null,null,null,null,null,null,null,null,null,null,null,null,null,null,null,null,null,null,null,null,null,null,null,null,null,null,null,null,null,null,null,null,null,null,null,null,null,null,null,null,null,null,null,null,null,null,null,null,null,null,null,null,null,null,null,null,null,null,null,null,null,null,null,null,null,null,null,null,null,null,null,null,"c"]
[{"$f":"IF($B$1=1,2,IF($B$1=2,6,9))","v":9},{"$f":"VLOOKUP(A5,$G$4:$H$12,2,FALSE)","v":""},null,null,null,"TECNOLOGIA R1",2,"EOLA - Eólica con Almacenamiento",null,null,null,"CABA","ID","NOMBRE / E.T.","Tensiones"]
[{"$f":"IF($B$1=1,3,IF($B$1=2,7,9))","v":9},"",null,null,null,"TECNOLOGIA R1",3,"SFV - Solar Fotovoltaico",null,null,null,"CATAMARCA",562,"VILLA DOLORES",13.2,33,"-",132,{"$f":"IF(OR('Carta de Presentación'!$D$16=2,'Carta de Presentación'!$D$16=\"\"),\"\",T6)","v":""},14,"AGUILARES",13.2,33,"-",132,null,null,null,null,null,562,269,299,437,5326,5141,190,1294,258,4601,308,572,91,565,5313,5453,475,5264,5294,5321,29,5104,244,52,284,1097,243,5357,582,214,5290,270,446,5272,274,277,212,5301,5143,1098,631,4989,141,427,2333,5273,1135,5205,507,5206,268,487,303,4980,5204,5043,3973,3953,566,4947,364,452,148,5492,50000,50001,50002,546,22,87,4253,5493,304,4921,4920,498,385,210,5257,309,5037,5007,5374,101,476,409,1438,5198,450,5404,353,366,1436,1437,173,4653,238,463,5062,53,5471,1053,5534,5468,1394,1393,1434,5454,363,5188,323,150,5458,5429,209,5505,184,4964,4573,5078,46,5081,5054,415,489,5457,456,5077,4986,97,5391,560,5079,5055,112,4952,4843,1453,404,1433,5114,4957,125,201,1513,5139,64,481,500,1493,221,174,501,2273,146,4994,4995,82,5362,1613,280,5443,5331,4913,94,196,553,461,213,673,4841,484,578,30,653,2933,183,317,428,1633,473,480,526,1573,5363,568,434,5199,5142,3233,466,355,126,540,3253,348,90,325,19,61,524,563,4851,402,585,316,4033,474,161,339,330,4886,321,117,312,301,627,296,388,50388,26,145,470,109,4693,253,294,237,454,4842,405,43,401,648,636,635,159,320,432,1873,4904,205,5103,506,3398,21,527,193,3399,5073,4898,3353,255,202,448,14,204,1903,5337,225,3513,2833,357,4971,532,5094,5223,4827,248,395,5347,287,497,483,279,252,5336,111,347,15,266,4815,378,1233,5342,99,4996,4933,435,488,3613,536,1195,51]
[{"$f":"IF($B$1=1,4,IF($B$1=2,8,9))","v":9},"",null,null,null,"TECNOLOGIA R1",4,"SFVA - Solar Fotovoltaico con Almacenamiento",null,null,null,"CHACO",269,"LA VIÑA",13.2,"-",66,132,{"$f":"IF(OR('Carta de Presentación'!$D$16=2,'Carta de Presentación'!$D$16=\"\"),\"\",T7)","v":""},15,"AIMOGASTA",13.2,33,"-","-",null,null,null,null,null,13.2,13.2,13.2,"-",13.2,13.2,13.2,13.2,13.2,13.2,13.2,13.2,13.2,13.2,13.2,13.2,13.2,13.2,13.2,13.2,"-","-",13.2,13.2,"-",13.2,"-","-","-",13.2,13.2,13.2,13.2,"-",13.2,13.2,"-",13.2,13.2,13.2,"-","-",13.2,13.2,13.2,13.2,13.2,13.2,13.2,13.2,13.2,13.2,13.2,13.2,13.2,13.2,13.2,13.2,13.2,13.2,13.2,13.2,13.2,13.2,13.2,13.2,13.2,13.2,13.2,13.2,13.2,13.2,13.2,13.2,13.2,13.2,13.2,13.2,"-",13.2,13.2,13.2,"-",13.2,"-",13.2,13.2,13.2,13.2,13.2,13.2,13.2,13.2,13.2,13.2,13.2,13.2,13.2,13.2,13.2,13.2,13.2,13.2,13.2,13.2,13.2,13.2,13.2,13.2,13.2,13.2,13.2,13.2,13.2,13.2,13.2,13.2,"-",13.2,13.2,13.2,13.2,13.2,13.2,13.2,13.2,13.2,13.2,13.2,13.2,13.2,13.2,13.2,13.2,13.2,13.2,13.2,13.2,13.2,13.2,13.2,13.2,13.2,13.2,13.2,13.2,13.2,13.2,13.2,13.2,13.2,13.2,13.2,13.2,13.2,"-","-",13.2,"-",13.2,13.2,13.2,"-",13.2,13.2,13.2,13.2,13.2,13.2,13.2,13.2,13.2,13.2,13.2,13.2,13.2,13.2,13.2,13.2,13.2,13.2,13.2,13.2,13.2,"-",13.2,13.2,13.2,13.2,13.2,13.2,13.2,13.2,13.2,"-",13.2,13.2,13.2,13.2,13.2,13.2,13.2,13.2,13.2,13.2,13.2,13.2,13.2,13.2,13.2,13.2,"-",13.2,13.2,13.2,13.2,"-","-",13.2,"-",13.2,13.2,"-",13.2,13.2,13.2,13.2,13.2,13.2,13.2,13.2,13.2,13.2,13.2,"-",13.2,13.2,"-",13.2,"-",13.2,13.2,13.2,13.2,13.2,13.2,13.2,13.2,13.2,13.2,13.2,13.2,13.2,13.2,13.2,13.2,13.2,13.2,"-",13.2,13.2,"-",13.2,"-",13.2,13.2,"-",13.2,13.2,13.2,"-",13.2,13.2,13.2,13.2,13.2,"-",13.2,"-",13.2,13.2,13.2,13.2,13.2,13.2,13.2,13.2,13.2,13.2,13.2,"-",13.2,13.2,13.2]
[null,null,null,null,null,"TECNOLOGIA R2",5,"BG - BioGas",null,null,null,"CHUBUT",299,"MOLINOS",13.2,33,"-",132,{"$f":"IF(OR('Carta de Presentación'!$D$16=2,'Carta de Presentación'!$D$16=\"\"),\"\",T8)","v":""},19,"ALMIRANTE BROWN",13.2,"-","-",132,null,null,null,null,null,33,"-",33,33,"-","-","-","-","-","-","-","-","-","-","-","-","-","-","-","-","-",33,33,"-","-","-",33,"-","-","-","-","-","-",33,"-","-",33,"-","-","-",33,"-","-","-","-","-","-",33,33,33,33,33,33,33,33,33,33,33,33,33,"-","-","-","-","-","-","-","-","-","-","-","-","-","-","-",33,"-","-",33,33,33,33,33,33,"-",33,33,33,33,33,33,33,33,33,33,33,33,33,33,33,33,33,33,33,33,33,33,33,33,33,33,33,33,33,33,33,33,33,33,33,33,33,33,33,33,33,33,33,33,33,33,33,33,33,33,33,33,33,33,33,33,33,33,33,33,33,33,33,33,33,33,33,33,33,33,33,33,33,"-",33,33,33,"-",33,33,33,33,33,33,33,33,33,33,33,33,33,33,33,33,33,33,33,33,33,"-",33,33,33,33,33,33,33,33,33,"-",33,33,"-","-",33,"-","-","-","-",33,"-",33,33,33,"-",33,"-",33,33,33,33,"-",33,33,"-",33,33,"-",33,33,33,33,33,33,33,33,33,33,33,33,33,33,33,33,33,33,33,33,33,33,33,33,33,33,33,33,33,33,33,33,33,33,33,33,33,33,"-",33,"-",33,33,33,33,33,33,"-",33,33,33,33,33,33,33,"-",33,33,33,33,33,33,33,33,33,33,33,33,33,33,33]
[null,null,null,null,null,"TECNOLOGIA R2",6,"BM - BioMasa",null,null,null,"CORDOBA",437,"REOLIN","-",33,66,132,{"$f":"IF(OR('Carta de Presentación'!$D$16=2,'Carta de Presentación'!$D$16=\"\"),\"\",T9)","v":""},21,"AÑATUYA",13.2,33,"-",132,null,null,null,null,null,"-",66,"-",66,66,"-","-","-",66,66,"-","-",66,66,66,"-",66,66,"-",66,"-","-",66,"-",66,66,66,"-","-",66,66,66,"-","-",66,"-","-",66,66,66,"-","-","-","-","-",66,66,"-","-","-","-","-","-","-","-","-","-","-","-","-","-","-",66,66,66,66,66,66,66,66,66,66,66,66,66,66,66,66,"-","-","-","-","-","-","-","-","-","-","-","-","-","-","-","-","-","-","-","-","-","-","-","-","-","-","-","-","-","-","-","-","-","-","-","-","-","-","-","-","-","-","-","-","-","-","-","-","-","-","-","-","-","-","-","-","-","-","-","-","-","-","-","-","-","-","-","-","-","-","-","-","-","-","-","-","-","-","-","-","-","-","-","-","-","-","-","-","-","-","-","-","-","-","-","-","-","-","-","-","-","-","-","-","-","-","-","-","-","-","-","-","-","-","-","-","-","-",66,"-","-","-","-","-","-","-","-","-","-","-","-","-","-","-","-","-","-",66,66,66,"-",66,66,66,"-","-","-","-","-","-","-","-","-","-","-","-","-","-","-","-","-","-","-","-","-","-","-","-","-","-","-","-","-","-","-","-","-","-","-","-","-","-","-",66,"-","-","-","-","-","-","-","-","-","-","-","-","-","-","-","-",66,"-","-","-","-","-","-","-","-","-","-","-","-","-","-","-"]
[null,null,null,null,null,"TECNOLOGIA R2",7,"BRS - BioGas de Relleno Sanitario",null,null,null,"CORRIENTES",5326,"RIO GRANDE",13.2,"-",66,"-",{"$f":"IF(OR('Carta de Presentación'!$D$16=2,'Carta de Presentación'!$D$16=\"\"),\"\",T10)","v":""},22,"ANCHORIS",13.2,"-",66,132,null,null,null,null,null,132,132,132,132,"-",132,132,132,132,"-",132,132,132,132,132,132,132,132,132,"-",132,132,132,132,132,"-","-",132,132,132,"-","-",132,132,132,132,132,132,"-","-",132,132,132,132,132,"-","-",132,132,132,132,132,132,132,132,132,132,132,132,132,132,132,132,"-","-","-","-","-",132,132,"-","-","-","-","-",132,132,132,132,132,132,132,132,132,132,132,132,132,132,132,132,132,132,132,132,132,132,132,132,132,132,132,132,132,132,132,132,132,132,132,132,132,132,132,132,132,132,"-",132,132,132,132,132,132,132,132,132,132,132,132,132,132,132,132,132,132,132,132,132,132,132,132,132,132,132,132,132,132,132,132,132,132,132,"-",132,"-","-",132,132,132,132,132,132,132,132,132,132,132,132,132,132,132,132,132,132,132,132,132,132,132,132,132,132,132,132,132,132,132,132,132,132,132,132,132,132,132,"-",132,132,132,132,"-","-","-","-","-","-","-",132,132,132,132,132,132,132,132,"-","-",132,132,"-","-",132,132,132,132,132,132,132,132,132,132,132,132,132,132,132,132,132,132,132,132,132,132,132,132,132,132,132,132,132,132,132,132,132,132,132,132,"-",132,132,132,132,132,132,132,132,132,132,132,132,132,132,132,132,132,"-",132,132,"-",132,132,132,132,132,132,132,132,132,132,"-",132,132,132]
[null,null,null,null,null,"TECNOLOGIA R2",8,"PAH - Pequeño Aprovechamiento Hidráulico",null,null,null,"ENTRE RIOS",5141,"S. A. ARREDONDO",13.2,"-","-",132,{"$f":"IF(OR('Carta de Presentación'!$D$16=2,'Carta de Presentación'!$D$16=\"\"),\"\",T11)","v":""},26,"ARRECIFES",13.2,33,66,"-",null,null,null,null,null,{"$f":"'Carta de Presentación'!G25","v":0}]
[null,"RENGLÓN",null,null,null,null,9,{"$f":"\"\"","v":""},null,null,null,"FORMOSA",190,"F. CAÑETE",13.2,"-","-",132,{"$f":"IF(OR('Carta de Presentación'!$D$16=2,'Carta de Presentación'!$D$16=\"\"),\"\",T12)","v":""},29,"ARROYO CABRAL","-","-","-",132]
[null,null,null,null,null,null,null,null,null,null,null,"JUJUY",1294,"BIALET MASSE",13.2,"-","-",132,{"$f":"IF(OR('Carta de Presentación'!$D$16=2,'Carta de Presentación'!$D$16=\"\"),\"\",T13)","v":""},30,"ARRUFO",13.2,33,"-",132,null,null,null,null,{"$f":"IF(OR('Carta de Presentación'!$D$16<>1,'Carta de Presentación'!$G$25=\"\"),\"\",AG13)","v":""},{"$f":"HLOOKUP($AE$11,$AE$6:$LL$10,2,FALSE)","v":{"$error":"#N/A"}},{"$f":"MIN(AE13:AE16)","v":{"$error":"#N/A"}},{"$f":"AF13","v":{"$error":"#N/A"}}]
[null,1,null,null,null,null,null,null,null,null,null,"LA PAMPA",258,"LA FALDA",13.2,"-",66,132,{"$f":"IF(OR('Carta de Presentación'!$D$16=2,'Carta de Presentación'!$D$16=\"\"),\"\",T14)","v":""},43,"BARILOCHE",13.2,33,"-",132,null,null,null,null,{"$f":"IF(OR('Carta de Presentación'!$D$16<>1,'Carta de Presentación'!$G$25=\"\"),\"\",AG14)","v":""},{"$f":"HLOOKUP($AE$11,$AE$6:$LL$10,3,FALSE)","v":{"$error":"#N/A"}},{"$f":"MIN(IF(AE13:AE16>AF13,AE13:AE16,\"\"))","v":{"$error":"#N/A"}},{"$f":"IF(AF14=0,\"\",AF14)","v":{"$error":"#N/A"}}]
[null,2,null,null,null,null,null,null,null,null,null,"LA RIOJA",4601,"CRUZ DEL EJE",13.2,"-",66,"-",{"$f":"IF(OR('Carta de Presentación'!$D$16=2,'Carta de Presentación'!$D$16=\"\"),\"\",T15)","v":""},46,"BARRANQUERAS",13.2,33,"-",132,null,null,null,null,{"$f":"IF(OR('Carta de Presentación'!$D$16<>1,'Carta de Presentación'!$G$25=\"\"),\"\",AG15)","v":""},{"$f":"HLOOKUP($AE$11,$AE$6:$LL$10,4,FALSE)","v":{"$error":"#N/A"}},{"$f":"IF(AF14=0,0,MIN(IF(AE13:AE16>AF14,AE13:AE16,\"\")))","v":{"$error":"#N/A"}},{"$f":"IF(AF15=0,\"\",AF15)","v":{"$error":"#N/A"}}]
[null,null,null,null,null,null,null,null,null,null,null,"MENDOZA",308,"MALAGUEÑO",13.2,"-","-",132,{"$f":"IF(OR('Carta de Presentación'!$D$16=2,'Carta de Presentación'!$D$16=\"\"),\"\",T16)","v":""},51,"BELEN",13.2,33,"-",132,null,null,null,null,{"$f":"IF(OR('Carta de Presentación'!$D$16<>1,'Carta de Presentación'!$G$25=\"\"),\"\",AG16)","v":""},{"$f":"HLOOKUP($AE$11,$AE$6:$LL$10,5,FALSE)","v":{"$error":"#N/A"}},{"$f":"IF(AF15=0,0,MIN(IF(AE13:AE16>AF15,AE13:AE16,\"\")))","v":{"$error":"#N/A"}},{"$error":"#N/A"}]
[null,null,null,null,null,null,null,null,null,null,null,"MISIONES",572,"YOCSINA",13.2,"-","-",132,{"$f":"IF(OR('Carta de Presentación'!$D$16=2,'Carta de Presentación'!$D$16=\"\"),\"\",T17)","v":""},52,"BELL VILLE",13.2,"-","-",132]
[null,null,null,null,null,null,null,null,null,null,null,"NEUQUEN",91,"CARLOS PAZ",13.2,"-",66,132,{"$f":"IF(OR('Carta de Presentación'!$D$16=2,'Carta de Presentación'!$D$16=\"\"),\"\",T18)","v":""},53,"BELLA VISTA",13.2,33,"-",132]
[null,null,null,null,null,null,null,null,null,null,null,"RIO NEGRO",565,"VILLA MARIA",13.2,"-",66,132,{"$f":"IF(OR('Carta de Presentación'!$D$16=2,'Carta de Presentación'!$D$16=\"\"),\"\",T19)","v":""},61,"BURZACO",13.2,33,"-",132]
[null,null,null,null,null,null,null,null,null,null,null,"SALTA",5313,"VILLA MARIA NORTE",13.2,"-",66,132,{"$f":"IF(OR('Carta de Presentación'!$D$16=2,'Carta de Presentación'!$D$16=\"\"),\"\",T20)","v":""},64,"C. DEL URUGUAY",13.2,33,"-",132]
[null,null,null,null,null,null,null,null,null,null,null,"SAN JUAN",5453,"LAS VARILLAS",13.2,"-","-",132,{"$f":"IF(OR('Carta de Presentación'!$D$16=2,'Carta de Presentación'!$D$16=\"\"),\"\",T21)","v":""},82,"CANADA DE GOMEZ",13.2,33,"-",132]
[null,null,null,null,null,null,null,null,null,null,null,"SAN LUIS",475,"SAN FRANCISCO",13.2,"-",66,132,{"$f":"IF(OR('Carta de Presentación'!$D$16=2,'Carta de Presentación'!$D$16=\"\"),\"\",T22)","v":""},87,"CAPIZ",13.2,"-",66,132]
[null,null,null,null,null,null,null,null,null,null,null,"SANTA CRUZ",5264,"AFISA",13.2,"-",66,132,{"$f":"IF(OR('Carta de Presentación'!$D$16=2,'Carta de Presentación'!$D$16=\"\"),\"\",T23)","v":""},90,"CARLOS CASARES",13.2,33,66,"-"]
[null,null,null,null,null,null,null,null,null,null,null,"SANTA FE",5294,"MORTEROS",13.2,"-","-",132,{"$f":"IF(OR('Carta de Presentación'!$D$16=2,'Carta de Presentación'!$D$16=\"\"),\"\",T24)","v":""},91,"CARLOS PAZ",13.2,"-",66,132]
[null,null,null,null,null,null,null,null,null,null,null,"SGO.DEL ESTERO",5321,"TIO PUJIO",13.2,"-",66,"-",{"$f":"IF(OR('Carta de Presentación'!$D$16=2,'Carta de Presentación'!$D$16=\"\"),\"\",T25)","v":""},94,"CASILDA",13.2,33,"-",132]
[null,null,null,null,null,null,null,null,null,null,null,"TUCUMAN",29,"ARROYO CABRAL","-","-","-",132,{"$f":"IF(OR('Carta de Presentación'!$D$16=2,'Carta de Presentación'!$D$16=\"\"),\"\",T26)","v":""},97,"CASTELLI CHACO",13.2,33,"-",132]
[null,null,null,null,null,null,null,null,null,null,null,null,5104,"J. POSSE","-",33,"-",132,{"$f":"IF(OR('Carta de Presentación'!$D$16=2,'Carta de Presentación'!$D$16=\"\"),\"\",T27)","v":""},99,"CATAMARCA",13.2,33,"-",132]
[null,null,null,null,null,null,null,null,null,null,null,null,244,"ISLA VERDE",13.2,33,66,132,{"$f":"IF(OR('Carta de Presentación'!$D$16=2,'Carta de Presentación'!$D$16=\"\"),\"\",T28)","v":""},101,"CAUCETE",13.2,33,"-",132]
[null,null,null,null,null,null,null,null,null,null,null,null,52,"BELL VILLE",13.2,"-","-",132,{"$f":"IF(OR('Carta de Presentación'!$D$16=2,'Carta de Presentación'!$D$16=\"\"),\"\",T29)","v":""},109,"CHACABUCO",13.2,33,"-",132]
[null,null,null,null,null,null,null,null,null,null,null,null,284,"LEONES","-","-",66,132,{"$f":"IF(OR('Carta de Presentación'!$D$16=2,'Carta de Presentación'!$D$16=\"\"),\"\",T30)","v":""},111,"CHAMICAL",13.2,33,"-",132]
[null,null,null,null,null,null,null,null,null,null,null,null,1097,"SAN MARCOS SUD",13.2,"-",66,"-",{"$f":"IF(OR('Carta de Presentación'!$D$16=2,'Carta de Presentación'!$D$16=\"\"),\"\",T31)","v":""},112,"CHARATA",13.2,33,"-",132]
[null,null,null,null,null,null,null,null,null,null,null,null,243,"INRIVILLE","-",33,66,"-",{"$f":"IF(OR('Carta de Presentación'!$D$16=2,'Carta de Presentación'!$D$16=\"\"),\"\",T32)","v":""},117,"CHIVILCOY",13.2,33,"-",132]
[null,null,null,null,null,null,null,null,null,null,null,null,5357,"ACHIRAS","-","-","-",132,{"$f":"IF(OR('Carta de Presentación'!$D$16=2,'Carta de Presentación'!$D$16=\"\"),\"\",T33)","v":""},125,"CLORINDA",13.2,33,"-",132]
[null,null,null,null,null,null,null,null,null,null,null,null,582,"MARANZANA II","-","-","-",132,{"$f":"IF(OR('Carta de Presentación'!$D$16=2,'Carta de Presentación'!$D$16=\"\"),\"\",T34)","v":""},126,"CNEL. DORREGO",13.2,33,"-",132]
[null,null,null,null,null,null,null,null,null,null,null,null,214,"GRAL. LEVALLE",13.2,"-",66,132,{"$f":"IF(OR('Carta de Presentación'!$D$16=2,'Carta de Presentación'!$D$16=\"\"),\"\",T35)","v":""},141,"CORDOBA SUROESTE",13.2,"-","-",132]
[null,null,null,null,null,null,null,null,null,null,null,null,5290,"ADELIA MARIA",13.2,"-",66,"-",{"$f":"IF(OR('Carta de Presentación'!$D$16=2,'Carta de Presentación'!$D$16=\"\"),\"\",T36)","v":""},145,"CPTAN SARMIENTO",13.2,33,66,"-"]
[null,null,null,null,null,null,null,null,null,null,null,null,270,"LABOULAYE",13.2,"-",66,"-",{"$f":"IF(OR('Carta de Presentación'!$D$16=2,'Carta de Presentación'!$D$16=\"\"),\"\",T37)","v":""},146,"CRESPO-E.RIOS",13.2,33,"-",132]
[null,null,null,null,null,null,null,null,null,null,null,null,446,"RIO CUARTO",13.2,"-","-",132,{"$f":"IF(OR('Carta de Presentación'!$D$16=2,'Carta de Presentación'!$D$16=\"\"),\"\",T38)","v":""},148,"CRUZ DE PIEDRA",13.2,"-",66,132]
[null,null,null,null,null,null,null,null,null,null,null,null,5272,"SANTA ELENA CBA","-",33,"-",132,{"$f":"IF(OR('Carta de Presentación'!$D$16=2,'Carta de Presentación'!$D$16=\"\"),\"\",T39)","v":""},150,"CURUZU CUATIA",13.2,33,"-",132]
[null,null,null,null,null,null,null,null,null,null,null,null,274,"LAS FERIAS",13.2,"-",66,132,{"$f":"IF(OR('Carta de Presentación'!$D$16=2,'Carta de Presentación'!$D$16=\"\"),\"\",T40)","v":""},159,"DIVISADEROS",13.2,33,"-",132]
[null,null,null,null,null,null,null,null,null,null,null,null,277,"LAS HIGUERAS",13.2,"-","-",132,{"$f":"IF(OR('Carta de Presentación'!$D$16=2,'Carta de Presentación'!$D$16=\"\"),\"\",T41)","v":""},161,"DOLORES",13.2,33,"-",132]
[null,null,null,null,null,null,null,null,null,null,null,null,212,"GRAL. DEHEZA","-",33,"-",132,{"$f":"IF(OR('Carta de Presentación'!$D$16=2,'Carta de Presentación'!$D$16=\"\"),\"\",T42)","v":""},173,"EL DORADO",13.2,33,"-",132]
[null,null,null,null,null,null,null,null,null,null,null,null,5301,"PROMAIZ",13.2,"-",66,132,{"$f":"IF(OR('Carta de Presentación'!$D$16=2,'Carta de Presentación'!$D$16=\"\"),\"\",T43)","v":""},174,"EL PINGO",13.2,33,"-",132]
[null,null,null,null,null,null,null,null,null,null,null,null,5143,"ALEJANDRO ROCA",13.2,"-",66,"-",{"$f":"IF(OR('Carta de Presentación'!$D$16=2,'Carta de Presentación'!$D$16=\"\"),\"\",T44)","v":""},183,"ESPERANZA",13.2,33,"-",132]
[null,null,null,null,null,null,null,null,null,null,null,null,1098,"LA CARLOTA",13.2,"-",66,"-",{"$f":"IF(OR('Carta de Presentación'!$D$16=2,'Carta de Presentación'!$D$16=\"\"),\"\",T45)","v":""},184,"ESQUINA",13.2,33,"-",132]
[null,null,null,null,null,null,null,null,null,null,null,null,631,"TANCACHA","-",33,"-",132,{"$f":"IF(OR('Carta de Presentación'!$D$16=2,'Carta de Presentación'!$D$16=\"\"),\"\",T46)","v":""},190,"F. CAÑETE",13.2,"-","-",132]
[null,null,null,null,null,null,null,null,null,null,null,null,4989,"13 DE JULIO","-","-","-",132,{"$f":"IF(OR('Carta de Presentación'!$D$16=2,'Carta de Presentación'!$D$16=\"\"),\"\",T47)","v":""},193,"FERNANDEZ",13.2,33,"-",132]
[null,null,null,null,null,null,null,null,null,null,null,null,141,"CORDOBA SUROESTE",13.2,"-","-",132,{"$f":"IF(OR('Carta de Presentación'!$D$16=2,'Carta de Presentación'!$D$16=\"\"),\"\",T48)","v":""},196,"FIRMAT",13.2,33,"-",132]
[null,null,null,null,null,null,null,null,null,null,null,null,427,"R. DEL BUSTO",13.2,"-","-",132,{"$f":"IF(OR('Carta de Presentación'!$D$16=2,'Carta de Presentación'!$D$16=\"\"),\"\",T49)","v":""},201,"FORMOSA I",13.2,33,"-",132]
[null,null,null,null,null,null,null,null,null,null,null,null,2333,"GUINAZU",13.2,"-","-",132,{"$f":"IF(OR('Carta de Presentación'!$D$16=2,'Carta de Presentación'!$D$16=\"\"),\"\",T50)","v":""},202,"FRIAS (*)",13.2,33,"-",132]
[null,null,null,null,null,null,null,null,null,null,null,null,5273,"V.DE MARIA SECO",13.2,"-",66,"-",{"$f":"IF(OR('Carta de Presentación'!$D$16=2,'Carta de Presentación'!$D$16=\"\"),\"\",T51)","v":""},204,"INDEPENDENCIA (*)",13.2,33,"-",132]
[null,null,null,null,null,null,null,null,null,null,null,null,1135,"VILLA ROSARIO",13.2,"-",66,"-",{"$f":"IF(OR('Carta de Presentación'!$D$16=2,'Carta de Presentación'!$D$16=\"\"),\"\",T52)","v":""},205,"GENERAL PICO",13.2,33,"-",132]
[null,null,null,null,null,null,null,null,null,null,null,null,5205,"MERLO SAN LUIS",13.2,33,"-",132,{"$f":"IF(OR('Carta de Presentación'!$D$16=2,'Carta de Presentación'!$D$16=\"\"),\"\",T53)","v":""},209,"GOYA",13.2,33,"-",132]
[null,null,null,null,null,null,null,null,null,null,null,null,507,"SANTA ROSA S.LUIS",13.2,33,"-",132,{"$f":"IF(OR('Carta de Presentación'!$D$16=2,'Carta de Presentación'!$D$16=\"\"),\"\",T54)","v":""},210,"GENERAL ALVEAR",13.2,"-",66,132]
[null,null,null,null,null,null,null,null,null,null,null,null,5206,"TILISARAO S. LUIS",13.2,33,"-",132,{"$f":"IF(OR('Carta de Presentación'!$D$16=2,'Carta de Presentación'!$D$16=\"\"),\"\",T55)","v":""},212,"GRAL. DEHEZA","-",33,"-",132]
[null,null,null,null,null,null,null,null,null,null,null,null,268,"LA TOMA",13.2,33,"-",132,{"$f":"IF(OR('Carta de Presentación'!$D$16=2,'Carta de Presentación'!$D$16=\"\"),\"\",T56)","v":""},213,"GRAL. LAGOS",13.2,33,"-",132]
[null,null,null,null,null,null,null,null,null,null,null,null,487,"SAN LUIS",13.2,33,"-",132,{"$f":"IF(OR('Carta de Presentación'!$D$16=2,'Carta de Presentación'!$D$16=\"\"),\"\",T57)","v":""},214,"GRAL. LEVALLE",13.2,"-",66,132]
[null,null,null,null,null,null,null,null,null,null,null,null,303,"LUJAN",13.2,33,"-",132,{"$f":"IF(OR('Carta de Presentación'!$D$16=2,'Carta de Presentación'!$D$16=\"\"),\"\",T58)","v":""},221,"GUALEGUAY",13.2,33,"-",132]
[null,null,null,null,null,null,null,null,null,null,null,null,4980,"LA CUMBRE",13.2,33,"-",132,{"$f":"IF(OR('Carta de Presentación'!$D$16=2,'Carta de Presentación'!$D$16=\"\"),\"\",T59)","v":""},225,"GUEMES",13.2,33,"-",132]
[null,null,null,null,null,null,null,null,null,null,null,null,5204,"SAN LUIS CENTRO",13.2,33,"-",132,{"$f":"IF(OR('Carta de Presentación'!$D$16=2,'Carta de Presentación'!$D$16=\"\"),\"\",T60)","v":""},237,"I.M.S.A.",13.2,33,"-",132]
[null,null,null,null,null,null,null,null,null,null,null,null,5043,"LA CANDELARIA S.LUIS",13.2,33,"-",132,{"$f":"IF(OR('Carta de Presentación'!$D$16=2,'Carta de Presentación'!$D$16=\"\"),\"\",T61)","v":""},238,"IGUAZU",13.2,33,"-",132]
[null,null,null,null,null,null,null,null,null,null,null,null,3973,"P.INDUST.S.LUIS",13.2,33,"-",132,{"$f":"IF(OR('Carta de Presentación'!$D$16=2,'Carta de Presentación'!$D$16=\"\"),\"\",T62)","v":""},243,"INRIVILLE","-",33,66,"-"]
[null,null,null,null,null,null,null,null,null,null,null,null,3953,"V. MERCEDES SUR",13.2,33,"-",132,{"$f":"IF(OR('Carta de Presentación'!$D$16=2,'Carta de Presentación'!$D$16=\"\"),\"\",T63)","v":""},244,"ISLA VERDE",13.2,33,66,132]
[null,null,null,null,null,null,null,null,null,null,null,null,566,"VILLA MERCEDES",13.2,33,"-",132,{"$f":"IF(OR('Carta de Presentación'!$D$16=2,'Carta de Presentación'!$D$16=\"\"),\"\",T64)","v":""},248,"J.V. GONZALES",13.2,33,"-",132]
[null,null,null,null,null,null,null,null,null,null,null,null,4947,"ENCADENADAS",13.2,33,"-",132,{"$f":"IF(OR('Carta de Presentación'!$D$16=2,'Carta de Presentación'!$D$16=\"\"),\"\",T65)","v":""},252,"JUJUY SUR",13.2,33,"-",132]
[null,null,null,null,null,null,null,null,null,null,null,null,364,"P.I.P.",13.2,"-","-",132,{"$f":"IF(OR('Carta de Presentación'!$D$16=2,'Carta de Presentación'!$D$16=\"\"),\"\",T66)","v":""},253,"JUNIN",13.2,33,"-",132]
[null,null,null,null,null,null,null,null,null,null,null,null,452,"RODEO DE LA CRUZ",13.2,"-","-",132,{"$f":"IF(OR('Carta de Presentación'!$D$16=2,'Carta de Presentación'!$D$16=\"\"),\"\",T67)","v":""},255,"LA BANDA (*)",13.2,33,"-",132]
[null,null,null,null,null,null,null,null,null,null,null,null,148,"CRUZ DE PIEDRA",13.2,"-",66,132,{"$f":"IF(OR('Carta de Presentación'!$D$16=2,'Carta de Presentación'!$D$16=\"\"),\"\",T68)","v":""},258,"LA FALDA",13.2,"-",66,132]
[null,null,null,null,null,null,null,null,null,null,null,null,5492,"AGRELO",13.2,"-",66,"-",{"$f":"IF(OR('Carta de Presentación'!$D$16=2,'Carta de Presentación'!$D$16=\"\"),\"\",T69)","v":""},266,"LA RIOJA NORTE (*)",13.2,33,"-",132]
[null,null,null,null,null,null,null,null,null,null,null,null,50000,"LA PAZ",13.2,"-",66,"-",{"$f":"IF(OR('Carta de Presentación'!$D$16=2,'Carta de Presentación'!$D$16=\"\"),\"\",T70)","v":""},268,"LA TOMA",13.2,33,"-",132]
[null,null,null,null,null,null,null,null,null,null,null,null,50001,"LAS CATITAS",13.2,"-",66,"-",{"$f":"IF(OR('Carta de Presentación'!$D$16=2,'Carta de Presentación'!$D$16=\"\"),\"\",T71)","v":""},269,"LA VIÑA",13.2,"-",66,132]
[null,null,null,null,null,null,null,null,null,null,null,null,50002,"SANTA ROSA",13.2,"-",66,"-",{"$f":"IF(OR('Carta de Presentación'!$D$16=2,'Carta de Presentación'!$D$16=\"\"),\"\",T72)","v":""},270,"LABOULAYE",13.2,"-",66,"-"]
[null,null,null,null,null,null,null,null,null,null,null,null,546,"BAJO RÍO TUNUYAN",13.2,"-",66,"-",{"$f":"IF(OR('Carta de Presentación'!$D$16=2,'Carta de Presentación'!$D$16=\"\"),\"\",T73)","v":""},274,"LAS FERIAS",13.2,"-",66,132]
[null,null,null,null,null,null,null,null,null,null,null,null,22,"ANCHORIS",13.2,"-",66,132,{"$f":"IF(OR('Carta de Presentación'!$D$16=2,'Carta de Presentación'!$D$16=\"\"),\"\",T74)","v":""},277,"LAS HIGUERAS",13.2,"-","-",132]
[null,null,null,null,null,null,null,null,null,null,null,null,87,"CAPIZ",13.2,"-",66,132,{"$f":"IF(OR('Carta de Presentación'!$D$16=2,'Carta de Presentación'!$D$16=\"\"),\"\",T75)","v":""},279,"LAS MADERAS",13.2,33,"-",132]
[null,null,null,null,null,null,null,null,null,null,null,null,4253,"ZAPATA",13.2,"-",66,"-",{"$f":"IF(OR('Carta de Presentación'!$D$16=2,'Carta de Presentación'!$D$16=\"\"),\"\",T76)","v":""},280,"LAS ROSAS",13.2,33,"-",132]
[null,null,null,null,null,null,null,null,null,null,null,null,5493,"UGARTECHE",13.2,"-",66,"-",{"$f":"IF(OR('Carta de Presentación'!$D$16=2,'Carta de Presentación'!$D$16=\"\"),\"\",T77)","v":""},284,"LEONES","-","-",66,132]
[null,null,null,null,null,null,null,null,null,null,null,null,304,"MONTECASEROS",13.2,"-",66,"-",{"$f":"IF(OR('Carta de Presentación'!$D$16=2,'Carta de Presentación'!$D$16=\"\"),\"\",T78)","v":""},287,"LIBERTADOR",13.2,33,"-",132]
[null,null,null,null,null,null,null,null,null,null,null,null,4921,"LAMBARÉ",13.2,"-",66,"-",{"$f":"IF(OR('Carta de Presentación'!$D$16=2,'Carta de Presentación'!$D$16=\"\"),\"\",T79)","v":""},294,"LINCOLN",13.2,33,"-",132]
[null,null,null,null,null,null,null,null,null,null,null,null,4920,"EL MARCADO",13.2,"-",66,"-",{"$f":"IF(OR('Carta de Presentación'!$D$16=2,'Carta de Presentación'!$D$16=\"\"),\"\",T80)","v":""},296,"LOBOS","-",33,66,"-"]
[null,null,null,null,null,null,null,null,null,null,null,null,498,"SAN RAFAEL",13.2,33,66,132,{"$f":"IF(OR('Carta de Presentación'!$D$16=2,'Carta de Presentación'!$D$16=\"\"),\"\",T81)","v":""},299,"MOLINOS",13.2,33,"-",132]
[null,null,null,null,null,null,null,null,null,null,null,null,385,"PEDRO VARGAS",13.2,"-",66,132,{"$f":"IF(OR('Carta de Presentación'!$D$16=2,'Carta de Presentación'!$D$16=\"\"),\"\",T82)","v":""},301,"LUJAN- GBA",13.2,33,66,132]
[null,null,null,null,null,null,null,null,null,null,null,null,210,"GENERAL ALVEAR",13.2,"-",66,132,{"$f":"IF(OR('Carta de Presentación'!$D$16=2,'Carta de Presentación'!$D$16=\"\"),\"\",T83)","v":""},303,"LUJAN",13.2,33,"-",132]
[null,null,null,null,null,null,null,null,null,null,null,null,5257,"P.ROJAS","-",33,"-",132,{"$f":"IF(OR('Carta de Presentación'!$D$16=2,'Carta de Presentación'!$D$16=\"\"),\"\",T84)","v":""},304,"MONTECASEROS",13.2,"-",66,"-"]
[null,null,null,null,null,null,null,null,null,null,null,null,309,"MALARGÜE",13.2,33,"-",132,{"$f":"IF(OR('Carta de Presentación'!$D$16=2,'Carta de Presentación'!$D$16=\"\"),\"\",T85)","v":""},308,"MALAGUEÑO",13.2,"-","-",132]
[null,null,null,null,null,null,null,null,null,null,null,null,5037,"ISCHIGUALASTO",13.2,33,"-",132,{"$f":"IF(OR('Carta de Presentación'!$D$16=2,'Carta de Presentación'!$D$16=\"\"),\"\",T86)","v":""},309,"MALARGÜE",13.2,33,"-",132]
[null,null,null,null,null,null,null,null,null,null,null,null,5007,"CALINGASTA NUEVA",13.2,33,"-",132,{"$f":"IF(OR('Carta de Presentación'!$D$16=2,'Carta de Presentación'!$D$16=\"\"),\"\",T87)","v":""},312,"MALVINAS-BS.AS.",13.2,33,"-",132]
[null,null,null,null,null,null,null,null,null,null,null,null,5374,"SOLAR ULLUM","-",33,"-",132,{"$f":"IF(OR('Carta de Presentación'!$D$16=2,'Carta de Presentación'!$D$16=\"\"),\"\",T88)","v":""},316,"MAR DEL TUYU",13.2,"-","-","-"]
[null,null,null,null,null,null,null,null,null,null,null,null,101,"CAUCETE",13.2,33,"-",132,{"$f":"IF(OR('Carta de Presentación'!$D$16=2,'Carta de Presentación'!$D$16=\"\"),\"\",T89)","v":""},317,"MARIA JUANA",13.2,33,"-",132]
[null,null,null,null,null,null,null,null,null,null,null,null,476,"SAN ISIDRO","-","-","-",132,{"$f":"IF(OR('Carta de Presentación'!$D$16=2,'Carta de Presentación'!$D$16=\"\"),\"\",T90)","v":""},320,"MEDANITO","-",33,"-",132]
[null,null,null,null,null,null,null,null,null,null,null,null,409,"POSADAS",13.2,33,"-",132,{"$f":"IF(OR('Carta de Presentación'!$D$16=2,'Carta de Presentación'!$D$16=\"\"),\"\",T91)","v":""},321,"MERCEDES BS.AS.",13.2,33,"-",132]
[null,null,null,null,null,null,null,null,null,null,null,null,1438,"POSADAS CENTRO",13.2,33,"-",132,{"$f":"IF(OR('Carta de Presentación'!$D$16=2,'Carta de Presentación'!$D$16=\"\"),\"\",T92)","v":""},323,"MERCEDES DPEC",13.2,33,"-",132]
[null,null,null,null,null,null,null,null,null,null,null,null,5198,"ITAEMBE MINI",13.2,33,"-",132,{"$f":"IF(OR('Carta de Presentación'!$D$16=2,'Carta de Presentación'!$D$16=\"\"),\"\",T93)","v":""},325,"MERLO",13.2,"-","-",132]
[null,null,null,null,null,null,null,null,null,null,null,null,450,"ROCA - MISIONES",13.2,33,"-",132,{"$f":"IF(OR('Carta de Presentación'!$D$16=2,'Carta de Presentación'!$D$16=\"\"),\"\",T94)","v":""},330,"MIRAMAR",13.2,33,"-",132]
[null,null,null,null,null,null,null,null,null,null,null,null,5404,"OBERA II",13.2,33,"-",132,{"$f":"IF(OR('Carta de Presentación'!$D$16=2,'Carta de Presentación'!$D$16=\"\"),\"\",T95)","v":""},339,"NECOCHEA",13.2,"-","-",132]
[null,null,null,null,null,null,null,null,null,null,null,null,353,"OBERA",13.2,33,"-",132,{"$f":"IF(OR('Carta de Presentación'!$D$16=2,'Carta de Presentación'!$D$16=\"\"),\"\",T96)","v":""},347,"NONOGASTA","-","-",66,132]
[null,null,null,null,null,null,null,null,null,null,null,null,366,"P.MINERAL",13.2,33,"-",132,{"$f":"IF(OR('Carta de Presentación'!$D$16=2,'Carta de Presentación'!$D$16=\"\"),\"\",T97)","v":""},348,"NORTE II",13.2,33,"-",132]
[null,null,null,null,null,null,null,null,null,null,null,null,1436,"A. DEL VALLE",13.2,33,"-",132,{"$f":"IF(OR('Carta de Presentación'!$D$16=2,'Carta de Presentación'!$D$16=\"\"),\"\",T98)","v":""},353,"OBERA",13.2,33,"-",132]
[null,null,null,null,null,null,null,null,null,null,null,null,1437,"SAN VICENTE",13.2,33,"-",132,{"$f":"IF(OR('Carta de Presentación'!$D$16=2,'Carta de Presentación'!$D$16=\"\"),\"\",T99)","v":""},355,"OLAVARRIA VIEJA",13.2,33,"-",132]
[null,null,null,null,null,null,null,null,null,null,null,null,173,"EL DORADO",13.2,33,"-",132,{"$f":"IF(OR('Carta de Presentación'!$D$16=2,'Carta de Presentación'!$D$16=\"\"),\"\",T100)","v":""},357,"ORAN",13.2,33,"-",132]
[null,null,null,null,null,null,null,null,null,null,null,null,4653,"WANDA",13.2,33,"-",132,{"$f":"IF(OR('Carta de Presentación'!$D$16=2,'Carta de Presentación'!$D$16=\"\"),\"\",T101)","v":""},363,"P.DE LOS LIBRES",13.2,33,"-",132]
[null,null,null,null,null,null,null,null,null,null,null,null,238,"IGUAZU",13.2,33,"-",132,{"$f":"IF(OR('Carta de Presentación'!$D$16=2,'Carta de Presentación'!$D$16=\"\"),\"\",T102)","v":""},364,"P.I.P.",13.2,"-","-",132]
[null,null,null,null,null,null,null,null,null,null,null,null,463,"S.CATALINA CTES",13.2,33,"-",132,{"$f":"IF(OR('Carta de Presentación'!$D$16=2,'Carta de Presentación'!$D$16=\"\"),\"\",T103)","v":""},366,"P.MINERAL",13.2,33,"-",132]
[null,null,null,null,null,null,null,null,null,null,null,null,5062,"COLONIA BRUGNE",13.2,33,"-",132,{"$f":"IF(OR('Carta de Presentación'!$D$16=2,'Carta de Presentación'!$D$16=\"\"),\"\",T104)","v":""},378,"PATQUIA",13.2,33,"-",132]
[null,null,null,null,null,null,null,null,null,null,null,null,53,"BELLA VISTA",13.2,33,"-",132,{"$f":"IF(OR('Carta de Presentación'!$D$16=2,'Carta de Presentación'!$D$16=\"\"),\"\",T105)","v":""},385,"PEDRO VARGAS",13.2,"-",66,132]
[null,null,null,null,null,null,null,null,null,null,null,null,5471,"PIRAYU",13.2,33,"-",132,{"$f":"IF(OR('Carta de Presentación'!$D$16=2,'Carta de Presentación'!$D$16=\"\"),\"\",T106)","v":""},388,"PERGAMINO",13.2,33,"-",132]
[null,null,null,null,null,null,null,null,null,null,null,null,1053,"ITA IBATE",13.2,33,"-",132,{"$f":"IF(OR('Carta de Presentación'!$D$16=2,'Carta de Presentación'!$D$16=\"\"),\"\",T107)","v":""},395,"PICHANAL",13.2,33,"-",132]
[null,null,null,null,null,null,null,null,null,null,null,null,5534,"P. I. ITUZAINGO",13.2,33,"-",132,{"$f":"IF(OR('Carta de Presentación'!$D$16=2,'Carta de Presentación'!$D$16=\"\"),\"\",T108)","v":""},401,"PILCANIYEU",13.2,33,"-",132]
[null,null,null,null,null,null,null,null,null,null,null,null,5468,"ITUZAINGO NORTE",13.2,33,"-",132,{"$f":"IF(OR('Carta de Presentación'!$D$16=2,'Carta de Presentación'!$D$16=\"\"),\"\",T109)","v":""},402,"PINAMAR",13.2,"-","-","-"]
[null,null,null,null,null,null,null,null,null,null,null,null,1394,"VIRASORO",13.2,33,"-",132,{"$f":"IF(OR('Carta de Presentación'!$D$16=2,'Carta de Presentación'!$D$16=\"\"),\"\",T110)","v":""},404,"PIRANE",13.2,33,"-",132]
[null,null,null,null,null,null,null,null,null,null,null,null,1393,"SANTO TOME CORR",13.2,33,"-",132,{"$f":"IF(OR('Carta de Presentación'!$D$16=2,'Carta de Presentación'!$D$16=\"\"),\"\",T111)","v":""},405,"PLAYA PLANICIE BANDERITA",13.2,33,"-",132]
[null,null,null,null,null,null,null,null,null,null,null,null,1434,"LA CRUZ",13.2,33,"-",132,{"$f":"IF(OR('Carta de Presentación'!$D$16=2,'Carta de Presentación'!$D$16=\"\"),\"\",T112)","v":""},409,"POSADAS",13.2,33,"-",132]
[null,null,null,null,null,null,null,null,null,null,null,null,5454,"YAPEYU",13.2,33,"-",132,{"$f":"IF(OR('Carta de Presentación'!$D$16=2,'Carta de Presentación'!$D$16=\"\"),\"\",T113)","v":""},415,"PTE. DE LA PLAZA",13.2,33,"-",132]
[null,null,null,null,null,null,null,null,null,null,null,null,363,"P.DE LOS LIBRES",13.2,33,"-",132,{"$f":"IF(OR('Carta de Presentación'!$D$16=2,'Carta de Presentación'!$D$16=\"\"),\"\",T114)","v":""},427,"R. DEL BUSTO",13.2,"-","-",132]
[null,null,null,null,null,null,null,null,null,null,null,null,5188,"P. LIBRES NORTE",13.2,33,"-",132,{"$f":"IF(OR('Carta de Presentación'!$D$16=2,'Carta de Presentación'!$D$16=\"\"),\"\",T115)","v":""},428,"RAFAELA OESTE",13.2,33,"-",132]
[null,null,null,null,null,null,null,null,null,null,null,null,323,"MERCEDES DPEC",13.2,33,"-",132,{"$f":"IF(OR('Carta de Presentación'!$D$16=2,'Carta de Presentación'!$D$16=\"\"),\"\",T116)","v":""},432,"REALICO",13.2,33,"-",132]
[null,null,null,null,null,null,null,null,null,null,null,null,150,"CURUZU CUATIA",13.2,33,"-",132,{"$f":"IF(OR('Carta de Presentación'!$D$16=2,'Carta de Presentación'!$D$16=\"\"),\"\",T117)","v":""},434,"RECONQUISTA S.FE",13.2,33,"-",132]
[null,null,null,null,null,null,null,null,null,null,null,null,5458,"PASO TALA",13.2,33,"-",132,{"$f":"IF(OR('Carta de Presentación'!$D$16=2,'Carta de Presentación'!$D$16=\"\"),\"\",T118)","v":""},435,"RECREO",13.2,33,"-",132]
[null,null,null,null,null,null,null,null,null,null,null,null,5429,"GOYA OESTE",13.2,33,"-",132,{"$f":"IF(OR('Carta de Presentación'!$D$16=2,'Carta de Presentación'!$D$16=\"\"),\"\",T119)","v":""},437,"REOLIN","-",33,66,132]
[null,null,null,null,null,null,null,null,null,null,null,null,209,"GOYA",13.2,33,"-",132,{"$f":"IF(OR('Carta de Presentación'!$D$16=2,'Carta de Presentación'!$D$16=\"\"),\"\",T120)","v":""},446,"RIO CUARTO",13.2,"-","-",132]
[null,null,null,null,null,null,null,null,null,null,null,null,5505,"STELLA MARIS",13.2,33,"-",132,{"$f":"IF(OR('Carta de Presentación'!$D$16=2,'Carta de Presentación'!$D$16=\"\"),\"\",T121)","v":""},448,"RIO HONDO",13.2,33,"-",132]
[null,null,null,null,null,null,null,null,null,null,null,null,184,"ESQUINA",13.2,33,"-",132,{"$f":"IF(OR('Carta de Presentación'!$D$16=2,'Carta de Presentación'!$D$16=\"\"),\"\",T122)","v":""},450,"ROCA - MISIONES",13.2,33,"-",132]
[null,null,null,null,null,null,null,null,null,null,null,null,4964,"NUEVA POMPEYA","-",33,"-","-",{"$f":"IF(OR('Carta de Presentación'!$D$16=2,'Carta de Presentación'!$D$16=\"\"),\"\",T123)","v":""},452,"RODEO DE LA CRUZ",13.2,"-","-",132]
[null,null,null,null,null,null,null,null,null,null,null,null,4573,"CD5-CHACO",13.2,33,"-",132,{"$f":"IF(OR('Carta de Presentación'!$D$16=2,'Carta de Presentación'!$D$16=\"\"),\"\",T124)","v":""},454,"ROJAS",13.2,33,"-",132]
[null,null,null,null,null,null,null,null,null,null,null,null,5078,"LA LEONESA",13.2,33,"-",132,{"$f":"IF(OR('Carta de Presentación'!$D$16=2,'Carta de Presentación'!$D$16=\"\"),\"\",T125)","v":""},456,"ROQUE SAENZ PENA",13.2,33,"-",132]
[null,null,null,null,null,null,null,null,null,null,null,null,46,"BARRANQUERAS",13.2,33,"-",132,{"$f":"IF(OR('Carta de Presentación'!$D$16=2,'Carta de Presentación'!$D$16=\"\"),\"\",T126)","v":""},461,"RUFINO",13.2,33,"-",132]
[null,null,null,null,null,null,null,null,null,null,null,null,5081,"PUERTO VILELAS",13.2,33,"-",132,{"$f":"IF(OR('Carta de Presentación'!$D$16=2,'Carta de Presentación'!$D$16=\"\"),\"\",T127)","v":""},463,"S.CATALINA CTES",13.2,33,"-",132]
[null,null,null,null,null,null,null,null,null,null,null,null,5054,"LA ESCONDIDA",13.2,33,"-",132,{"$f":"IF(OR('Carta de Presentación'!$D$16=2,'Carta de Presentación'!$D$16=\"\"),\"\",T128)","v":""},466,"SALADILLO S.FE",13.2,33,"-",132]
[null,null,null,null,null,null,null,null,null,null,null,null,415,"PTE. DE LA PLAZA",13.2,33,"-",132,{"$f":"IF(OR('Carta de Presentación'!$D$16=2,'Carta de Presentación'!$D$16=\"\"),\"\",T129)","v":""},470,"SALTO BS.AS.","-","-","-",132]
[null,null,null,null,null,null,null,null,null,null,null,null,489,"SAN MARTIN CHACO",13.2,33,"-",132,{"$f":"IF(OR('Carta de Presentación'!$D$16=2,'Carta de Presentación'!$D$16=\"\"),\"\",T130)","v":""},473,"SAN CARLOS",13.2,33,"-",132]
[null,null,null,null,null,null,null,null,null,null,null,null,5457,"PRESIDENCIA ROCA",13.2,33,"-",132,{"$f":"IF(OR('Carta de Presentación'!$D$16=2,'Carta de Presentación'!$D$16=\"\"),\"\",T131)","v":""},474,"SAN CLEMENTE",13.2,33,"-","-"]
[null,null,null,null,null,null,null,null,null,null,null,null,456,"ROQUE SAENZ PENA",13.2,33,"-",132,{"$f":"IF(OR('Carta de Presentación'!$D$16=2,'Carta de Presentación'!$D$16=\"\"),\"\",T132)","v":""},475,"SAN FRANCISCO",13.2,"-",66,132]
[null,null,null,null,null,null,null,null,null,null,null,null,5077,"QUITILIPI",13.2,33,"-",132,{"$f":"IF(OR('Carta de Presentación'!$D$16=2,'Carta de Presentación'!$D$16=\"\"),\"\",T133)","v":""},476,"SAN ISIDRO","-","-","-",132]
[null,null,null,null,null,null,null,null,null,null,null,null,4986,"TRES ISLETAS",13.2,33,"-",132,{"$f":"IF(OR('Carta de Presentación'!$D$16=2,'Carta de Presentación'!$D$16=\"\"),\"\",T134)","v":""},480,"SAN JORGE",13.2,33,"-",132]
[null,null,null,null,null,null,null,null,null,null,null,null,97,"CASTELLI CHACO",13.2,33,"-",132,{"$f":"IF(OR('Carta de Presentación'!$D$16=2,'Carta de Presentación'!$D$16=\"\"),\"\",T135)","v":""},481,"SAN JOSE",13.2,33,"-",132]
[null,null,null,null,null,null,null,null,null,null,null,null,5391,"SAN BERNARDO CH",13.2,33,"-",132,{"$f":"IF(OR('Carta de Presentación'!$D$16=2,'Carta de Presentación'!$D$16=\"\"),\"\",T136)","v":""},483,"SAN JUANCITO",13.2,33,"-",132]
[null,null,null,null,null,null,null,null,null,null,null,null,560,"VILLA ANGELA",13.2,33,"-",132,{"$f":"IF(OR('Carta de Presentación'!$D$16=2,'Carta de Presentación'!$D$16=\"\"),\"\",T137)","v":""},484,"SAN JUSTO S.FE",13.2,33,"-",132]
[null,null,null,null,null,null,null,null,null,null,null,null,5079,"PAMPA DEL INFIER",13.2,33,"-",132,{"$f":"IF(OR('Carta de Presentación'!$D$16=2,'Carta de Presentación'!$D$16=\"\"),\"\",T138)","v":""},487,"SAN LUIS",13.2,33,"-",132]
[null,null,null,null,null,null,null,null,null,null,null,null,5055,"CAMPO LARGO",13.2,33,"-",132,{"$f":"IF(OR('Carta de Presentación'!$D$16=2,'Carta de Presentación'!$D$16=\"\"),\"\",T139)","v":""},488,"SAN MARTIN",13.2,33,"-",132]
[null,null,null,null,null,null,null,null,null,null,null,null,112,"CHARATA",13.2,33,"-",132,{"$f":"IF(OR('Carta de Presentación'!$D$16=2,'Carta de Presentación'!$D$16=\"\"),\"\",T140)","v":""},489,"SAN MARTIN CHACO",13.2,33,"-",132]
[null,null,null,null,null,null,null,null,null,null,null,null,4952,"ING. G. JUAREZ",13.2,33,"-",132,{"$f":"IF(OR('Carta de Presentación'!$D$16=2,'Carta de Presentación'!$D$16=\"\"),\"\",T141)","v":""},497,"SAN PEDRO",13.2,33,"-",132]
[null,null,null,null,null,null,null,null,null,null,null,null,4843,"LAS LOMITAS NEA",13.2,33,"-",132,{"$f":"IF(OR('Carta de Presentación'!$D$16=2,'Carta de Presentación'!$D$16=\"\"),\"\",T142)","v":""},498,"SAN RAFAEL",13.2,33,66,132]
[null,null,null,null,null,null,null,null,null,null,null,null,1453,"IBARRETA",13.2,33,"-",132,{"$f":"IF(OR('Carta de Presentación'!$D$16=2,'Carta de Presentación'!$D$16=\"\"),\"\",T143)","v":""},500,"SAN SALVADOR",13.2,33,"-",132]
[null,null,null,null,null,null,null,null,null,null,null,null,404,"PIRANE",13.2,33,"-",132,{"$f":"IF(OR('Carta de Presentación'!$D$16=2,'Carta de Presentación'!$D$16=\"\"),\"\",T144)","v":""},501,"SANTA ELENA ER",13.2,33,"-",132]
[null,null,null,null,null,null,null,null,null,null,null,null,1433,"EL COLORADO",13.2,33,"-",132,{"$f":"IF(OR('Carta de Presentación'!$D$16=2,'Carta de Presentación'!$D$16=\"\"),\"\",T145)","v":""},506,"SANTA ROSA LP",13.2,33,"-",132]
[null,null,null,null,null,null,null,null,null,null,null,null,5114,"GUEMES FORMOSA",13.2,33,"-",132,{"$f":"IF(OR('Carta de Presentación'!$D$16=2,'Carta de Presentación'!$D$16=\"\"),\"\",T146)","v":""},507,"SANTA ROSA S.LUIS",13.2,33,"-",132]
[null,null,null,null,null,null,null,null,null,null,null,null,4957,"LAGUNA BLANCA",13.2,33,"-",132,{"$f":"IF(OR('Carta de Presentación'!$D$16=2,'Carta de Presentación'!$D$16=\"\"),\"\",T147)","v":""},524,"SPEGAZZINI",13.2,"-","-",132]
[null,null,null,null,null,null,null,null,null,null,null,null,125,"CLORINDA",13.2,33,"-",132,{"$f":"IF(OR('Carta de Presentación'!$D$16=2,'Carta de Presentación'!$D$16=\"\"),\"\",T148)","v":""},526,"SUNCHALES",13.2,33,"-",132]
[null,null,null,null,null,null,null,null,null,null,null,null,201,"FORMOSA I",13.2,33,"-",132,{"$f":"IF(OR('Carta de Presentación'!$D$16=2,'Carta de Presentación'!$D$16=\"\"),\"\",T149)","v":""},527,"SUNCHO CORRAL",13.2,33,"-",132]
[null,null,null,null,null,null,null,null,null,null,null,null,1513,"COLON E.R.",13.2,33,"-",132,{"$f":"IF(OR('Carta de Presentación'!$D$16=2,'Carta de Presentación'!$D$16=\"\"),\"\",T150)","v":""},532,"TARTAGAL",13.2,33,"-",132]
[null,null,null,null,null,null,null,null,null,null,null,null,5139,"VILLA ELISA",13.2,33,"-",132,{"$f":"IF(OR('Carta de Presentación'!$D$16=2,'Carta de Presentación'!$D$16=\"\"),\"\",T151)","v":""},536,"TINOGASTA",13.2,33,"-",132]
[null,null,null,null,null,null,null,null,null,null,null,null,64,"C. DEL URUGUAY",13.2,33,"-",132,{"$f":"IF(OR('Carta de Presentación'!$D$16=2,'Carta de Presentación'!$D$16=\"\"),\"\",T152)","v":""},540,"TORNQUIST",13.2,33,"-",132]
[null,null,null,null,null,null,null,null,null,null,null,null,481,"SAN JOSE",13.2,33,"-",132,{"$f":"IF(OR('Carta de Presentación'!$D$16=2,'Carta de Presentación'!$D$16=\"\"),\"\",T153)","v":""},546,"BAJO RÍO TUNUYAN",13.2,"-",66,"-"]
[null,null,null,null,null,null,null,null,null,null,null,null,500,"SAN SALVADOR",13.2,33,"-",132,{"$f":"IF(OR('Carta de Presentación'!$D$16=2,'Carta de Presentación'!$D$16=\"\"),\"\",T154)","v":""},553,"VENADO TUERTO",13.2,33,"-",132]
[null,null,null,null,null,null,null,null,null,null,null,null,1493,"VILLAGUAY",13.2,33,"-",132,{"$f":"IF(OR('Carta de Presentación'!$D$16=2,'Carta de Presentación'!$D$16=\"\"),\"\",T155)","v":""},560,"VILLA ANGELA",13.2,33,"-",132]
[null,null,null,null,null,null,null,null,null,null,null,null,221,"GUALEGUAY",13.2,33,"-",132,{"$f":"IF(OR('Carta de Presentación'!$D$16=2,'Carta de Presentación'!$D$16=\"\"),\"\",T156)","v":""},562,"VILLA DOLORES",13.2,33,"-",132]
[null,null,null,null,null,null,null,null,null,null,null,null,174,"EL PINGO",13.2,33,"-",132,{"$f":"IF(OR('Carta de Presentación'!$D$16=2,'Carta de Presentación'!$D$16=\"\"),\"\",T157)","v":""},563,"VILLA GESELL",13.2,"-","-","-"]
[null,null,null,null,null,null,null,null,null,null,null,null,501,"SANTA ELENA ER",13.2,33,"-",132,{"$f":"IF(OR('Carta de Presentación'!$D$16=2,'Carta de Presentación'!$D$16=\"\"),\"\",T158)","v":""},565,"VILLA MARIA",13.2,"-",66,132]
[null,null,null,null,null,null,null,null,null,null,null,null,2273,"LA PAZ E.R.",13.2,33,"-","-",{"$f":"IF(OR('Carta de Presentación'!$D$16=2,'Carta de Presentación'!$D$16=\"\"),\"\",T159)","v":""},566,"VILLA MERCEDES",13.2,33,"-",132]
[null,null,null,null,null,null,null,null,null,null,null,null,146,"CRESPO-E.RIOS",13.2,33,"-",132,{"$f":"IF(OR('Carta de Presentación'!$D$16=2,'Carta de Presentación'!$D$16=\"\"),\"\",T160)","v":""},568,"VILLA OCAMPO",13.2,33,"-",132]
[null,null,null,null,null,null,null,null,null,null,null,null,4994,"SEGUI","-",33,"-","-",{"$f":"IF(OR('Carta de Presentación'!$D$16=2,'Carta de Presentación'!$D$16=\"\"),\"\",T161)","v":""},572,"YOCSINA",13.2,"-","-",132]
[null,null,null,null,null,null,null,null,null,null,null,null,4995,"VIALE","-",33,"-","-",{"$f":"IF(OR('Carta de Presentación'!$D$16=2,'Carta de Presentación'!$D$16=\"\"),\"\",T162)","v":""},578,"AROCENA",13.2,33,"-",132]
[null,null,null,null,null,null,null,null,null,null,null,null,82,"CANADA DE GOMEZ",13.2,33,"-",132,{"$f":"IF(OR('Carta de Presentación'!$D$16=2,'Carta de Presentación'!$D$16=\"\"),\"\",T163)","v":""},582,"MARANZANA II","-","-","-",132]
[null,null,null,null,null,null,null,null,null,null,null,null,5362,"C.GOMEZ NORTE","-","-","-",132,{"$f":"IF(OR('Carta de Presentación'!$D$16=2,'Carta de Presentación'!$D$16=\"\"),\"\",T164)","v":""},585,"MAR DE AJO",13.2,33,"-","-"]
[null,null,null,null,null,null,null,null,null,null,null,null,1613,"LAS PAREJAS",13.2,33,"-",132,{"$f":"IF(OR('Carta de Presentación'!$D$16=2,'Carta de Presentación'!$D$16=\"\"),\"\",T165)","v":""},627,"LAS HERAS","-","-",66,"-"]
[null,null,null,null,null,null,null,null,null,null,null,null,280,"LAS ROSAS",13.2,33,"-",132,{"$f":"IF(OR('Carta de Presentación'!$D$16=2,'Carta de Presentación'!$D$16=\"\"),\"\",T166)","v":""},631,"TANCACHA","-",33,"-",132]
[null,null,null,null,null,null,null,null,null,null,null,null,5443,"ROLDAN",13.2,33,"-",132,{"$f":"IF(OR('Carta de Presentación'!$D$16=2,'Carta de Presentación'!$D$16=\"\"),\"\",T167)","v":""},635,"SAN ANTONIO OESTE",13.2,33,"-",132]
[null,null,null,null,null,null,null,null,null,null,null,null,5331,"PEREZ","-","-","-",132,{"$f":"IF(OR('Carta de Presentación'!$D$16=2,'Carta de Presentación'!$D$16=\"\"),\"\",T168)","v":""},636,"SAN ANTONIO ESTE","-",33,"-",132]
[null,null,null,null,null,null,null,null,null,null,null,null,4913,"CHABAS",13.2,33,"-",132,{"$f":"IF(OR('Carta de Presentación'!$D$16=2,'Carta de Presentación'!$D$16=\"\"),\"\",T169)","v":""},648,"VIEDMA",13.2,33,"-",132]
[null,null,null,null,null,null,null,null,null,null,null,null,94,"CASILDA",13.2,33,"-",132,{"$f":"IF(OR('Carta de Presentación'!$D$16=2,'Carta de Presentación'!$D$16=\"\"),\"\",T170)","v":""},653,"CERES",13.2,33,"-",132]
[null,null,null,null,null,null,null,null,null,null,null,null,196,"FIRMAT",13.2,33,"-",132,{"$f":"IF(OR('Carta de Presentación'!$D$16=2,'Carta de Presentación'!$D$16=\"\"),\"\",T171)","v":""},673,"V.C.RESIDENCIAL",13.2,33,"-",132]
[null,null,null,null,null,null,null,null,null,null,null,null,553,"VENADO TUERTO",13.2,33,"-",132,{"$f":"IF(OR('Carta de Presentación'!$D$16=2,'Carta de Presentación'!$D$16=\"\"),\"\",T172)","v":""},1053,"ITA IBATE",13.2,33,"-",132]
[null,null,null,null,null,null,null,null,null,null,null,null,461,"RUFINO",13.2,33,"-",132,{"$f":"IF(OR('Carta de Presentación'!$D$16=2,'Carta de Presentación'!$D$16=\"\"),\"\",T173)","v":""},1097,"SAN MARCOS SUD",13.2,"-",66,"-"]
[null,null,null,null,null,null,null,null,null,null,null,null,213,"GRAL. LAGOS",13.2,33,"-",132,{"$f":"IF(OR('Carta de Presentación'!$D$16=2,'Carta de Presentación'!$D$16=\"\"),\"\",T174)","v":""},1098,"LA CARLOTA",13.2,"-",66,"-"]
[null,null,null,null,null,null,null,null,null,null,null,null,673,"V.C.RESIDENCIAL",13.2,33,"-",132,{"$f":"IF(OR('Carta de Presentación'!$D$16=2,'Carta de Presentación'!$D$16=\"\"),\"\",T175)","v":""},1135,"VILLA ROSARIO",13.2,"-",66,"-"]
[null,null,null,null,null,null,null,null,null,null,null,null,4841,"LA RIBERA",13.2,33,"-",132,{"$f":"IF(OR('Carta de Presentación'!$D$16=2,'Carta de Presentación'!$D$16=\"\"),\"\",T176)","v":""},1195,"ANDALGALA",13.2,33,"-",132]
[null,null,null,null,null,null,null,null,null,null,null,null,484,"SAN JUSTO S.FE",13.2,33,"-",132,{"$f":"IF(OR('Carta de Presentación'!$D$16=2,'Carta de Presentación'!$D$16=\"\"),\"\",T177)","v":""},1233,"VILLA UNION",13.2,33,"-",132]
[null,null,null,null,null,null,null,null,null,null,null,null,578,"AROCENA",13.2,33,"-",132,{"$f":"IF(OR('Carta de Presentación'!$D$16=2,'Carta de Presentación'!$D$16=\"\"),\"\",T178)","v":""},1294,"BIALET MASSE",13.2,"-","-",132]
[null,null,null,null,null,null,null,null,null,null,null,null,30,"ARRUFO",13.2,33,"-",132,{"$f":"IF(OR('Carta de Presentación'!$D$16=2,'Carta de Presentación'!$D$16=\"\"),\"\",T179)","v":""},1393,"SANTO TOME CORR",13.2,33,"-",132]
[null,null,null,null,null,null,null,null,null,null,null,null,653,"CERES",13.2,33,"-",132,{"$f":"IF(OR('Carta de Presentación'!$D$16=2,'Carta de Presentación'!$D$16=\"\"),\"\",T180)","v":""},1394,"VIRASORO",13.2,33,"-",132]
[null,null,null,null,null,null,null,null,null,null,null,null,2933,"SAN GUILLERMO",13.2,33,"-",132,{"$f":"IF(OR('Carta de Presentación'!$D$16=2,'Carta de Presentación'!$D$16=\"\"),\"\",T181)","v":""},1433,"EL COLORADO",13.2,33,"-",132]
[null,null,null,null,null,null,null,null,null,null,null,null,183,"ESPERANZA",13.2,33,"-",132,{"$f":"IF(OR('Carta de Presentación'!$D$16=2,'Carta de Presentación'!$D$16=\"\"),\"\",T182)","v":""},1434,"LA CRUZ",13.2,33,"-",132]
[null,null,null,null,null,null,null,null,null,null,null,null,317,"MARIA JUANA",13.2,33,"-",132,{"$f":"IF(OR('Carta de Presentación'!$D$16=2,'Carta de Presentación'!$D$16=\"\"),\"\",T183)","v":""},1436,"A. DEL VALLE",13.2,33,"-",132]
[null,null,null,null,null,null,null,null,null,null,null,null,428,"RAFAELA OESTE",13.2,33,"-",132,{"$f":"IF(OR('Carta de Presentación'!$D$16=2,'Carta de Presentación'!$D$16=\"\"),\"\",T184)","v":""},1437,"SAN VICENTE",13.2,33,"-",132]
[null,null,null,null,null,null,null,null,null,null,null,null,1633,"RAFAELA SUR",13.2,33,"-",132,{"$f":"IF(OR('Carta de Presentación'!$D$16=2,'Carta de Presentación'!$D$16=\"\"),\"\",T185)","v":""},1438,"POSADAS CENTRO",13.2,33,"-",132]
[null,null,null,null,null,null,null,null,null,null,null,null,473,"SAN CARLOS",13.2,33,"-",132,{"$f":"IF(OR('Carta de Presentación'!$D$16=2,'Carta de Presentación'!$D$16=\"\"),\"\",T186)","v":""},1453,"IBARRETA",13.2,33,"-",132]
[null,null,null,null,null,null,null,null,null,null,null,null,480,"SAN JORGE",13.2,33,"-",132,{"$f":"IF(OR('Carta de Presentación'!$D$16=2,'Carta de Presentación'!$D$16=\"\"),\"\",T187)","v":""},1493,"VILLAGUAY",13.2,33,"-",132]
[null,null,null,null,null,null,null,null,null,null,null,null,526,"SUNCHALES",13.2,33,"-",132,{"$f":"IF(OR('Carta de Presentación'!$D$16=2,'Carta de Presentación'!$D$16=\"\"),\"\",T188)","v":""},1513,"COLON E.R.",13.2,33,"-",132]
[null,null,null,null,null,null,null,null,null,null,null,null,1573,"TOSTADO",13.2,33,"-",132,{"$f":"IF(OR('Carta de Presentación'!$D$16=2,'Carta de Presentación'!$D$16=\"\"),\"\",T189)","v":""},1573,"TOSTADO",13.2,33,"-",132]
[null,null,null,null,null,null,null,null,null,null,null,null,5363,"VILLA OCAMPO SUR","-","-","-",132,{"$f":"IF(OR('Carta de Presentación'!$D$16=2,'Carta de Presentación'!$D$16=\"\"),\"\",T190)","v":""},1613,"LAS PAREJAS",13.2,33,"-",132]
[null,null,null,null,null,null,null,null,null,null,null,null,568,"VILLA OCAMPO",13.2,33,"-",132,{"$f":"IF(OR('Carta de Presentación'!$D$16=2,'Carta de Presentación'!$D$16=\"\"),\"\",T191)","v":""},1633,"RAFAELA SUR",13.2,33,"-",132]
[null,null,null,null,null,null,null,null,null,null,null,null,434,"RECONQUISTA S.FE",13.2,33,"-",132,{"$f":"IF(OR('Carta de Presentación'!$D$16=2,'Carta de Presentación'!$D$16=\"\"),\"\",T192)","v":""},1873,"MACACHIN","-",33,"-",132]
[null,null,null,null,null,null,null,null,null,null,null,null,5199,"AVELLANEDA S.FE",13.2,33,"-",132,{"$f":"IF(OR('Carta de Presentación'!$D$16=2,'Carta de Presentación'!$D$16=\"\"),\"\",T193)","v":""},1903,"LULES",13.2,33,"-",132]
[null,null,null,null,null,null,null,null,null,null,null,null,5142,"CHAPERO",13.2,33,"-",132,{"$f":"IF(OR('Carta de Presentación'!$D$16=2,'Carta de Presentación'!$D$16=\"\"),\"\",T194)","v":""},2273,"LA PAZ E.R.",13.2,33,"-","-"]
[null,null,null,null,null,null,null,null,null,null,null,null,3233,"PUAN",13.2,33,"-",132,{"$f":"IF(OR('Carta de Presentación'!$D$16=2,'Carta de Presentación'!$D$16=\"\"),\"\",T195)","v":""},2333,"GUINAZU",13.2,"-","-",132]
[null,null,null,null,null,null,null,null,null,null,null,null,466,"SALADILLO S.FE",13.2,33,"-",132,{"$f":"IF(OR('Carta de Presentación'!$D$16=2,'Carta de Presentación'!$D$16=\"\"),\"\",T196)","v":""},2833,"EL CARRIL","-","-",66,132]
[null,null,null,null,null,null,null,null,null,null,null,null,355,"OLAVARRIA VIEJA",13.2,33,"-",132,{"$f":"IF(OR('Carta de Presentación'!$D$16=2,'Carta de Presentación'!$D$16=\"\"),\"\",T197)","v":""},2933,"SAN GUILLERMO",13.2,33,"-",132]
[null,null,null,null,null,null,null,null,null,null,null,null,126,"CNEL. DORREGO",13.2,33,"-",132,{"$f":"IF(OR('Carta de Presentación'!$D$16=2,'Carta de Presentación'!$D$16=\"\"),\"\",T198)","v":""},3233,"PUAN",13.2,33,"-",132]
[null,null,null,null,null,null,null,null,null,null,null,null,540,"TORNQUIST",13.2,33,"-",132,{"$f":"IF(OR('Carta de Presentación'!$D$16=2,'Carta de Presentación'!$D$16=\"\"),\"\",T199)","v":""},3253,"LA PAMPITA","-","-","-",132]
[null,null,null,null,null,null,null,null,null,null,null,null,3253,"LA PAMPITA","-","-","-",132,{"$f":"IF(OR('Carta de Presentación'!$D$16=2,'Carta de Presentación'!$D$16=\"\"),\"\",T200)","v":""},3353,"SANTIAGO OESTE",13.2,33,"-",132]
[null,null,null,null,null,null,null,null,null,null,null,null,348,"NORTE II",13.2,33,"-",132,{"$f":"IF(OR('Carta de Presentación'!$D$16=2,'Carta de Presentación'!$D$16=\"\"),\"\",T201)","v":""},3398,"BANDERA",13.2,33,"-",132]
[null,null,null,null,null,null,null,null,null,null,null,null,90,"CARLOS CASARES",13.2,33,66,"-",{"$f":"IF(OR('Carta de Presentación'!$D$16=2,'Carta de Presentación'!$D$16=\"\"),\"\",T202)","v":""},3399,"QUIMILI",13.2,33,"-",132]
[null,null,null,null,null,null,null,null,null,null,null,null,325,"MERLO",13.2,"-","-",132,{"$f":"IF(OR('Carta de Presentación'!$D$16=2,'Carta de Presentación'!$D$16=\"\"),\"\",T203)","v":""},3513,"COBOS",13.2,33,"-",132]
[null,null,null,null,null,null,null,null,null,null,null,null,19,"ALMIRANTE BROWN",13.2,"-","-",132,{"$f":"IF(OR('Carta de Presentación'!$D$16=2,'Carta de Presentación'!$D$16=\"\"),\"\",T204)","v":""},3613,"AMPAJANGO","-",33,"-","-"]
[null,null,null,null,null,null,null,null,null,null,null,null,61,"BURZACO",13.2,33,"-",132,{"$f":"IF(OR('Carta de Presentación'!$D$16=2,'Carta de Presentación'!$D$16=\"\"),\"\",T205)","v":""},3953,"V. MERCEDES SUR",13.2,33,"-",132]
[null,null,null,null,null,null,null,null,null,null,null,null,524,"SPEGAZZINI",13.2,"-","-",132,{"$f":"IF(OR('Carta de Presentación'!$D$16=2,'Carta de Presentación'!$D$16=\"\"),\"\",T206)","v":""},3973,"P.INDUST.S.LUIS",13.2,33,"-",132]
[null,null,null,null,null,null,null,null,null,null,null,null,563,"VILLA GESELL",13.2,"-","-","-",{"$f":"IF(OR('Carta de Presentación'!$D$16=2,'Carta de Presentación'!$D$16=\"\"),\"\",T207)","v":""},4033,"LAS TONINAS",13.2,33,"-","-"]
[null,null,null,null,null,null,null,null,null,null,null,null,4851,"VALERIA DEL MAR",13.2,"-","-","-",{"$f":"IF(OR('Carta de Presentación'!$D$16=2,'Carta de Presentación'!$D$16=\"\"),\"\",T208)","v":""},4253,"ZAPATA",13.2,"-",66,"-"]
[null,null,null,null,null,null,null,null,null,null,null,null,402,"PINAMAR",13.2,"-","-","-",{"$f":"IF(OR('Carta de Presentación'!$D$16=2,'Carta de Presentación'!$D$16=\"\"),\"\",T209)","v":""},4573,"CD5-CHACO",13.2,33,"-",132]
[null,null,null,null,null,null,null,null,null,null,null,null,585,"MAR DE AJO",13.2,33,"-","-",{"$f":"IF(OR('Carta de Presentación'!$D$16=2,'Carta de Presentación'!$D$16=\"\"),\"\",T210)","v":""},4601,"CRUZ DEL EJE",13.2,"-",66,"-"]
[null,null,null,null,null,null,null,null,null,null,null,null,316,"MAR DEL TUYU",13.2,"-","-","-",{"$f":"IF(OR('Carta de Presentación'!$D$16=2,'Carta de Presentación'!$D$16=\"\"),\"\",T211)","v":""},4653,"WANDA",13.2,33,"-",132]
[null,null,null,null,null,null,null,null,null,null,null,null,4033,"LAS TONINAS",13.2,33,"-","-",{"$f":"IF(OR('Carta de Presentación'!$D$16=2,'Carta de Presentación'!$D$16=\"\"),\"\",T212)","v":""},4693,"CHACABUCO IND.",13.2,33,"-",132]
[null,null,null,null,null,null,null,null,null,null,null,null,474,"SAN CLEMENTE",13.2,33,"-","-",{"$f":"IF(OR('Carta de Presentación'!$D$16=2,'Carta de Presentación'!$D$16=\"\"),\"\",T213)","v":""},4815,"LA RIOJA SUR",13.2,33,"-",132]
[null,null,null,null,null,null,null,null,null,null,null,null,161,"DOLORES",13.2,33,"-",132,{"$f":"IF(OR('Carta de Presentación'!$D$16=2,'Carta de Presentación'!$D$16=\"\"),\"\",T214)","v":""},4827,"A. SARAVIA",13.2,33,"-",132]
[null,null,null,null,null,null,null,null,null,null,null,null,339,"NECOCHEA",13.2,"-","-",132,{"$f":"IF(OR('Carta de Presentación'!$D$16=2,'Carta de Presentación'!$D$16=\"\"),\"\",T215)","v":""},4841,"LA RIBERA",13.2,33,"-",132]
[null,null,null,null,null,null,null,null,null,null,null,null,330,"MIRAMAR",13.2,33,"-",132,{"$f":"IF(OR('Carta de Presentación'!$D$16=2,'Carta de Presentación'!$D$16=\"\"),\"\",T216)","v":""},4842,"COLON BA 132",13.2,33,"-",132]
[null,null,null,null,null,null,null,null,null,null,null,null,4886,"LUJAN DOS - GBA","-","-","-",132,{"$f":"IF(OR('Carta de Presentación'!$D$16=2,'Carta de Presentación'!$D$16=\"\"),\"\",T217)","v":""},4843,"LAS LOMITAS NEA",13.2,33,"-",132]
[null,null,null,null,null,null,null,null,null,null,null,null,321,"MERCEDES BS.AS.",13.2,33,"-",132,{"$f":"IF(OR('Carta de Presentación'!$D$16=2,'Carta de Presentación'!$D$16=\"\"),\"\",T218)","v":""},4851,"VALERIA DEL MAR",13.2,"-","-","-"]
[null,null,null,null,null,null,null,null,null,null,null,null,117,"CHIVILCOY",13.2,33,"-",132,{"$f":"IF(OR('Carta de Presentación'!$D$16=2,'Carta de Presentación'!$D$16=\"\"),\"\",T219)","v":""},4886,"LUJAN DOS - GBA","-","-","-",132]
[null,null,null,null,null,null,null,null,null,null,null,null,312,"MALVINAS-BS.AS.",13.2,33,"-",132,{"$f":"IF(OR('Carta de Presentación'!$D$16=2,'Carta de Presentación'!$D$16=\"\"),\"\",T220)","v":""},4898,"CAMPO GALLO",13.2,33,"-",132]
[null,null,null,null,null,null,null,null,null,null,null,null,301,"LUJAN- GBA",13.2,33,66,132,{"$f":"IF(OR('Carta de Presentación'!$D$16=2,'Carta de Presentación'!$D$16=\"\"),\"\",T221)","v":""},4904,"MAURICIO MAYER",13.2,33,"-",132]
[null,null,null,null,null,null,null,null,null,null,null,null,627,"LAS HERAS","-","-",66,"-",{"$f":"IF(OR('Carta de Presentación'!$D$16=2,'Carta de Presentación'!$D$16=\"\"),\"\",T222)","v":""},4913,"CHABAS",13.2,33,"-",132]
[null,null,null,null,null,null,null,null,null,null,null,null,296,"LOBOS","-",33,66,"-",{"$f":"IF(OR('Carta de Presentación'!$D$16=2,'Carta de Presentación'!$D$16=\"\"),\"\",T223)","v":""},4920,"EL MARCADO",13.2,"-",66,"-"]
[null,null,null,null,null,null,null,null,null,null,null,null,388,"PERGAMINO",13.2,33,"-",132,{"$f":"IF(OR('Carta de Presentación'!$D$16=2,'Carta de Presentación'!$D$16=\"\"),\"\",T224)","v":""},4921,"LAMBARÉ",13.2,"-",66,"-"]
[null,null,null,null,null,null,null,null,null,null,null,null,50388,"PERGAMINO 66","-","-",66,132,{"$f":"IF(OR('Carta de Presentación'!$D$16=2,'Carta de Presentación'!$D$16=\"\"),\"\",T225)","v":""},4933,"VALLE VIEJO",13.2,33,"-",132]
[null,null,null,null,null,null,null,null,null,null,null,null,26,"ARRECIFES",13.2,33,66,"-",{"$f":"IF(OR('Carta de Presentación'!$D$16=2,'Carta de Presentación'!$D$16=\"\"),\"\",T226)","v":""},4947,"ENCADENADAS",13.2,33,"-",132]
[null,null,null,null,null,null,null,null,null,null,null,null,145,"CPTAN SARMIENTO",13.2,33,66,"-",{"$f":"IF(OR('Carta de Presentación'!$D$16=2,'Carta de Presentación'!$D$16=\"\"),\"\",T227)","v":""},4952,"ING. G. JUAREZ",13.2,33,"-",132]
[null,null,null,null,null,null,null,null,null,null,null,null,470,"SALTO BS.AS.","-","-","-",132,{"$f":"IF(OR('Carta de Presentación'!$D$16=2,'Carta de Presentación'!$D$16=\"\"),\"\",T228)","v":""},4957,"LAGUNA BLANCA",13.2,33,"-",132]
[null,null,null,null,null,null,null,null,null,null,null,null,109,"CHACABUCO",13.2,33,"-",132,{"$f":"IF(OR('Carta de Presentación'!$D$16=2,'Carta de Presentación'!$D$16=\"\"),\"\",T229)","v":""},4964,"NUEVA POMPEYA","-",33,"-","-"]
[null,null,null,null,null,null,null,null,null,null,null,null,4693,"CHACABUCO IND.",13.2,33,"-",132,{"$f":"IF(OR('Carta de Presentación'!$D$16=2,'Carta de Presentación'!$D$16=\"\"),\"\",T230)","v":""},4971,"TABACAL","-","-","-",132]
[null,null,null,null,null,null,null,null,null,null,null,null,253,"JUNIN",13.2,33,"-",132,{"$f":"IF(OR('Carta de Presentación'!$D$16=2,'Carta de Presentación'!$D$16=\"\"),\"\",T231)","v":""},4980,"LA CUMBRE",13.2,33,"-",132]
[null,null,null,null,null,null,null,null,null,null,null,null,294,"LINCOLN",13.2,33,"-",132,{"$f":"IF(OR('Carta de Presentación'!$D$16=2,'Carta de Presentación'!$D$16=\"\"),\"\",T232)","v":""},4986,"TRES ISLETAS",13.2,33,"-",132]
[null,null,null,null,null,null,null,null,null,null,null,null,237,"I.M.S.A.",13.2,33,"-",132,{"$f":"IF(OR('Carta de Presentación'!$D$16=2,'Carta de Presentación'!$D$16=\"\"),\"\",T233)","v":""},4989,"13 DE JULIO","-","-","-",132]
[null,null,null,null,null,null,null,null,null,null,null,null,454,"ROJAS",13.2,33,"-",132,{"$f":"IF(OR('Carta de Presentación'!$D$16=2,'Carta de Presentación'!$D$16=\"\"),\"\",T234)","v":""},4994,"SEGUI","-",33,"-","-"]
[null,null,null,null,null,null,null,null,null,null,null,null,4842,"COLON BA 132",13.2,33,"-",132,{"$f":"IF(OR('Carta de Presentación'!$D$16=2,'Carta de Presentación'!$D$16=\"\"),\"\",T235)","v":""},4995,"VIALE","-",33,"-","-"]
[null,null,null,null,null,null,null,null,null,null,null,null,405,"PLAYA PLANICIE BANDERITA",13.2,33,"-",132,{"$f":"IF(OR('Carta de Presentación'!$D$16=2,'Carta de Presentación'!$D$16=\"\"),\"\",T236)","v":""},4996,"PANTANILLO",13.2,33,"-",132]
[null,null,null,null,null,null,null,null,null,null,null,null,43,"BARILOCHE",13.2,33,"-",132,{"$f":"IF(OR('Carta de Presentación'!$D$16=2,'Carta de Presentación'!$D$16=\"\"),\"\",T237)","v":""},5007,"CALINGASTA NUEVA",13.2,33,"-",132]
[null,null,null,null,null,null,null,null,null,null,null,null,401,"PILCANIYEU",13.2,33,"-",132,{"$f":"IF(OR('Carta de Presentación'!$D$16=2,'Carta de Presentación'!$D$16=\"\"),\"\",T238)","v":""},5037,"ISCHIGUALASTO",13.2,33,"-",132]
[null,null,null,null,null,null,null,null,null,null,null,null,648,"VIEDMA",13.2,33,"-",132,{"$f":"IF(OR('Carta de Presentación'!$D$16=2,'Carta de Presentación'!$D$16=\"\"),\"\",T239)","v":""},5043,"LA CANDELARIA S.LUIS",13.2,33,"-",132]
[null,null,null,null,null,null,null,null,null,null,null,null,636,"SAN ANTONIO ESTE","-",33,"-",132,{"$f":"IF(OR('Carta de Presentación'!$D$16=2,'Carta de Presentación'!$D$16=\"\"),\"\",T240)","v":""},5054,"LA ESCONDIDA",13.2,33,"-",132]
[null,null,null,null,null,null,null,null,null,null,null,null,635,"SAN ANTONIO OESTE",13.2,33,"-",132,{"$f":"IF(OR('Carta de Presentación'!$D$16=2,'Carta de Presentación'!$D$16=\"\"),\"\",T241)","v":""},5055,"CAMPO LARGO",13.2,33,"-",132]
[null,null,null,null,null,null,null,null,null,null,null,null,159,"DIVISADEROS",13.2,33,"-",132,{"$f":"IF(OR('Carta de Presentación'!$D$16=2,'Carta de Presentación'!$D$16=\"\"),\"\",T242)","v":""},5062,"COLONIA BRUGNE",13.2,33,"-",132]
[null,null,null,null,null,null,null,null,null,null,null,null,320,"MEDANITO","-",33,"-",132,{"$f":"IF(OR('Carta de Presentación'!$D$16=2,'Carta de Presentación'!$D$16=\"\"),\"\",T243)","v":""},5073,"COPO",13.2,33,"-",132]
[null,null,null,null,null,null,null,null,null,null,null,null,432,"REALICO",13.2,33,"-",132,{"$f":"IF(OR('Carta de Presentación'!$D$16=2,'Carta de Presentación'!$D$16=\"\"),\"\",T244)","v":""},5077,"QUITILIPI",13.2,33,"-",132]
[null,null,null,null,null,null,null,null,null,null,null,null,1873,"MACACHIN","-",33,"-",132,{"$f":"IF(OR('Carta de Presentación'!$D$16=2,'Carta de Presentación'!$D$16=\"\"),\"\",T245)","v":""},5078,"LA LEONESA",13.2,33,"-",132]
[null,null,null,null,null,null,null,null,null,null,null,null,4904,"MAURICIO MAYER",13.2,33,"-",132,{"$f":"IF(OR('Carta de Presentación'!$D$16=2,'Carta de Presentación'!$D$16=\"\"),\"\",T246)","v":""},5079,"PAMPA DEL INFIER",13.2,33,"-",132]
[null,null,null,null,null,null,null,null,null,null,null,null,205,"GENERAL PICO",13.2,33,"-",132,{"$f":"IF(OR('Carta de Presentación'!$D$16=2,'Carta de Presentación'!$D$16=\"\"),\"\",T247)","v":""},5081,"PUERTO VILELAS",13.2,33,"-",132]
[null,null,null,null,null,null,null,null,null,null,null,null,5103,"SANTA ROSA SUR",13.2,33,"-",132,{"$f":"IF(OR('Carta de Presentación'!$D$16=2,'Carta de Presentación'!$D$16=\"\"),\"\",T248)","v":""},5094,"SENDA HACHADA",13.2,33,"-",132]
[null,null,null,null,null,null,null,null,null,null,null,null,506,"SANTA ROSA LP",13.2,33,"-",132,{"$f":"IF(OR('Carta de Presentación'!$D$16=2,'Carta de Presentación'!$D$16=\"\"),\"\",T249)","v":""},5103,"SANTA ROSA SUR",13.2,33,"-",132]
[null,null,null,null,null,null,null,null,null,null,null,null,3398,"BANDERA",13.2,33,"-",132,{"$f":"IF(OR('Carta de Presentación'!$D$16=2,'Carta de Presentación'!$D$16=\"\"),\"\",T250)","v":""},5104,"J. POSSE","-",33,"-",132]
[null,null,null,null,null,null,null,null,null,null,null,null,21,"AÑATUYA",13.2,33,"-",132,{"$f":"IF(OR('Carta de Presentación'!$D$16=2,'Carta de Presentación'!$D$16=\"\"),\"\",T251)","v":""},5114,"GUEMES FORMOSA",13.2,33,"-",132]
[null,null,null,null,null,null,null,null,null,null,null,null,527,"SUNCHO CORRAL",13.2,33,"-",132,{"$f":"IF(OR('Carta de Presentación'!$D$16=2,'Carta de Presentación'!$D$16=\"\"),\"\",T252)","v":""},5139,"VILLA ELISA",13.2,33,"-",132]
[null,null,null,null,null,null,null,null,null,null,null,null,193,"FERNANDEZ",13.2,33,"-",132,{"$f":"IF(OR('Carta de Presentación'!$D$16=2,'Carta de Presentación'!$D$16=\"\"),\"\",T253)","v":""},5141,"S. A. ARREDONDO",13.2,"-","-",132]
[null,null,null,null,null,null,null,null,null,null,null,null,3399,"QUIMILI",13.2,33,"-",132,{"$f":"IF(OR('Carta de Presentación'!$D$16=2,'Carta de Presentación'!$D$16=\"\"),\"\",T254)","v":""},5142,"CHAPERO",13.2,33,"-",132]
[null,null,null,null,null,null,null,null,null,null,null,null,5073,"COPO",13.2,33,"-",132,{"$f":"IF(OR('Carta de Presentación'!$D$16=2,'Carta de Presentación'!$D$16=\"\"),\"\",T255)","v":""},5143,"ALEJANDRO ROCA",13.2,"-",66,"-"]
[null,null,null,null,null,null,null,null,null,null,null,null,4898,"CAMPO GALLO",13.2,33,"-",132,{"$f":"IF(OR('Carta de Presentación'!$D$16=2,'Carta de Presentación'!$D$16=\"\"),\"\",T256)","v":""},5188,"P. LIBRES NORTE",13.2,33,"-",132]
[null,null,null,null,null,null,null,null,null,null,null,null,3353,"SANTIAGO OESTE",13.2,33,"-",132,{"$f":"IF(OR('Carta de Presentación'!$D$16=2,'Carta de Presentación'!$D$16=\"\"),\"\",T257)","v":""},5198,"ITAEMBE MINI",13.2,33,"-",132]
[null,null,null,null,null,null,null,null,null,null,null,null,255,"LA BANDA (*)",13.2,33,"-",132,{"$f":"IF(OR('Carta de Presentación'!$D$16=2,'Carta de Presentación'!$D$16=\"\"),\"\",T258)","v":""},5199,"AVELLANEDA S.FE",13.2,33,"-",132]
[null,null,null,null,null,null,null,null,null,null,null,null,202,"FRIAS (*)",13.2,33,"-",132,{"$f":"IF(OR('Carta de Presentación'!$D$16=2,'Carta de Presentación'!$D$16=\"\"),\"\",T259)","v":""},5204,"SAN LUIS CENTRO",13.2,33,"-",132]
[null,null,null,null,null,null,null,null,null,null,null,null,448,"RIO HONDO",13.2,33,"-",132,{"$f":"IF(OR('Carta de Presentación'!$D$16=2,'Carta de Presentación'!$D$16=\"\"),\"\",T260)","v":""},5205,"MERLO SAN LUIS",13.2,33,"-",132]
[null,null,null,null,null,null,null,null,null,null,null,null,14,"AGUILARES",13.2,33,"-",132,{"$f":"IF(OR('Carta de Presentación'!$D$16=2,'Carta de Presentación'!$D$16=\"\"),\"\",T261)","v":""},5206,"TILISARAO S. LUIS",13.2,33,"-",132]
[null,null,null,null,null,null,null,null,null,null,null,null,204,"INDEPENDENCIA (*)",13.2,33,"-",132,{"$f":"IF(OR('Carta de Presentación'!$D$16=2,'Carta de Presentación'!$D$16=\"\"),\"\",T262)","v":""},5223,"LA ESTRELLA","-",33,"-",132]
[null,null,null,null,null,null,null,null,null,null,null,null,1903,"LULES",13.2,33,"-",132,{"$f":"IF(OR('Carta de Presentación'!$D$16=2,'Carta de Presentación'!$D$16=\"\"),\"\",T263)","v":""},5257,"P.ROJAS","-",33,"-",132]
[null,null,null,null,null,null,null,null,null,null,null,null,5337,"LA PUNA","-",33,"-","-",{"$f":"IF(OR('Carta de Presentación'!$D$16=2,'Carta de Presentación'!$D$16=\"\"),\"\",T264)","v":""},5264,"AFISA",13.2,"-",66,132]
[null,null,null,null,null,null,null,null,null,null,null,null,225,"GUEMES",13.2,33,"-",132,{"$f":"IF(OR('Carta de Presentación'!$D$16=2,'Carta de Presentación'!$D$16=\"\"),\"\",T265)","v":""},5272,"SANTA ELENA CBA","-",33,"-",132]
[null,null,null,null,null,null,null,null,null,null,null,null,3513,"COBOS",13.2,33,"-",132,{"$f":"IF(OR('Carta de Presentación'!$D$16=2,'Carta de Presentación'!$D$16=\"\"),\"\",T266)","v":""},5273,"V.DE MARIA SECO",13.2,"-",66,"-"]
[null,null,null,null,null,null,null,null,null,null,null,null,2833,"EL CARRIL","-","-",66,132,{"$f":"IF(OR('Carta de Presentación'!$D$16=2,'Carta de Presentación'!$D$16=\"\"),\"\",T267)","v":""},5290,"ADELIA MARIA",13.2,"-",66,"-"]
[null,null,null,null,null,null,null,null,null,null,null,null,357,"ORAN",13.2,33,"-",132,{"$f":"IF(OR('Carta de Presentación'!$D$16=2,'Carta de Presentación'!$D$16=\"\"),\"\",T268)","v":""},5294,"MORTEROS",13.2,"-","-",132]
[null,null,null,null,null,null,null,null,null,null,null,null,4971,"TABACAL","-","-","-",132,{"$f":"IF(OR('Carta de Presentación'!$D$16=2,'Carta de Presentación'!$D$16=\"\"),\"\",T269)","v":""},5301,"PROMAIZ",13.2,"-",66,132]
[null,null,null,null,null,null,null,null,null,null,null,null,532,"TARTAGAL",13.2,33,"-",132,{"$f":"IF(OR('Carta de Presentación'!$D$16=2,'Carta de Presentación'!$D$16=\"\"),\"\",T270)","v":""},5313,"VILLA MARIA NORTE",13.2,"-",66,132]
[null,null,null,null,null,null,null,null,null,null,null,null,5094,"SENDA HACHADA",13.2,33,"-",132,{"$f":"IF(OR('Carta de Presentación'!$D$16=2,'Carta de Presentación'!$D$16=\"\"),\"\",T271)","v":""},5321,"TIO PUJIO",13.2,"-",66,"-"]
[null,null,null,null,null,null,null,null,null,null,null,null,5223,"LA ESTRELLA","-",33,"-",132,{"$f":"IF(OR('Carta de Presentación'!$D$16=2,'Carta de Presentación'!$D$16=\"\"),\"\",T272)","v":""},5326,"RIO GRANDE",13.2,"-",66,"-"]
[null,null,null,null,null,null,null,null,null,null,null,null,4827,"A. SARAVIA",13.2,33,"-",132,{"$f":"IF(OR('Carta de Presentación'!$D$16=2,'Carta de Presentación'!$D$16=\"\"),\"\",T273)","v":""},5331,"PEREZ","-","-","-",132]
[null,null,null,null,null,null,null,null,null,null,null,null,248,"J.V. GONZALES",13.2,33,"-",132,{"$f":"IF(OR('Carta de Presentación'!$D$16=2,'Carta de Presentación'!$D$16=\"\"),\"\",T274)","v":""},5336,"CAUCHARI","-",33,"-","-"]
[null,null,null,null,null,null,null,null,null,null,null,null,395,"PICHANAL",13.2,33,"-",132,{"$f":"IF(OR('Carta de Presentación'!$D$16=2,'Carta de Presentación'!$D$16=\"\"),\"\",T275)","v":""},5337,"LA PUNA","-",33,"-","-"]
[null,null,null,null,null,null,null,null,null,null,null,null,5347,"CAIMANCITO","-","-","-",132,{"$f":"IF(OR('Carta de Presentación'!$D$16=2,'Carta de Presentación'!$D$16=\"\"),\"\",T276)","v":""},5342,"MALLIGASTA",13.2,33,"-",132]
[null,null,null,null,null,null,null,null,null,null,null,null,287,"LIBERTADOR",13.2,33,"-",132,{"$f":"IF(OR('Carta de Presentación'!$D$16=2,'Carta de Presentación'!$D$16=\"\"),\"\",T277)","v":""},5347,"CAIMANCITO","-","-","-",132]
[null,null,null,null,null,null,null,null,null,null,null,null,497,"SAN PEDRO",13.2,33,"-",132,{"$f":"IF(OR('Carta de Presentación'!$D$16=2,'Carta de Presentación'!$D$16=\"\"),\"\",T278)","v":""},5357,"ACHIRAS","-","-","-",132]
[null,null,null,null,null,null,null,null,null,null,null,null,483,"SAN JUANCITO",13.2,33,"-",132,{"$f":"IF(OR('Carta de Presentación'!$D$16=2,'Carta de Presentación'!$D$16=\"\"),\"\",T279)","v":""},5362,"C.GOMEZ NORTE","-","-","-",132]
[null,null,null,null,null,null,null,null,null,null,null,null,279,"LAS MADERAS",13.2,33,"-",132,{"$f":"IF(OR('Carta de Presentación'!$D$16=2,'Carta de Presentación'!$D$16=\"\"),\"\",T280)","v":""},5363,"VILLA OCAMPO SUR","-","-","-",132]
[null,null,null,null,null,null,null,null,null,null,null,null,252,"JUJUY SUR",13.2,33,"-",132,{"$f":"IF(OR('Carta de Presentación'!$D$16=2,'Carta de Presentación'!$D$16=\"\"),\"\",T281)","v":""},5374,"SOLAR ULLUM","-",33,"-",132]
[null,null,null,null,null,null,null,null,null,null,null,null,5336,"CAUCHARI","-",33,"-","-",{"$f":"IF(OR('Carta de Presentación'!$D$16=2,'Carta de Presentación'!$D$16=\"\"),\"\",T282)","v":""},5391,"SAN BERNARDO CH",13.2,33,"-",132]
[null,null,null,null,null,null,null,null,null,null,null,null,111,"CHAMICAL",13.2,33,"-",132,{"$f":"IF(OR('Carta de Presentación'!$D$16=2,'Carta de Presentación'!$D$16=\"\"),\"\",T283)","v":""},5404,"OBERA II",13.2,33,"-",132]
[null,null,null,null,null,null,null,null,null,null,null,null,347,"NONOGASTA","-","-",66,132,{"$f":"IF(OR('Carta de Presentación'!$D$16=2,'Carta de Presentación'!$D$16=\"\"),\"\",T284)","v":""},5429,"GOYA OESTE",13.2,33,"-",132]
[null,null,null,null,null,null,null,null,null,null,null,null,15,"AIMOGASTA",13.2,33,"-","-",{"$f":"IF(OR('Carta de Presentación'!$D$16=2,'Carta de Presentación'!$D$16=\"\"),\"\",T285)","v":""},5443,"ROLDAN",13.2,33,"-",132]
[null,null,null,null,null,null,null,null,null,null,null,null,266,"LA RIOJA NORTE (*)",13.2,33,"-",132,{"$f":"IF(OR('Carta de Presentación'!$D$16=2,'Carta de Presentación'!$D$16=\"\"),\"\",T286)","v":""},5453,"LAS VARILLAS",13.2,"-","-",132]
[null,null,null,null,null,null,null,null,null,null,null,null,4815,"LA RIOJA SUR",13.2,33,"-",132,{"$f":"IF(OR('Carta de Presentación'!$D$16=2,'Carta de Presentación'!$D$16=\"\"),\"\",T287)","v":""},5454,"YAPEYU",13.2,33,"-",132]
[null,null,null,null,null,null,null,null,null,null,null,null,378,"PATQUIA",13.2,33,"-",132,{"$f":"IF(OR('Carta de Presentación'!$D$16=2,'Carta de Presentación'!$D$16=\"\"),\"\",T288)","v":""},5457,"PRESIDENCIA ROCA",13.2,33,"-",132]
[null,null,null,null,null,null,null,null,null,null,null,null,1233,"VILLA UNION",13.2,33,"-",132,{"$f":"IF(OR('Carta de Presentación'!$D$16=2,'Carta de Presentación'!$D$16=\"\"),\"\",T289)","v":""},5458,"PASO TALA",13.2,33,"-",132]
[null,null,null,null,null,null,null,null,null,null,null,null,5342,"MALLIGASTA",13.2,33,"-",132,{"$f":"IF(OR('Carta de Presentación'!$D$16=2,'Carta de Presentación'!$D$16=\"\"),\"\",T290)","v":""},5468,"ITUZAINGO NORTE",13.2,33,"-",132]
[null,null,null,null,null,null,null,null,null,null,null,null,99,"CATAMARCA",13.2,33,"-",132,{"$f":"IF(OR('Carta de Presentación'!$D$16=2,'Carta de Presentación'!$D$16=\"\"),\"\",T291)","v":""},5471,"PIRAYU",13.2,33,"-",132]
[null,null,null,null,null,null,null,null,null,null,null,null,4996,"PANTANILLO",13.2,33,"-",132,{"$f":"IF(OR('Carta de Presentación'!$D$16=2,'Carta de Presentación'!$D$16=\"\"),\"\",T292)","v":""},5492,"AGRELO",13.2,"-",66,"-"]
[null,null,null,null,null,null,null,null,null,null,null,null,4933,"VALLE VIEJO",13.2,33,"-",132,{"$f":"IF(OR('Carta de Presentación'!$D$16=2,'Carta de Presentación'!$D$16=\"\"),\"\",T293)","v":""},5493,"UGARTECHE",13.2,"-",66,"-"]
[null,null,null,null,null,null,null,null,null,null,null,null,435,"RECREO",13.2,33,"-",132,{"$f":"IF(OR('Carta de Presentación'!$D$16=2,'Carta de Presentación'!$D$16=\"\"),\"\",T294)","v":""},5505,"STELLA MARIS",13.2,33,"-",132]
[null,null,null,null,null,null,null,null,null,null,null,null,488,"SAN MARTIN",13.2,33,"-",132,{"$f":"IF(OR('Carta de Presentación'!$D$16=2,'Carta de Presentación'!$D$16=\"\"),\"\",T295)","v":""},5534,"P. I. ITUZAINGO",13.2,33,"-",132]
[null,null,null,null,null,null,null,null,null,null,null,null,3613,"AMPAJANGO","-",33,"-","-",{"$f":"IF(OR('Carta de Presentación'!$D$16=2,'Carta de Presentación'!$D$16=\"\"),\"\",T296)","v":""},50000,"LA PAZ",13.2,"-",66,"-"]
[null,null,null,null,null,null,null,null,null,null,null,null,536,"TINOGASTA",13.2,33,"-",132,{"$f":"IF(OR('Carta de Presentación'!$D$16=2,'Carta de Presentación'!$D$16=\"\"),\"\",T297)","v":""},50001,"LAS CATITAS",13.2,"-",66,"-"]
[null,null,null,null,null,null,null,null,null,null,null,null,1195,"ANDALGALA",13.2,33,"-",132,{"$f":"IF(OR('Carta de Presentación'!$D$16=2,'Carta de Presentación'!$D$16=\"\"),\"\",T298)","v":""},50002,"SANTA ROSA",13.2,"-",66,"-"]
[null,null,null,null,null,null,null,null,null,null,null,null,51,"BELEN",13.2,33,"-",132,{"$f":"IF(OR('Carta de Presentación'!$D$16=2,'Carta de Presentación'!$D$16=\"\"),\"\",T299)","v":""},50388,"PERGAMINO 66","-","-",66,132]