{"text_format":"1","workbook":"xlsx","n_sheets":5,"sheets":["DATOS_QR","ETIQUETA_EXT","ETIQUETA_A","ETIQUETA_B","DATOS"],"not_rendered":{"charts":0,"images":0,"macros":1,"external_links":0,"defined_names":3,"comments":0,"pivot_tables":0},"unopened":[],"bounds":{"document_bytes":16777216,"sheet_cells":100000,"rows_first":2000,"rows_last":500,"rows_between":2000,"halvings":0,"cell_chars":16384,"cell_head_chars":4096},"cells_cut":0,"cells_raw":0,"read":"whole","date_system":"1900"}

{"sheet":"DATOS_QR","index":0,"n_rows":59,"n_cols":16,"rows_kept":59,"cut":false,"hidden":false,"merged":[[16,7,17,8],[18,6,18,8],[58,4,58,5],[47,3,47,8],[48,3,48,8],[46,3,46,8],[35,3,35,8],[42,3,42,8],[45,3,45,8],[54,4,54,5],[56,4,56,5],[39,3,39,8],[40,3,40,8],[41,3,41,8],[36,3,36,8],[19,6,19,8],[11,6,11,8],[12,6,12,8],[13,6,13,8],[14,6,14,8],[15,6,15,8],[5,5,5,8],[6,5,6,8],[8,5,8,8],[7,5,7,8],[10,6,10,8],[29,3,29,8],[30,3,30,8],[33,3,33,8],[34,3,34,8],[20,6,20,8],[21,6,21,8],[22,6,22,8],[27,3,27,8],[28,3,28,8]]}
[]
[null,"DATOS PARA GENERAR QR",null,null,null,null,null,null,null,null,null,null,{"$f":"SUM(M6:M11)+SUM(M14:M18)+SUM(M20:M37)","v":20},null,{"$f":"P3&O3","v":"|||||||||||||||||||||||||||||||||717618929136*******************************************************************************************************************************************************************************************************************************************************************************************************************************************************************************************************************************************************************************************************************************************************************************************************************************************************************************************************************************************************************************************************************************************************************************************************************************************************************************************"}]
[null,null,null,null,null,null,null,null,null,null,null,null,{"$f":"SUM(M5:M49)","v":32},null,{"$f":"IF(LEN(P3)>999,\"\",REPT(\"*\",1000-LEN(P3)))","v":"*******************************************************************************************************************************************************************************************************************************************************************************************************************************************************************************************************************************************************************************************************************************************************************************************************************************************************************************************************************************************************************************************************************************************************************************************************************************************************************************************"},{"$f":"CONCATENATE(O4,\"|\",O5,\"|\",O6,\"|\",O7,\"|\",O8,\"|\",O9,\"|\",O10,\"|\",O11,\"|\",O12,\"|\",O13,\"|\",O14,\"|\",O15,\"|\",O16,\"|\",O17,\"|\",O18,\"|\",O19,\"|\",O20,\"|\",O21,\"|\",O22,\"|\",O23,\"|\",O24,\"|\",O25,\"|\",O26,\"|\",O27,\"|\",O28,\"|\",O29,\"|\",O30,\"|\",O31,\"|\",O32,\"|\",O33,\"|\",O34,\"|\",O35,\"|\",O36,\"|\",ROUND(RANDBETWEEN(0,10^12-1),0))","v":"|||||||||||||||||||||||||||||||||717618929136"}]
[null,"Datos de la Oferta",null,null,null,null,null,null,null,null,null,null,null,null,{"$f":"IF(F6=\"\",\"\",F6)","v":""}]
[null,null,null,null,null,null,null,null,null,null,null,null,{"$f":"IF(AND(F8=\"\",SUM(M17:M18)=0),2,\"\")","v":2},null,{"$f":"IF(F7=\"\",\"\",F7)","v":""}]
[null,"NOMBRE DEL PROYECTO *",null,null,null,null,null,null,null,null,null,null,{"$f":"IF(F6=\"\",1,0)","v":1},null,{"$f":"IF(F8=\"\",\"\",F8)","v":""}]
[null,"OFERENTE *",null,null,null,null,null,null,null,null,null,null,{"$f":"IF(F7=\"\",1,0)","v":1},null,{"$f":"IF(F9=\"\",\"\",LEFT(F9,FIND(\" \",F9)-1))","v":""}]
[null,"RENGLÓN *",null,null,null,null,null,null,null,null,null,null,{"$f":"IF(F8=\"\",1,0)","v":1},null,{"$f":"IF(G11=\"\",\"\",SUBSTITUTE(G11,\".\",\",\"))","v":""}]
[null,"TECNOLOGÍA *",null,null,null,null,null,null,null,null,null,null,{"$f":"IF(F9=\"\",1,0)","v":1},null,{"$f":"IF(G12=\"\",\"\",SUBSTITUTE(G12,\".\",\",\"))","v":""}]
[null,null,null,null,null,null,null,null,null,null,null,null,null,null,""]
[null,"Potencia Ofertada [MW] *",null,null,null,null,null,null,null,null,null,null,{"$f":"IF(G11=\"\",1,0)","v":1},null,{"$f":"IF(G14=\"\",\"\",G14)","v":""}]
[null,"Almacenamiento Potencia [MW] (si aplica) ",null,null,null,null,null,null,null,null,null,null,{"$f":"IF(G12=\"\",1,0)","v":1},null,""]
[null,"Almacenamiento Horas de Entrega (si aplica) ",null,null,null,null,null,null,null,null,null,null,1,null,""]
[null,"Provincia *",null,null,null,null,null,null,null,null,null,null,1,null,""]
[null,"Localidad *",null,null,null,null,null,null,null,null,null,null,1,null,""]
[null,"Distribuidora Agente MEM *",null,null,null,null,null,null,null,null,null,null,1,null,""]
[null,"Nodo de Conexión (NDC) (Para Renglón 1 / Anexo 3) - ID *",null,null,null,null,null,{"$f":"IF(OR(G17=\"\",F8<>1),\"\",VLOOKUP(G17,DATOS!$T$6:$U$299,2,FALSE))","v":""},null,null,null,null,{"$f":"IF(AND(G17=\"\",F8=1),1,0)","v":0},null,""]
[null,"Nodo de Conexión (NDC) (Para Renglón 1 / Anexo 3) - Tensión [kV] *",null,null,null,null,null,null,null,null,null,null,{"$f":"IF(AND(G18=\"\",F8=1),1,0)","v":0},null,{"$f":"IF(G21=\"\",\"\",SUBSTITUTE(G21,\".\",\",\"))","v":""}]
[null,"Cooperativa No Agente (si corresponde) ",null,null,null,null,null,null,null,null,null,null,null,null,""]
[null,"Punto de Conexión - Descripción *",null,null,null,null,null,null,null,null,null,null,1,null,""]
[null,"Punto de Conexión - Nivel de Tensión [kV] *",null,null,null,null,null,null,null,null,null,null,1,null,{"$f":"IF(D28=\"\",\"\",D28)","v":""}]
[null,"Coordenadas geográficas del Proyecto - Latitud (**) *",null,null,null,null,null,null,null,null,null,null,{"$f":"IF(G22=\"\",1,0)","v":1},null,{"$f":"IF(D29=\"\",\"\",D29)","v":""}]
[null,"Coordenadas geográficas del Proyecto - Longitud (**) *",null,null,null,null,null,null,null,null,null,null,{"$f":"IF(G23=\"\",1,0)","v":1},null,{"$f":"IF(D30=\"\",\"\",D30)","v":""}]
[null,"(**) Coordenadas geográficas en grados decimales (WGS84)",null,null,null,null,null,null,null,null,null,null,null,null,{"$f":"IF(D31=\"\",\"\",D31)","v":""}]
[null,null,null,null,null,null,null,null,null,null,null,null,null,null,{"$f":"IF(D34=\"\",\"\",D34)","v":""}]
[null,"Información del Oferente",null,null,null,null,null,null,null,null,null,null,null,null,{"$f":"IF(D35=\"\",\"\",D35)","v":""}]
[null,null,null,null,null,null,null,null,null,null,null,null,null,null,{"$f":"IF(D36=\"\",\"\",D36)","v":""}]
[null,"Nombre o Razón Social *",null,null,null,null,null,null,null,null,null,null,{"$f":"IF(D28=\"\",1,0)","v":1},null,{"$f":"IF(D37=\"\",\"\",D37)","v":""}]
[null,"CUIT *",null,null,null,null,null,null,null,null,null,null,{"$f":"IF(D29=\"\",1,0)","v":1},null,{"$f":"IF(D40=\"\",\"\",D40)","v":""}]
[null,"Domicilio Legal *",null,null,null,null,null,null,null,null,null,null,1,null,{"$f":"IF(D41=\"\",\"\",D41)","v":""}]
[null,"Tipo de Sociedad *",null,null,null,null,null,null,null,null,null,null,1,null,{"$f":"IF(D42=\"\",\"\",D42)","v":""}]
[null,null,null,null,null,null,null,null,null,null,null,null,null,null,{"$f":"IF(D43=\"\",\"\",D43)","v":""}]
[null,"Persona de Contacto 1",null,null,null,null,null,null,null,null,null,null,null,null,{"$f":"IF(D46=\"\",\"\",D46)","v":""}]
[null,"Nombre y Apellido *",null,null,null,null,null,null,null,null,null,null,{"$f":"IF(D34=\"\",1,0)","v":1},null,{"$f":"IF(D47=\"\",\"\",D47)","v":""}]
[null,"Teléfono *",null,null,null,null,null,null,null,null,null,null,{"$f":"IF(D35=\"\",1,0)","v":1},null,{"$f":"IF(D48=\"\",\"\",D48)","v":""}]
[null,"Mail *",null,null,null,null,null,null,null,null,null,null,1,{"$f":"IF(F39=\"\",\"\",F39)","v":""},{"$f":"IF(D49=\"\",\"\",D49)","v":""}]
[null,"Domicilio *",null,null,null,null,null,null,null,null,null,null,1]
[]
[null,"Persona de Contacto 2"]
[null,"Nombre y Apellido",null,null,null,null,null,null,null,null,null,null,1]
[null,"Teléfono",null,null,null,null,null,null,null,null,null,null,1]
[null,"Mail",null,null,null,null,null,null,null,null,null,null,1]
[null,"Domicilio",null,null,null,null,null,null,null,null,null,null,1]
[]
[null,"Persona de Contacto 3"]
[null,"Nombre y Apellido",null,null,null,null,null,null,null,null,null,null,1]
[null,"Teléfono",null,null,null,null,null,null,null,null,null,null,1]
[null,"Mail",null,null,null,null,null,null,null,null,null,null,1]
[null,"Domicilio",null,null,null,null,null,null,null,null,null,null,1]
[null,"(*) Campos Obligatorios"]
[]
[]
[]
[]
[null,null,null,null,"ETIQUETA EXTERNA"]
[]
[null,null,null,null,"ETIQUETA A"]
[]
[null,null,null,null,"ETIQUETA B"]

{"sheet":"ETIQUETA_EXT","index":1,"n_rows":22,"n_cols":8,"rows_kept":22,"cut":false,"hidden":false,"merged":[[4,4,4,7],[5,4,5,7],[6,4,6,7],[7,4,7,7],[21,4,21,5],[19,5,19,6]]}
[]
[]
[null,null,"ETIQUETA SOBRE EXTERNO"]
[null,null,"Convocatoria Abierta Nacional e Internacional RenMDI - Res. SE N°36/2023"]
[null,null,"NOMBRE DEL PROYECTO",null,{"$f":"IF(DATOS_QR!F6=\"\",\"\",DATOS_QR!F6)","v":""}]
[null,null,"OFERENTE",null,{"$f":"IF(DATOS_QR!F7=\"\",\"\",DATOS_QR!F7)","v":""}]
[null,null,"TECNOLOGÍA",null,{"$f":"IF(DATOS_QR!F9=\"\",\"\",DATOS_QR!F9)","v":""}]
[null,null,"RENGLÓN",null,{"$f":"IF(DATOS_QR!F8=\"\",\"\",DATOS_QR!F8)","v":""}]
[null,null,"POTENCIA [MW]",null,{"$f":"IF(DATOS_QR!G11=\"\",\"\",DATOS_QR!G11)","v":""}]
[]
[]
[]
[]
[]
[]
[]
[]
[]
[]
[null,null,"ID OFERTA:",null,{"$f":"IF(OR(E7=\"\",E8=\"\"),\"\",CONCATENATE(LEFT(E7,FIND(\" - \",E7)-1),\"-\"))","v":""},null,null,{"$f":"IF(OR(E7=\"\",E8=\"\"),\"\",CONCATENATE(\"-R\",E8))","v":""}]
[]
[null,null,null,null,"VOLVER"]

{"sheet":"ETIQUETA_A","index":2,"n_rows":22,"n_cols":8,"rows_kept":22,"cut":false,"hidden":false,"merged":[[4,4,4,7],[5,4,5,7],[6,4,6,7],[7,4,7,7],[21,4,21,5],[19,5,19,6]]}
[]
[]
[null,null,"ETIQUETA SOBRE A"]
[null,null,"Convocatoria Abierta Nacional e Internacional RenMDI - Res. SE N°36/2023"]
[null,null,"NOMBRE DEL PROYECTO",null,{"$f":"IF(DATOS_QR!F6=\"\",\"\",DATOS_QR!F6)","v":""}]
[null,null,"OFERENTE",null,{"$f":"IF(DATOS_QR!F7=\"\",\"\",DATOS_QR!F7)","v":""}]
[null,null,"TECNOLOGÍA",null,{"$f":"IF(DATOS_QR!F9=\"\",\"\",DATOS_QR!F9)","v":""}]
[null,null,"RENGLÓN",null,{"$f":"IF(DATOS_QR!F8=\"\",\"\",DATOS_QR!F8)","v":""}]
[null,null,"POTENCIA [MW]",null,{"$f":"IF(DATOS_QR!G11=\"\",\"\",DATOS_QR!G11)","v":""}]
[]
[]
[]
[]
[]
[]
[]
[]
[]
[]
[null,null,"ID OFERTA:",null,{"$f":"IF(OR(E7=\"\",E8=\"\"),\"\",CONCATENATE(LEFT(E7,FIND(\" - \",E7)-1),\"-\"))","v":""},null,null,{"$f":"IF(OR(E7=\"\",E8=\"\"),\"\",CONCATENATE(\"-R\",E8))","v":""}]
[]
[null,null,null,null,"VOLVER"]

{"sheet":"ETIQUETA_B","index":3,"n_rows":22,"n_cols":8,"rows_kept":22,"cut":false,"hidden":false,"merged":[[4,4,4,7],[5,4,5,7],[6,4,6,7],[7,4,7,7],[21,4,21,5],[19,5,19,6]]}
[]
[]
[null,null,"ETIQUETA SOBRE B"]
[null,null,"Convocatoria Abierta Nacional e Internacional RenMDI - Res. SE N°36/2023"]
[null,null,"NOMBRE DEL PROYECTO",null,{"$f":"IF(DATOS_QR!F6=\"\",\"\",DATOS_QR!F6)","v":""}]
[null,null,"OFERENTE",null,{"$f":"IF(DATOS_QR!F7=\"\",\"\",DATOS_QR!F7)","v":""}]
[null,null,"TECNOLOGÍA",null,{"$f":"IF(DATOS_QR!F9=\"\",\"\",DATOS_QR!F9)","v":""}]
[null,null,"RENGLÓN",null,{"$f":"IF(DATOS_QR!F8=\"\",\"\",DATOS_QR!F8)","v":""}]
[null,null,"POTENCIA [MW]",null,{"$f":"IF(DATOS_QR!G11=\"\",\"\",DATOS_QR!G11)","v":""}]
[]
[]
[]
[]
[]
[]
[]
[]
[]
[]
[null,null,"ID OFERTA:",null,{"$f":"IF(OR(E7=\"\",E8=\"\"),\"\",CONCATENATE(LEFT(E7,FIND(\" - \",E7)-1),\"-\"))","v":""},null,null,{"$f":"IF(OR(E7=\"\",E8=\"\"),\"\",CONCATENATE(\"-R\",E8))","v":""}]
[]
[null,null,null,null,"VOLVER"]

{"sheet":"DATOS","index":4,"n_rows":299,"n_cols":324,"rows_kept":299,"cut":false,"hidden":true,"merged":[]}
[]
[null,null,null,null,null,null,null,null,null,null,null,null,"Validación:",0]
[]
[null,"PROVINCIAS",null,null,null,null,"AGENTE_DESCRIPCION","AGENTE_ID","DEMANDA_NEMO_AGENTE",null,null,null,null,null,null,null,null,null,null,"NODO","DESC","Kv1","Kv2","Kv3","Kv4",null,null,null,null,null,null,null,null,null,null,null,null,null,null,null,null,null,null,null,null,null,null,null,null,null,null,null,null,null,null,null,null,null,null,null,null,null,null,null,null,null,null,null,null,null,null,null,null,null,null,null,null,null,null,null,null,null,null,null,null,null,null,null,null,null,null,null,null,null,null,null,null,null,null,null,null,null,null,null,null,null,null,null,null,null,null,null,null,null,null,null,null,null,null,null,null,null,null,null,null,null,null,null,null,null,null,null,null,null,null,null,null,null,null,null,null,null,null,null,null,null,null,null,null,null,null,null,null,null,null,null,null,null,null,null,null,null,null,null,null,null,null,null,null,null,null,null,null,null,null,null,null,null,null,null,null,null,null,null,null,null,null,null,null,null,null,null,null,null,null,null,null,null,null,null,null,null,null,null,null,null,null,null,null,null,null,null,null,null,null,null,null,null,null,null,null,null,null,null,null,null,null,null,null,null,null,null,null,null,null,null,null,null,null,null,null,null,null,null,null,null,null,null,null,null,null,null,null,null,null,null,null,null,null,null,null,null,null,null,null,null,null,null,null,null,null,null,null,null,null,null,null,null,null,null,null,null,null,null,null,null,null,null,null,null,null,null,null,null,null,null,null,null,null,null,null,null,null,null,null,null,null,null,null,null,null,null,null,null,null,null,null,null,null,null,null,null,null,"c"]
[null,null,null,null,null,null,null,null,null,null,"ID","Corredor","ID","NOMBRE / E.T.","Tensiones"]
[null,"BUENOS AIRES",null,null,null,null,"EDENOR DISTRIBUIDOR",1,"EDENOROD",null,562,"CEN - Cordoba - Oeste",562,"VILLA DOLORES",13.2,33,"-",132,{"$f":"IF(OR(DATOS_QR!$F$8=2,DATOS_QR!$F$8=\"\"),\"\",T6)","v":""},14,"AGUILARES",13.2,33,"-",132,null,null,null,null,null,562,269,299,437,5326,5141,190,1294,258,4601,308,572,91,565,5313,5453,475,5264,5294,5321,29,5104,244,52,284,1097,243,5357,582,214,5290,270,446,5272,274,277,212,5301,5143,1098,631,4989,141,427,2333,5273,1135,5205,507,5206,268,487,303,4980,5204,5043,3973,3953,566,4947,364,452,148,5492,50000,50001,50002,546,22,87,4253,5493,304,4921,4920,498,385,210,5257,309,5037,5007,5374,101,476,409,1438,5198,450,5404,353,366,1436,1437,173,4653,238,463,5062,53,5471,1053,5534,5468,1394,1393,1434,5454,363,5188,323,150,5458,5429,209,5505,184,4964,4573,5078,46,5081,5054,415,489,5457,456,5077,4986,97,5391,560,5079,5055,112,4952,4843,1453,404,1433,5114,4957,125,201,1513,5139,64,481,500,1493,221,174,501,2273,146,4994,4995,82,5362,1613,280,5443,5331,4913,94,196,553,461,213,673,4841,484,578,30,653,2933,183,317,428,1633,473,480,526,1573,5363,568,434,5199,5142,3233,466,355,126,540,3253,348,90,325,19,61,524,563,4851,402,585,316,4033,474,161,339,330,4886,321,117,312,301,627,296,388,50388,26,145,470,109,4693,253,294,237,454,4842,405,43,401,648,636,635,159,320,432,1873,4904,205,5103,506,3398,21,527,193,3399,5073,4898,3353,255,202,448,14,204,1903,5337,225,3513,2833,357,4971,532,5094,5223,4827,248,395,5347,287,497,483,279,252,5336,111,347,15,266,4815,378,1233,5342,99,4996,4933,435,488,3613,536,1195,51]
[null,"CABA",null,null,null,null,"EDESUR DISTRIBUIDOR",2,"EDESURCD",null,269,"CEN - Cordoba - Oeste",269,"LA VIÑA",13.2,"-",66,132,{"$f":"IF(OR(DATOS_QR!$F$8=2,DATOS_QR!$F$8=\"\"),\"\",T7)","v":""},15,"AIMOGASTA",13.2,33,"-","-",null,null,null,null,null,13.2,13.2,13.2,"-",13.2,13.2,13.2,13.2,13.2,13.2,13.2,13.2,13.2,13.2,13.2,13.2,13.2,13.2,13.2,13.2,"-","-",13.2,13.2,"-",13.2,"-","-","-",13.2,13.2,13.2,13.2,"-",13.2,13.2,"-",13.2,13.2,13.2,"-","-",13.2,13.2,13.2,13.2,13.2,13.2,13.2,13.2,13.2,13.2,13.2,13.2,13.2,13.2,13.2,13.2,13.2,13.2,13.2,13.2,13.2,13.2,13.2,13.2,13.2,13.2,13.2,13.2,13.2,13.2,13.2,13.2,13.2,13.2,13.2,13.2,"-",13.2,13.2,13.2,"-",13.2,"-",13.2,13.2,13.2,13.2,13.2,13.2,13.2,13.2,13.2,13.2,13.2,13.2,13.2,13.2,13.2,13.2,13.2,13.2,13.2,13.2,13.2,13.2,13.2,13.2,13.2,13.2,13.2,13.2,13.2,13.2,13.2,13.2,"-",13.2,13.2,13.2,13.2,13.2,13.2,13.2,13.2,13.2,13.2,13.2,13.2,13.2,13.2,13.2,13.2,13.2,13.2,13.2,13.2,13.2,13.2,13.2,13.2,13.2,13.2,13.2,13.2,13.2,13.2,13.2,13.2,13.2,13.2,13.2,13.2,13.2,"-","-",13.2,"-",13.2,13.2,13.2,"-",13.2,13.2,13.2,13.2,13.2,13.2,13.2,13.2,13.2,13.2,13.2,13.2,13.2,13.2,13.2,13.2,13.2,13.2,13.2,13.2,13.2,"-",13.2,13.2,13.2,13.2,13.2,13.2,13.2,13.2,13.2,"-",13.2,13.2,13.2,13.2,13.2,13.2,13.2,13.2,13.2,13.2,13.2,13.2,13.2,13.2,13.2,13.2,"-",13.2,13.2,13.2,13.2,"-","-",13.2,"-",13.2,13.2,"-",13.2,13.2,13.2,13.2,13.2,13.2,13.2,13.2,13.2,13.2,13.2,"-",13.2,13.2,"-",13.2,"-",13.2,13.2,13.2,13.2,13.2,13.2,13.2,13.2,13.2,13.2,13.2,13.2,13.2,13.2,13.2,13.2,13.2,13.2,"-",13.2,13.2,"-",13.2,"-",13.2,13.2,"-",13.2,13.2,13.2,"-",13.2,13.2,13.2,13.2,13.2,"-",13.2,"-",13.2,13.2,13.2,13.2,13.2,13.2,13.2,13.2,13.2,13.2,13.2,"-",13.2,13.2,13.2]
[null,"CATAMARCA",null,null,null,null,"EPEC DISTRIBUIDOR",16,"EPECORXD",null,299,"CEN - Cordoba - Oeste",299,"MOLINOS",13.2,33,"-",132,{"$f":"IF(OR(DATOS_QR!$F$8=2,DATOS_QR!$F$8=\"\"),\"\",T8)","v":""},19,"ALMIRANTE BROWN",13.2,"-","-",132,null,null,null,null,null,33,"-",33,33,"-","-","-","-","-","-","-","-","-","-","-","-","-","-","-","-","-",33,33,"-","-","-",33,"-","-","-","-","-","-",33,"-","-",33,"-","-","-",33,"-","-","-","-","-","-",33,33,33,33,33,33,33,33,33,33,33,33,33,"-","-","-","-","-","-","-","-","-","-","-","-","-","-","-",33,"-","-",33,33,33,33,33,33,"-",33,33,33,33,33,33,33,33,33,33,33,33,33,33,33,33,33,33,33,33,33,33,33,33,33,33,33,33,33,33,33,33,33,33,33,33,33,33,33,33,33,33,33,33,33,33,33,33,33,33,33,33,33,33,33,33,33,33,33,33,33,33,33,33,33,33,33,33,33,33,33,33,33,"-",33,33,33,"-",33,33,33,33,33,33,33,33,33,33,33,33,33,33,33,33,33,33,33,33,33,"-",33,33,33,33,33,33,33,33,33,"-",33,33,"-","-",33,"-","-","-","-",33,"-",33,33,33,"-",33,"-",33,33,33,33,"-",33,33,"-",33,33,"-",33,33,33,33,33,33,33,33,33,33,33,33,33,33,33,33,33,33,33,33,33,33,33,33,33,33,33,33,33,33,33,33,33,33,33,33,33,33,"-",33,"-",33,33,33,33,33,33,"-",33,33,33,33,33,33,33,"-",33,33,33,33,33,33,33,33,33,33,33,33,33,33,33]
[null,"CHACO",null,null,null,null,"APELP",17,"APELPALD",null,437,"CEN - Cordoba - Oeste",437,"REOLIN","-",33,66,132,{"$f":"IF(OR(DATOS_QR!$F$8=2,DATOS_QR!$F$8=\"\"),\"\",T9)","v":""},21,"AÑATUYA",13.2,33,"-",132,null,null,null,null,null,"-",66,"-",66,66,"-","-","-",66,66,"-","-",66,66,66,"-",66,66,"-",66,"-","-",66,"-",66,66,66,"-","-",66,66,66,"-","-",66,"-","-",66,66,66,"-","-","-","-","-",66,66,"-","-","-","-","-","-","-","-","-","-","-","-","-","-","-",66,66,66,66,66,66,66,66,66,66,66,66,66,66,66,66,"-","-","-","-","-","-","-","-","-","-","-","-","-","-","-","-","-","-","-","-","-","-","-","-","-","-","-","-","-","-","-","-","-","-","-","-","-","-","-","-","-","-","-","-","-","-","-","-","-","-","-","-","-","-","-","-","-","-","-","-","-","-","-","-","-","-","-","-","-","-","-","-","-","-","-","-","-","-","-","-","-","-","-","-","-","-","-","-","-","-","-","-","-","-","-","-","-","-","-","-","-","-","-","-","-","-","-","-","-","-","-","-","-","-","-","-","-","-",66,"-","-","-","-","-","-","-","-","-","-","-","-","-","-","-","-","-","-",66,66,66,"-",66,66,66,"-","-","-","-","-","-","-","-","-","-","-","-","-","-","-","-","-","-","-","-","-","-","-","-","-","-","-","-","-","-","-","-","-","-","-","-","-","-","-",66,"-","-","-","-","-","-","-","-","-","-","-","-","-","-","-","-",66,"-","-","-","-","-","-","-","-","-","-","-","-","-","-","-"]
[null,"CHUBUT",null,null,null,null,"DPE CORRIENTES",20,"DPCORRWD",null,5326,"CEN - Cordoba - Oeste",5326,"RIO GRANDE",13.2,"-",66,"-",{"$f":"IF(OR(DATOS_QR!$F$8=2,DATOS_QR!$F$8=\"\"),\"\",T10)","v":""},22,"ANCHORIS",13.2,"-",66,132,null,null,null,null,null,132,132,132,132,"-",132,132,132,132,"-",132,132,132,132,132,132,132,132,132,"-",132,132,132,132,132,"-","-",132,132,132,"-","-",132,132,132,132,132,132,"-","-",132,132,132,132,132,"-","-",132,132,132,132,132,132,132,132,132,132,132,132,132,132,132,132,"-","-","-","-","-",132,132,"-","-","-","-","-",132,132,132,132,132,132,132,132,132,132,132,132,132,132,132,132,132,132,132,132,132,132,132,132,132,132,132,132,132,132,132,132,132,132,132,132,132,132,132,132,132,132,"-",132,132,132,132,132,132,132,132,132,132,132,132,132,132,132,132,132,132,132,132,132,132,132,132,132,132,132,132,132,132,132,132,132,132,132,"-",132,"-","-",132,132,132,132,132,132,132,132,132,132,132,132,132,132,132,132,132,132,132,132,132,132,132,132,132,132,132,132,132,132,132,132,132,132,132,132,132,132,132,"-",132,132,132,132,"-","-","-","-","-","-","-",132,132,132,132,132,132,132,132,"-","-",132,132,"-","-",132,132,132,132,132,132,132,132,132,132,132,132,132,132,132,132,132,132,132,132,132,132,132,132,132,132,132,132,132,132,132,132,132,132,132,132,"-",132,132,132,132,132,132,132,132,132,132,132,132,132,132,132,132,132,"-",132,132,"-",132,132,132,132,132,132,132,132,132,132,"-",132,132,132]
[null,"CORDOBA",null,null,null,null,"EPEN DISTRIBUIDOR",25,"EPENEUQD",null,5141,"CEN - Cordoba - Punilla",5141,"S. A. ARREDONDO",13.2,"-","-",132,{"$f":"IF(OR(DATOS_QR!$F$8=2,DATOS_QR!$F$8=\"\"),\"\",T11)","v":""},26,"ARRECIFES",13.2,33,66,"-",null,null,null,null,null,{"$f":"DATOS_QR!G17","v":0}]
[null,"CORRIENTES",null,null,null,null,"SECHEEP",28,"SECHEPHD",null,190,"CEN - Cordoba - Punilla",190,"F. CAÑETE",13.2,"-","-",132,{"$f":"IF(OR(DATOS_QR!$F$8=2,DATOS_QR!$F$8=\"\"),\"\",T12)","v":""},29,"ARROYO CABRAL","-","-","-",132]
[null,"ENTRE RIOS",null,null,null,null,"EDELAP SA",34,"EDELAPID",null,1294,"CEN - Cordoba - Punilla",1294,"BIALET MASSE",13.2,"-","-",132,{"$f":"IF(OR(DATOS_QR!$F$8=2,DATOS_QR!$F$8=\"\"),\"\",T13)","v":""},30,"ARRUFO",13.2,33,"-",132,null,null,null,null,{"$f":"IF(OR(DATOS_QR!$F$8<>1,DATOS_QR!$G$17=\"\"),\"\",AG13)","v":""},{"$f":"HLOOKUP($AE$11,$AE$6:$LL$10,2,FALSE)","v":{"$error":"#N/A"}},{"$f":"MIN(AE13:AE16)","v":{"$error":"#N/A"}},{"$f":"AF13","v":{"$error":"#N/A"}}]
[null,"FORMOSA",null,null,null,null,"EDE TUCUMAN",35,"EDETUCTD",null,258,"CEN - Cordoba - Punilla",258,"LA FALDA",13.2,"-",66,132,{"$f":"IF(OR(DATOS_QR!$F$8=2,DATOS_QR!$F$8=\"\"),\"\",T14)","v":""},43,"BARILOCHE",13.2,33,"-",132,null,null,null,null,{"$f":"IF(OR(DATOS_QR!$F$8<>1,DATOS_QR!$G$17=\"\"),\"\",AG14)","v":""},{"$f":"HLOOKUP($AE$11,$AE$6:$LL$10,3,FALSE)","v":{"$error":"#N/A"}},{"$f":"MIN(IF(AE13:AE16>AF13,AE13:AE16,\"\"))","v":{"$error":"#N/A"}},{"$f":"IF(AF14=0,\"\",AF14)","v":{"$error":"#N/A"}}]
[null,"JUJUY",null,null,null,null,"EDESAL DISTRIBUIDOR",62,"EDESALDD",null,4601,"CEN - Cordoba - Punilla",4601,"CRUZ DEL EJE",13.2,"-",66,"-",{"$f":"IF(OR(DATOS_QR!$F$8=2,DATOS_QR!$F$8=\"\"),\"\",T15)","v":""},46,"BARRANQUERAS",13.2,33,"-",132,null,null,null,null,{"$f":"IF(OR(DATOS_QR!$F$8<>1,DATOS_QR!$G$17=\"\"),\"\",AG15)","v":""},{"$f":"HLOOKUP($AE$11,$AE$6:$LL$10,4,FALSE)","v":{"$error":"#N/A"}},{"$f":"IF(AF14=0,0,MIN(IF(AE13:AE16>AF14,AE13:AE16,\"\")))","v":{"$error":"#N/A"}},{"$f":"IF(AF15=0,\"\",AF15)","v":{"$error":"#N/A"}}]
[null,"LA PAMPA",null,null,null,null,"EPESF DISTRIBUIDOR",132,"EPESAFSD",null,308,"CEN - Cordoba - Punilla",308,"MALAGUEÑO",13.2,"-","-",132,{"$f":"IF(OR(DATOS_QR!$F$8=2,DATOS_QR!$F$8=\"\"),\"\",T16)","v":""},51,"BELEN",13.2,33,"-",132,null,null,null,null,{"$f":"IF(OR(DATOS_QR!$F$8<>1,DATOS_QR!$G$17=\"\"),\"\",AG16)","v":""},{"$f":"HLOOKUP($AE$11,$AE$6:$LL$10,5,FALSE)","v":{"$error":"#N/A"}},{"$f":"IF(AF15=0,0,MIN(IF(AE13:AE16>AF15,AE13:AE16,\"\")))","v":{"$error":"#N/A"}},{"$error":"#N/A"}]
[null,"LA RIOJA",null,null,null,null,"EMPRESA DIS. S. ESTERO SA",265,"EDESAEGD",null,572,"CEN - Cordoba - Punilla",572,"YOCSINA",13.2,"-","-",132,{"$f":"IF(OR(DATOS_QR!$F$8=2,DATOS_QR!$F$8=\"\"),\"\",T17)","v":""},52,"BELL VILLE",13.2,"-","-",132]
[null,"MENDOZA",null,null,null,null,"RECURSOS Y ENERGIA FORMOSA SA",343,"REFSAFPD",null,91,"CEN - Cordoba - Punilla",91,"CARLOS PAZ",13.2,"-",66,132,{"$f":"IF(OR(DATOS_QR!$F$8=2,DATOS_QR!$F$8=\"\"),\"\",T18)","v":""},53,"BELLA VISTA",13.2,33,"-",132]
[null,"MISIONES",null,null,null,null,"EMP. DE ENERGIA DE LA RIOJA SA",507,"EDELARFD",null,565,"CEN - Cordoba - Norte",565,"VILLA MARIA",13.2,"-",66,132,{"$f":"IF(OR(DATOS_QR!$F$8=2,DATOS_QR!$F$8=\"\"),\"\",T19)","v":""},61,"BURZACO",13.2,33,"-",132]
[null,"NEUQUEN",null,null,null,null,"ENERGIA SAN JUAN SA EX-EDESSA",837,"ESANJUJD",null,5313,"CEN - Cordoba - Norte",5313,"VILLA MARIA NORTE",13.2,"-",66,132,{"$f":"IF(OR(DATOS_QR!$F$8=2,DATOS_QR!$F$8=\"\"),\"\",T20)","v":""},64,"C. DEL URUGUAY",13.2,33,"-",132]
[null,"RIO NEGRO",null,null,null,null,"ENERGIA DE CATAMARCA S.A.",838,"EDECATKD",null,5453,"CEN - Cordoba - Norte",5453,"LAS VARILLAS",13.2,"-","-",132,{"$f":"IF(OR(DATOS_QR!$F$8=2,DATOS_QR!$F$8=\"\"),\"\",T21)","v":""},82,"CANADA DE GOMEZ",13.2,33,"-",132]
[null,"SALTA",null,null,null,null,"ENERGIA DE ENTRE RIOS SA",1053,"ENERSAED",null,475,"CEN - Cordoba - Norte",475,"SAN FRANCISCO",13.2,"-",66,132,{"$f":"IF(OR(DATOS_QR!$F$8=2,DATOS_QR!$F$8=\"\"),\"\",T22)","v":""},87,"CAPIZ",13.2,"-",66,132]
[null,"SAN JUAN",null,null,null,null,"EMP.DIST.ENERGIA DE SALTA",1157,"EDESASAD",null,5264,"CEN - Cordoba - Norte",5264,"AFISA",13.2,"-",66,132,{"$f":"IF(OR(DATOS_QR!$F$8=2,DATOS_QR!$F$8=\"\"),\"\",T23)","v":""},90,"CARLOS CASARES",13.2,33,66,"-"]
[null,"SAN LUIS",null,null,null,null,"EMP DE ENERGIA DE RIO NEGRO SA",1160,"EDERSARD",null,5294,"CEN - Cordoba - Norte",5294,"MORTEROS",13.2,"-","-",132,{"$f":"IF(OR(DATOS_QR!$F$8=2,DATOS_QR!$F$8=\"\"),\"\",T24)","v":""},91,"CARLOS PAZ",13.2,"-",66,132]
[null,"SANTA CRUZ",null,null,null,null,"EMP.ELECTRIC.DE MISIONES S.A.",1163,"EMISSAND",null,5321,"CEN - Cordoba - Norte",5321,"TIO PUJIO",13.2,"-",66,"-",{"$f":"IF(OR(DATOS_QR!$F$8=2,DATOS_QR!$F$8=\"\"),\"\",T25)","v":""},94,"CASILDA",13.2,33,"-",132]
[null,"SANTA FE",null,null,null,null,"DIST. ELECTRICA DE CAUCETE",1184,"DECSASJW",null,29,"CEN - Cordoba - Este",29,"ARROYO CABRAL","-","-","-",132,{"$f":"IF(OR(DATOS_QR!$F$8=2,DATOS_QR!$F$8=\"\"),\"\",T26)","v":""},97,"CASTELLI CHACO",13.2,33,"-",132]
[null,"SGO.DEL ESTERO",null,null,null,null,"EMPRESA JUJEÑA DE ENERGIA SA",1345,"EJUESAYD",null,5104,"CEN - Cordoba - Este",5104,"J. POSSE","-",33,"-",132,{"$f":"IF(OR(DATOS_QR!$F$8=2,DATOS_QR!$F$8=\"\"),\"\",T27)","v":""},99,"CATAMARCA",13.2,33,"-",132]
[null,"TUCUMAN",null,null,null,null,"EMP DIST ENERG NORTE",1373,"EDENBA1D",null,244,"CEN - Cordoba - Este",244,"ISLA VERDE",13.2,33,66,132,{"$f":"IF(OR(DATOS_QR!$F$8=2,DATOS_QR!$F$8=\"\"),\"\",T28)","v":""},101,"CAUCETE",13.2,33,"-",132]
[null,null,null,null,null,null,"EMP DIST ENERG SUR",1374,"EDESBA2D",null,52,"CEN - Cordoba - Este",52,"BELL VILLE",13.2,"-","-",132,{"$f":"IF(OR(DATOS_QR!$F$8=2,DATOS_QR!$F$8=\"\"),\"\",T29)","v":""},109,"CHACABUCO",13.2,33,"-",132]
[null,null,null,null,null,null,"EMP DIST ENERG ATLANTICA",1375,"EDEABA3D",null,284,"CEN - Cordoba - Este",284,"LEONES","-","-",66,132,{"$f":"IF(OR(DATOS_QR!$F$8=2,DATOS_QR!$F$8=\"\"),\"\",T30)","v":""},111,"CHAMICAL",13.2,33,"-",132]
[null,null,null,null,null,null,"COOP. CELTA - TRES ARROYOS",1628,"C3AR3A3W",null,1097,"CEN - Cordoba - Este",1097,"SAN MARCOS SUD",13.2,"-",66,"-",{"$f":"IF(OR(DATOS_QR!$F$8=2,DATOS_QR!$F$8=\"\"),\"\",T31)","v":""},112,"CHARATA",13.2,33,"-",132]
[null,null,null,null,null,null,"COOP. LUJAN BS. AS.",1764,"CLUJAN1W",null,243,"CEN - Cordoba - Este",243,"INRIVILLE","-",33,66,"-",{"$f":"IF(OR(DATOS_QR!$F$8=2,DATOS_QR!$F$8=\"\"),\"\",T32)","v":""},117,"CHIVILCOY",13.2,33,"-",132]
[null,null,null,null,null,null,"COOP. SALTO BS. AS.",1765,"CSALTO1W",null,5357,"CEN - Cordoba - Sur",5357,"ACHIRAS","-","-","-",132,{"$f":"IF(OR(DATOS_QR!$F$8=2,DATOS_QR!$F$8=\"\"),\"\",T33)","v":""},125,"CLORINDA",13.2,33,"-",132]
[null,null,null,null,null,null,"COOP. MNO. MORENO BS. AS.",1766,"CMOREN1W",null,582,"CEN - Cordoba - Sur",582,"MARANZANA II","-","-","-",132,{"$f":"IF(OR(DATOS_QR!$F$8=2,DATOS_QR!$F$8=\"\"),\"\",T34)","v":""},126,"CNEL. DORREGO",13.2,33,"-",132]
[null,null,null,null,null,null,"COOP. CNEL. DORREGO BS. AS.",1767,"CDORRE2W",null,214,"CEN - Cordoba - Sur",214,"GRAL. LEVALLE",13.2,"-",66,132,{"$f":"IF(OR(DATOS_QR!$F$8=2,DATOS_QR!$F$8=\"\"),\"\",T35)","v":""},141,"CORDOBA SUROESTE",13.2,"-","-",132]
[null,null,null,null,null,null,"COOP. PERGAMINO BS. AS.",1769,"CPERGA1W",null,5290,"CEN - Cordoba - Sur",5290,"ADELIA MARIA",13.2,"-",66,"-",{"$f":"IF(OR(DATOS_QR!$F$8=2,DATOS_QR!$F$8=\"\"),\"\",T36)","v":""},145,"CPTAN SARMIENTO",13.2,33,66,"-"]
[null,null,null,null,null,null,"COOP. OLAVARRIA BS. AS.",1770,"COLAVA3W",null,270,"CEN - Cordoba - Sur",270,"LABOULAYE",13.2,"-",66,"-",{"$f":"IF(OR(DATOS_QR!$F$8=2,DATOS_QR!$F$8=\"\"),\"\",T37)","v":""},146,"CRESPO-E.RIOS",13.2,33,"-",132]
[null,null,null,null,null,null,"COOP. AZUL BS. AS.",1771,"COAZUL3W",null,446,"CEN - Cordoba - Sur",446,"RIO CUARTO",13.2,"-","-",132,{"$f":"IF(OR(DATOS_QR!$F$8=2,DATOS_QR!$F$8=\"\"),\"\",T38)","v":""},148,"CRUZ DE PIEDRA",13.2,"-",66,132]
[null,null,null,null,null,null,"COOP. ZARATE BS. AS.",1772,"CZARAT1W",null,5272,"CEN - Cordoba - Sur",5272,"SANTA ELENA CBA","-",33,"-",132,{"$f":"IF(OR(DATOS_QR!$F$8=2,DATOS_QR!$F$8=\"\"),\"\",T39)","v":""},150,"CURUZU CUATIA",13.2,33,"-",132]
[null,null,null,null,null,null,"COOP. COLON BS. AS.",1773,"CCOLON1W",null,274,"CEN - Cordoba - Sur",274,"LAS FERIAS",13.2,"-",66,132,{"$f":"IF(OR(DATOS_QR!$F$8=2,DATOS_QR!$F$8=\"\"),\"\",T40)","v":""},159,"DIVISADEROS",13.2,33,"-",132]
[null,null,null,null,null,null,"COOP. GUALEGUAYCHU E.R.",1774,"CGUALEEW",null,277,"CEN - Cordoba - Sur",277,"LAS HIGUERAS",13.2,"-","-",132,{"$f":"IF(OR(DATOS_QR!$F$8=2,DATOS_QR!$F$8=\"\"),\"\",T41)","v":""},161,"DOLORES",13.2,33,"-",132]
[null,null,null,null,null,null,"COOP. TRENQUE LAUQUEN",1960,"CTRLAU1W",null,212,"CEN - Cordoba - Sur",212,"GRAL. DEHEZA","-",33,"-",132,{"$f":"IF(OR(DATOS_QR!$F$8=2,DATOS_QR!$F$8=\"\"),\"\",T42)","v":""},173,"EL DORADO",13.2,33,"-",132]
[null,null,null,null,null,null,"COOP. CHACABUCO",1961,"CCHACA1W",null,5301,"CEN - Cordoba - Sur",5301,"PROMAIZ",13.2,"-",66,132,{"$f":"IF(OR(DATOS_QR!$F$8=2,DATOS_QR!$F$8=\"\"),\"\",T43)","v":""},174,"EL PINGO",13.2,33,"-",132]
[null,null,null,null,null,null,"COOP. DE E LAS FLORES",1963,"CLFLOR3W",null,5143,"CEN - Cordoba - Sur",5143,"ALEJANDRO ROCA",13.2,"-",66,"-",{"$f":"IF(OR(DATOS_QR!$F$8=2,DATOS_QR!$F$8=\"\"),\"\",T44)","v":""},183,"ESPERANZA",13.2,33,"-",132]
[null,null,null,null,null,null,"COOP. CASTELLI",1965,"CCASTE3W",null,1098,"CEN - Cordoba - Sur",1098,"LA CARLOTA",13.2,"-",66,"-",{"$f":"IF(OR(DATOS_QR!$F$8=2,DATOS_QR!$F$8=\"\"),\"\",T45)","v":""},184,"ESQUINA",13.2,33,"-",132]
[null,null,null,null,null,null,"COOP. SAN PEDRO",1966,"CSPEDR1W",null,631,"CEN - Cordoba - Sur",631,"TANCACHA","-",33,"-",132,{"$f":"IF(OR(DATOS_QR!$F$8=2,DATOS_QR!$F$8=\"\"),\"\",T46)","v":""},190,"F. CAÑETE",13.2,"-","-",132]
[null,null,null,null,null,null,"COOP. ELECT PRINGLES",2127,"CPRING2W",null,4989,"CEN - Cordoba - Sur",4989,"13 DE JULIO","-","-","-",132,{"$f":"IF(OR(DATOS_QR!$F$8=2,DATOS_QR!$F$8=\"\"),\"\",T47)","v":""},193,"FERNANDEZ",13.2,33,"-",132]
[null,null,null,null,null,null,"COOP. RAMALLO",2128,"CRAMAL1W",null,141,"CEN - Cordoba - Centro",141,"CORDOBA SUROESTE",13.2,"-","-",132,{"$f":"IF(OR(DATOS_QR!$F$8=2,DATOS_QR!$F$8=\"\"),\"\",T48)","v":""},196,"FIRMAT",13.2,33,"-",132]
[null,null,null,null,null,null,"ENERGIA DE MENDOZA SA",2134,"EDEMSAMD",null,427,"CEN - Cordoba - Centro",427,"R. DEL BUSTO",13.2,"-","-",132,{"$f":"IF(OR(DATOS_QR!$F$8=2,DATOS_QR!$F$8=\"\"),\"\",T49)","v":""},201,"FORMOSA I",13.2,33,"-",132]
[null,null,null,null,null,null,"COOP.DE SAN ANTONIO DE ARECO",2830,"CARECO1W",null,2333,"CEN - Cordoba - Centro",2333,"GUINAZU",13.2,"-","-",132,{"$f":"IF(OR(DATOS_QR!$F$8=2,DATOS_QR!$F$8=\"\"),\"\",T50)","v":""},202,"FRIAS (*)",13.2,33,"-",132]
[null,null,null,null,null,null,"COOPERATIVA DE LEZAMA",2895,"CLEZAM3W",null,5273,"CEN - Cordoba - Centro",5273,"V.DE MARIA SECO",13.2,"-",66,"-",{"$f":"IF(OR(DATOS_QR!$F$8=2,DATOS_QR!$F$8=\"\"),\"\",T51)","v":""},204,"INDEPENDENCIA (*)",13.2,33,"-",132]
[null,null,null,null,null,null,"COOPERATIVA DE PIGUE-DISTRIB.",2990,"CPIGUE2W",null,1135,"CEN - Cordoba - Centro",1135,"VILLA ROSARIO",13.2,"-",66,"-",{"$f":"IF(OR(DATOS_QR!$F$8=2,DATOS_QR!$F$8=\"\"),\"\",T52)","v":""},205,"GENERAL PICO",13.2,33,"-",132]
[null,null,null,null,null,null,"COOP. VILLA GESELL",3034,"CEVIGE3W",null,5205,"CEN - San Luis - Norte",5205,"MERLO SAN LUIS",13.2,33,"-",132,{"$f":"IF(OR(DATOS_QR!$F$8=2,DATOS_QR!$F$8=\"\"),\"\",T53)","v":""},209,"GOYA",13.2,33,"-",132]
[null,null,null,null,null,null,"COOPERATIVA DE PUAN LTDA.",3035,"CSPUAN2W",null,507,"CEN - San Luis - Norte",507,"SANTA ROSA S.LUIS",13.2,33,"-",132,{"$f":"IF(OR(DATOS_QR!$F$8=2,DATOS_QR!$F$8=\"\"),\"\",T54)","v":""},210,"GENERAL ALVEAR",13.2,"-",66,132]
[null,null,null,null,null,null,"COOPERATIVA ELEC. DE RIVADAVIA",3036,"CRIVAD1W",null,5206,"CEN - San Luis - Norte",5206,"TILISARAO S. LUIS",13.2,33,"-",132,{"$f":"IF(OR(DATOS_QR!$F$8=2,DATOS_QR!$F$8=\"\"),\"\",T55)","v":""},212,"GRAL. DEHEZA","-",33,"-",132]
[null,null,null,null,null,null,"COOPER.ELEC.GODOY CRUZ DISTRIB",3064,"CGCRUZMW",null,268,"CEN - San Luis - Norte",268,"LA TOMA",13.2,33,"-",132,{"$f":"IF(OR(DATOS_QR!$F$8=2,DATOS_QR!$F$8=\"\"),\"\",T56)","v":""},213,"GRAL. LAGOS",13.2,33,"-",132]
[null,null,null,null,null,null,"USINA POPULAR DE TANDIL-DISTR.",3124,"TANDIL3W",null,487,"CEN - San Luis - Centro",487,"SAN LUIS",13.2,33,"-",132,{"$f":"IF(OR(DATOS_QR!$F$8=2,DATOS_QR!$F$8=\"\"),\"\",T57)","v":""},214,"GRAL. LEVALLE",13.2,"-",66,132]
[null,null,null,null,null,null,"COOP.DE LUZ Y F.DE ROJAS",3132,"CROJAS1W",null,303,"CEN - San Luis - Centro",303,"LUJAN",13.2,33,"-",132,{"$f":"IF(OR(DATOS_QR!$F$8=2,DATOS_QR!$F$8=\"\"),\"\",T58)","v":""},221,"GUALEGUAY",13.2,33,"-",132]
[null,null,null,null,null,null,"EDESTESA(EMP.DIST.EL.DEL ESTE)",3138,"EDESTEMD",null,4980,"CEN - San Luis - Centro",4980,"LA CUMBRE",13.2,33,"-",132,{"$f":"IF(OR(DATOS_QR!$F$8=2,DATOS_QR!$F$8=\"\"),\"\",T59)","v":""},225,"GUEMES",13.2,33,"-",132]
[null,null,null,null,null,null,"COOPERATIVA DE NECOCHEA",3424,"CNECNE3W",null,5204,"CEN - San Luis - Centro",5204,"SAN LUIS CENTRO",13.2,33,"-",132,{"$f":"IF(OR(DATOS_QR!$F$8=2,DATOS_QR!$F$8=\"\"),\"\",T60)","v":""},237,"I.M.S.A.",13.2,33,"-",132]
[null,null,null,null,null,null,"COOPERATIVA DE BARKER",3427,"CBARKE3W",null,5043,"CEN - San Luis - Centro",5043,"LA CANDELARIA S.LUIS",13.2,33,"-",132,{"$f":"IF(OR(DATOS_QR!$F$8=2,DATOS_QR!$F$8=\"\"),\"\",T61)","v":""},238,"IGUAZU",13.2,33,"-",132]
[null,null,null,null,null,null,"COOPERATIVA SALADILLO",3595,"CSALAD1W",null,3973,"CEN - San Luis - Centro",3973,"P.INDUST.S.LUIS",13.2,33,"-",132,{"$f":"IF(OR(DATOS_QR!$F$8=2,DATOS_QR!$F$8=\"\"),\"\",T62)","v":""},243,"INRIVILLE","-",33,66,"-"]
[null,null,null,null,null,null,"CEOS CONCORDIA",3603,"CEOSCOEW",null,3953,"CEN - San Luis - Este",3953,"V. MERCEDES SUR",13.2,33,"-",132,{"$f":"IF(OR(DATOS_QR!$F$8=2,DATOS_QR!$F$8=\"\"),\"\",T63)","v":""},244,"ISLA VERDE",13.2,33,66,132]
[null,null,null,null,null,null,"COOP PUNTA ALTA",4023,"CPUNTA2W",null,566,"CEN - San Luis - Este",566,"VILLA MERCEDES",13.2,33,"-",132,{"$f":"IF(OR(DATOS_QR!$F$8=2,DATOS_QR!$F$8=\"\"),\"\",T64)","v":""},248,"J.V. GONZALES",13.2,33,"-",132]
[null,null,null,null,null,null,"COOPERATIVA MONTE",4426,"CMONTE1W",null,4947,"CEN - San Luis - Este",4947,"ENCADENADAS",13.2,33,"-",132,{"$f":"IF(OR(DATOS_QR!$F$8=2,DATOS_QR!$F$8=\"\"),\"\",T65)","v":""},252,"JUJUY SUR",13.2,33,"-",132]
[null,null,null,null,null,null,"COOP. DE ELECTR. DE RANCHOS",4442,"CRANCH3W",null,364,"CUYO - MENDOZA - CRUZ DE PIEDRA",364,"P.I.P.",13.2,"-","-",132,{"$f":"IF(OR(DATOS_QR!$F$8=2,DATOS_QR!$F$8=\"\"),\"\",T66)","v":""},253,"JUNIN",13.2,33,"-",132]
[null,null,null,null,null,null,"CALF NEUQUEN DISTRIBUIDOR",5420,"CALFAVQW",null,452,"CUYO - MENDOZA - CRUZ DE PIEDRA",452,"RODEO DE LA CRUZ",13.2,"-","-",132,{"$f":"IF(OR(DATOS_QR!$F$8=2,DATOS_QR!$F$8=\"\"),\"\",T67)","v":""},255,"LA BANDA (*)",13.2,33,"-",132]
[null,null,null,null,null,null,"CESOP LTDA SAN BERNARDO",6203,"CSBERN3W",null,148,"CUYO - MENDOZA - CRUZ DE PIEDRA",148,"CRUZ DE PIEDRA",13.2,"-",66,132,{"$f":"IF(OR(DATOS_QR!$F$8=2,DATOS_QR!$F$8=\"\"),\"\",T68)","v":""},258,"LA FALDA",13.2,"-",66,132]
[null,null,null,null,null,null,"SPSE SANTA CRUZ",7093,"SPSECRZD",null,5492,"CUYO - MENDOZA - CRUZ DE PIEDRA",5492,"AGRELO",13.2,"-",66,"-",{"$f":"IF(OR(DATOS_QR!$F$8=2,DATOS_QR!$F$8=\"\"),\"\",T69)","v":""},266,"LA RIOJA NORTE (*)",13.2,33,"-",132]
[null,null,null,null,null,null,"COOP. ELECTRICA DE GAIMAN",7097,"CGAIMAUW",null,50000,"CUYO - MENDOZA - BAJO RÍO TUNUYÁN",50000,"LA PAZ",13.2,"-",66,"-",{"$f":"IF(OR(DATOS_QR!$F$8=2,DATOS_QR!$F$8=\"\"),\"\",T70)","v":""},268,"LA TOMA",13.2,33,"-",132]
[null,null,null,null,null,null,"COOP. SERVICIOS DE RAWSON",7098,"CRAWSOUW",null,50001,"CUYO - MENDOZA - BAJO RÍO TUNUYÁN",50001,"LAS CATITAS",13.2,"-",66,"-",{"$f":"IF(OR(DATOS_QR!$F$8=2,DATOS_QR!$F$8=\"\"),\"\",T71)","v":""},269,"LA VIÑA",13.2,"-",66,132]
[null,null,null,null,null,null,"COOP. TRELEW",7101,"CTRELEUW",null,50002,"CUYO - MENDOZA - BAJO RÍO TUNUYÁN",50002,"SANTA ROSA",13.2,"-",66,"-",{"$f":"IF(OR(DATOS_QR!$F$8=2,DATOS_QR!$F$8=\"\"),\"\",T72)","v":""},270,"LABOULAYE",13.2,"-",66,"-"]
[null,null,null,null,null,null,"COOP. PUERTO MADRYN",7104,"CMADRYUW",null,546,"CUYO - MENDOZA - BAJO RÍO TUNUYÁN",546,"BAJO RÍO TUNUYAN",13.2,"-",66,"-",{"$f":"IF(OR(DATOS_QR!$F$8=2,DATOS_QR!$F$8=\"\"),\"\",T73)","v":""},274,"LAS FERIAS",13.2,"-",66,132]
[null,null,null,null,null,null,"COOP. 16 DE OCTUBRE",7105,"C16OCTUW",null,22,"CUYO - MENDOZA - CENTRO",22,"ANCHORIS",13.2,"-",66,132,{"$f":"IF(OR(DATOS_QR!$F$8=2,DATOS_QR!$F$8=\"\"),\"\",T74)","v":""},277,"LAS HIGUERAS",13.2,"-","-",132]
[null,null,null,null,null,null,"COOP.COMODORO RIVADAVIA",7113,"CCOMODUW",null,87,"CUYO - MENDOZA - CENTRO",87,"CAPIZ",13.2,"-",66,132,{"$f":"IF(OR(DATOS_QR!$F$8=2,DATOS_QR!$F$8=\"\"),\"\",T75)","v":""},279,"LAS MADERAS",13.2,33,"-",132]
[null,null,null,null,null,null,"COOP. MUNIC PICO TRUNCADO",7121,"MUPITRZW",null,4253,"CUYO - MENDOZA - CENTRO",4253,"ZAPATA",13.2,"-",66,"-",{"$f":"IF(OR(DATOS_QR!$F$8=2,DATOS_QR!$F$8=\"\"),\"\",T76)","v":""},280,"LAS ROSAS",13.2,33,"-",132]
[null,null,null,null,null,null,"COOP.ELECT.DE BARILOCHE",7248,"CBARILRW",null,5493,"CUYO - MENDOZA - CENTRO",5493,"UGARTECHE",13.2,"-",66,"-",{"$f":"IF(OR(DATOS_QR!$F$8=2,DATOS_QR!$F$8=\"\"),\"\",T77)","v":""},284,"LEONES","-","-",66,132]
[null,null,null,null,null,null,"DGSP Chubut",7432,"DGSPCHUD",null,304,"CUYO - MENDOZA - ESTE",304,"MONTECASEROS",13.2,"-",66,"-",{"$f":"IF(OR(DATOS_QR!$F$8=2,DATOS_QR!$F$8=\"\"),\"\",T78)","v":""},287,"LIBERTADOR",13.2,33,"-",132]
[null,null,null,null,null,null,"C.ELECT.MONTE HERMOSO LTDA.",17382,"CMHERM2W",null,4921,"CUYO - MENDOZA - ESTE",4921,"LAMBARÉ",13.2,"-",66,"-",{"$f":"IF(OR(DATOS_QR!$F$8=2,DATOS_QR!$F$8=\"\"),\"\",T79)","v":""},294,"LINCOLN",13.2,33,"-",132]
[null,null,null,null,null,null,"Coop. Prov. S.P. de SARMIENTO",18623,"CPSARMUW",null,4920,"CUYO - MENDOZA - ESTE",4920,"EL MARCADO",13.2,"-",66,"-",{"$f":"IF(OR(DATOS_QR!$F$8=2,DATOS_QR!$F$8=\"\"),\"\",T80)","v":""},296,"LOBOS","-",33,66,"-"]
[null,null,null,null,null,null,"Cooperativa de BRANDSEN",20578,"CBRANDIW",null,498,"CUYO - MENDOZA - SUR",498,"SAN RAFAEL",13.2,33,66,132,{"$f":"IF(OR(DATOS_QR!$F$8=2,DATOS_QR!$F$8=\"\"),\"\",T81)","v":""},299,"MOLINOS",13.2,33,"-",132]
[null,null,null,null,null,null,"DISTRO CUYO S.A.",266,"DISTROCT",null,385,"CUYO - MENDOZA - SUR",385,"PEDRO VARGAS",13.2,"-",66,132,{"$f":"IF(OR(DATOS_QR!$F$8=2,DATOS_QR!$F$8=\"\"),\"\",T82)","v":""},301,"LUJAN- GBA",13.2,33,66,132]
[null,null,null,null,null,null,"DISTROCOMAHUE-NEUQUEN",218,"TREPENCT",null,210,"CUYO - MENDOZA - SUR",210,"GENERAL ALVEAR",13.2,"-",66,132,{"$f":"IF(OR(DATOS_QR!$F$8=2,DATOS_QR!$F$8=\"\"),\"\",T83)","v":""},303,"LUJAN",13.2,33,"-",132]
[null,null,null,null,null,null,"DISTROCOMAHUE-RIO NEGRO",219,"TRERSACT",null,5257,"CUYO - MENDOZA - SUR",5257,"P.ROJAS","-",33,"-",132,{"$f":"IF(OR(DATOS_QR!$F$8=2,DATOS_QR!$F$8=\"\"),\"\",T84)","v":""},304,"MONTECASEROS",13.2,"-",66,"-"]
[null,null,null,null,null,null,"TRANSBA SA",1185,"TRANSBAT",null,309,"CUYO - MENDOZA - SUR",309,"MALARGÜE",13.2,33,"-",132,{"$f":"IF(OR(DATOS_QR!$F$8=2,DATOS_QR!$F$8=\"\"),\"\",T85)","v":""},308,"MALAGUEÑO",13.2,"-","-",132]
[null,null,null,null,null,null,"TRANSNEA S.A.",229,"TRANNEAT",null,5037,"CUYO - SAN JUAN",5037,"ISCHIGUALASTO",13.2,33,"-",132,{"$f":"IF(OR(DATOS_QR!$F$8=2,DATOS_QR!$F$8=\"\"),\"\",T86)","v":""},309,"MALARGÜE",13.2,33,"-",132]
[null,null,null,null,null,null,"TRANSNOA S.A.",64,"TRANNOAT",null,5007,"CUYO - SAN JUAN",5007,"CALINGASTA NUEVA",13.2,33,"-",132,{"$f":"IF(OR(DATOS_QR!$F$8=2,DATOS_QR!$F$8=\"\"),\"\",T87)","v":""},312,"MALVINAS-BS.AS.",13.2,33,"-",132]
[null,"TECNOLOGIA",null,null,null,null,"TRANSPA S.A.",7103,"TRANSPAT",null,5374,"CUYO - SAN JUAN",5374,"SOLAR ULLUM","-",33,"-",132,{"$f":"IF(OR(DATOS_QR!$F$8=2,DATOS_QR!$F$8=\"\"),\"\",T88)","v":""},316,"MAR DEL TUYU",13.2,"-","-","-"]
[null,null,null,null,null,null,"TRANSENER S.A.",13,"TRANSENE",null,101,"CUYO - SAN JUAN",101,"CAUCETE",13.2,33,"-",132,{"$f":"IF(OR(DATOS_QR!$F$8=2,DATOS_QR!$F$8=\"\"),\"\",T89)","v":""},317,"MARIA JUANA",13.2,33,"-",132]
[null,"BG - BioGas",null,null,{"$f":"IF(DATOS_QR!$F$8=\"\",\"\",B91)","v":""},null,null,null,null,null,476,"NEA - Misiones - Sur",476,"SAN ISIDRO","-","-","-",132,{"$f":"IF(OR(DATOS_QR!$F$8=2,DATOS_QR!$F$8=\"\"),\"\",T90)","v":""},320,"MEDANITO","-",33,"-",132]
[null,"BM - BioMasa",null,null,{"$f":"IF(DATOS_QR!$F$8=1,DATOS!B95,IF(DATOS_QR!$F$8=2,DATOS!B90,\"\"))","v":""},null,null,null,null,null,409,"NEA - Misiones - Sur",409,"POSADAS",13.2,33,"-",132,{"$f":"IF(OR(DATOS_QR!$F$8=2,DATOS_QR!$F$8=\"\"),\"\",T91)","v":""},321,"MERCEDES BS.AS.",13.2,33,"-",132]
[null,"BRS - BioGas de Relleno Sanitario",null,null,{"$f":"IF(DATOS_QR!$F$8=1,DATOS!B96,IF(DATOS_QR!$F$8=2,B92,\"\"))","v":""},null,null,null,null,null,1438,"NEA - Misiones - Sur",1438,"POSADAS CENTRO",13.2,33,"-",132,{"$f":"IF(OR(DATOS_QR!$F$8=2,DATOS_QR!$F$8=\"\"),\"\",T92)","v":""},323,"MERCEDES DPEC",13.2,33,"-",132]
[null,"EOLA - Eólica con Almacenamiento",null,null,{"$f":"IF(DATOS_QR!$F$8=1,B93,IF(DATOS_QR!$F$8=2,B94,\"\"))","v":""},null,null,null,null,null,5198,"NEA - Misiones - Sur",5198,"ITAEMBE MINI",13.2,33,"-",132,{"$f":"IF(OR(DATOS_QR!$F$8=2,DATOS_QR!$F$8=\"\"),\"\",T93)","v":""},325,"MERLO",13.2,"-","-",132]
[null,"PAH - Pequeño Aprovechamiento Hidráulico",null,null,null,null,null,null,null,null,450,"NEA - Misiones - Norte",450,"ROCA - MISIONES",13.2,33,"-",132,{"$f":"IF(OR(DATOS_QR!$F$8=2,DATOS_QR!$F$8=\"\"),\"\",T94)","v":""},330,"MIRAMAR",13.2,33,"-",132]
[null,"SFV - Solar Fotovoltaico",null,null,null,null,null,null,null,null,5404,"NEA - Misiones - Norte",5404,"OBERA II",13.2,33,"-",132,{"$f":"IF(OR(DATOS_QR!$F$8=2,DATOS_QR!$F$8=\"\"),\"\",T95)","v":""},339,"NECOCHEA",13.2,"-","-",132]
[null,"SFVA - Solar Fotovoltaico con Almacenamiento",null,null,null,null,null,null,null,null,353,"NEA - Misiones - Norte",353,"OBERA",13.2,33,"-",132,{"$f":"IF(OR(DATOS_QR!$F$8=2,DATOS_QR!$F$8=\"\"),\"\",T96)","v":""},347,"NONOGASTA","-","-",66,132]
[null,null,null,null,null,null,null,null,null,null,366,"NEA - Misiones - Norte",366,"P.MINERAL",13.2,33,"-",132,{"$f":"IF(OR(DATOS_QR!$F$8=2,DATOS_QR!$F$8=\"\"),\"\",T97)","v":""},348,"NORTE II",13.2,33,"-",132]
[null,"RENGLÓN",null,null,null,null,null,null,null,null,1436,"NEA - Misiones - Norte",1436,"A. DEL VALLE",13.2,33,"-",132,{"$f":"IF(OR(DATOS_QR!$F$8=2,DATOS_QR!$F$8=\"\"),\"\",T98)","v":""},353,"OBERA",13.2,33,"-",132]
[null,null,null,null,null,null,null,null,null,null,1437,"NEA - Misiones - Norte",1437,"SAN VICENTE",13.2,33,"-",132,{"$f":"IF(OR(DATOS_QR!$F$8=2,DATOS_QR!$F$8=\"\"),\"\",T99)","v":""},355,"OLAVARRIA VIEJA",13.2,33,"-",132]
[null,1,null,null,null,null,null,null,null,null,173,"NEA - Misiones - Norte",173,"EL DORADO",13.2,33,"-",132,{"$f":"IF(OR(DATOS_QR!$F$8=2,DATOS_QR!$F$8=\"\"),\"\",T100)","v":""},357,"ORAN",13.2,33,"-",132]
[null,2,null,null,null,null,null,null,null,null,4653,"NEA - Misiones - Norte",4653,"WANDA",13.2,33,"-",132,{"$f":"IF(OR(DATOS_QR!$F$8=2,DATOS_QR!$F$8=\"\"),\"\",T101)","v":""},363,"P.DE LOS LIBRES",13.2,33,"-",132]
[null,null,null,null,null,null,null,null,null,null,238,"NEA - Misiones - Norte",238,"IGUAZU",13.2,33,"-",132,{"$f":"IF(OR(DATOS_QR!$F$8=2,DATOS_QR!$F$8=\"\"),\"\",T102)","v":""},364,"P.I.P.",13.2,"-","-",132]
[null,null,null,null,null,null,null,null,null,null,463,"NEA - Corrientes - Parana Norte",463,"S.CATALINA CTES",13.2,33,"-",132,{"$f":"IF(OR(DATOS_QR!$F$8=2,DATOS_QR!$F$8=\"\"),\"\",T103)","v":""},366,"P.MINERAL",13.2,33,"-",132]
[null,null,null,null,null,null,null,null,null,null,5062,"NEA - Corrientes - Parana Norte",5062,"COLONIA BRUGNE",13.2,33,"-",132,{"$f":"IF(OR(DATOS_QR!$F$8=2,DATOS_QR!$F$8=\"\"),\"\",T104)","v":""},378,"PATQUIA",13.2,33,"-",132]
[null,null,null,null,null,null,null,null,null,null,53,"NEA - Corrientes - Parana Norte",53,"BELLA VISTA",13.2,33,"-",132,{"$f":"IF(OR(DATOS_QR!$F$8=2,DATOS_QR!$F$8=\"\"),\"\",T105)","v":""},385,"PEDRO VARGAS",13.2,"-",66,132]
[null,null,null,null,null,null,null,null,null,null,5471,"NEA - Corrientes - Parana Norte",5471,"PIRAYU",13.2,33,"-",132,{"$f":"IF(OR(DATOS_QR!$F$8=2,DATOS_QR!$F$8=\"\"),\"\",T106)","v":""},388,"PERGAMINO",13.2,33,"-",132]
[null,null,null,null,null,null,null,null,null,null,1053,"NEA - Corrientes - Este",1053,"ITA IBATE",13.2,33,"-",132,{"$f":"IF(OR(DATOS_QR!$F$8=2,DATOS_QR!$F$8=\"\"),\"\",T107)","v":""},395,"PICHANAL",13.2,33,"-",132]
[null,null,null,null,null,null,null,null,null,null,5534,"NEA - Corrientes - Este",5534,"P. I. ITUZAINGO",13.2,33,"-",132,{"$f":"IF(OR(DATOS_QR!$F$8=2,DATOS_QR!$F$8=\"\"),\"\",T108)","v":""},401,"PILCANIYEU",13.2,33,"-",132]
[null,null,null,null,null,null,null,null,null,null,5468,"NEA - Corrientes - Este",5468,"ITUZAINGO NORTE",13.2,33,"-",132,{"$f":"IF(OR(DATOS_QR!$F$8=2,DATOS_QR!$F$8=\"\"),\"\",T109)","v":""},402,"PINAMAR",13.2,"-","-","-"]
[null,null,null,null,null,null,null,null,null,null,1394,"NEA - Corrientes - Este",1394,"VIRASORO",13.2,33,"-",132,{"$f":"IF(OR(DATOS_QR!$F$8=2,DATOS_QR!$F$8=\"\"),\"\",T110)","v":""},404,"PIRANE",13.2,33,"-",132]
[null,null,null,null,null,null,null,null,null,null,1393,"NEA - Corrientes - Este",1393,"SANTO TOME CORR",13.2,33,"-",132,{"$f":"IF(OR(DATOS_QR!$F$8=2,DATOS_QR!$F$8=\"\"),\"\",T111)","v":""},405,"PLAYA PLANICIE BANDERITA",13.2,33,"-",132]
[null,null,null,null,null,null,null,null,null,null,1434,"NEA - Corrientes - Uruguay",1434,"LA CRUZ",13.2,33,"-",132,{"$f":"IF(OR(DATOS_QR!$F$8=2,DATOS_QR!$F$8=\"\"),\"\",T112)","v":""},409,"POSADAS",13.2,33,"-",132]
[null,null,null,null,null,null,null,null,null,null,5454,"NEA - Corrientes - Uruguay",5454,"YAPEYU",13.2,33,"-",132,{"$f":"IF(OR(DATOS_QR!$F$8=2,DATOS_QR!$F$8=\"\"),\"\",T113)","v":""},415,"PTE. DE LA PLAZA",13.2,33,"-",132]
[null,null,null,null,null,null,null,null,null,null,363,"NEA - Corrientes - Uruguay",363,"P.DE LOS LIBRES",13.2,33,"-",132,{"$f":"IF(OR(DATOS_QR!$F$8=2,DATOS_QR!$F$8=\"\"),\"\",T114)","v":""},427,"R. DEL BUSTO",13.2,"-","-",132]
[null,null,null,null,null,null,null,null,null,null,5188,"NEA - Corrientes - Uruguay",5188,"P. LIBRES NORTE",13.2,33,"-",132,{"$f":"IF(OR(DATOS_QR!$F$8=2,DATOS_QR!$F$8=\"\"),\"\",T115)","v":""},428,"RAFAELA OESTE",13.2,33,"-",132]
[null,null,null,null,null,null,null,null,null,null,323,"NEA - Corrientes - Centro",323,"MERCEDES DPEC",13.2,33,"-",132,{"$f":"IF(OR(DATOS_QR!$F$8=2,DATOS_QR!$F$8=\"\"),\"\",T116)","v":""},432,"REALICO",13.2,33,"-",132]
[null,null,null,null,null,null,null,null,null,null,150,"NEA - Corrientes - Centro",150,"CURUZU CUATIA",13.2,33,"-",132,{"$f":"IF(OR(DATOS_QR!$F$8=2,DATOS_QR!$F$8=\"\"),\"\",T117)","v":""},434,"RECONQUISTA S.FE",13.2,33,"-",132]
[null,null,null,null,null,null,null,null,null,null,5458,"NEA - Corrientes - Centro",5458,"PASO TALA",13.2,33,"-",132,{"$f":"IF(OR(DATOS_QR!$F$8=2,DATOS_QR!$F$8=\"\"),\"\",T118)","v":""},435,"RECREO",13.2,33,"-",132]
[null,null,null,null,null,null,null,null,null,null,5429,"NEA - Corrientes - Parana Sur",5429,"GOYA OESTE",13.2,33,"-",132,{"$f":"IF(OR(DATOS_QR!$F$8=2,DATOS_QR!$F$8=\"\"),\"\",T119)","v":""},437,"REOLIN","-",33,66,132]
[null,null,null,null,null,null,null,null,null,null,209,"NEA - Corrientes - Parana Sur",209,"GOYA",13.2,33,"-",132,{"$f":"IF(OR(DATOS_QR!$F$8=2,DATOS_QR!$F$8=\"\"),\"\",T120)","v":""},446,"RIO CUARTO",13.2,"-","-",132]
[null,null,null,null,null,null,null,null,null,null,5505,"NEA - Corrientes - Parana Sur",5505,"STELLA MARIS",13.2,33,"-",132,{"$f":"IF(OR(DATOS_QR!$F$8=2,DATOS_QR!$F$8=\"\"),\"\",T121)","v":""},448,"RIO HONDO",13.2,33,"-",132]
[null,null,null,null,null,null,null,null,null,null,184,"NEA - Corrientes - Parana Sur",184,"ESQUINA",13.2,33,"-",132,{"$f":"IF(OR(DATOS_QR!$F$8=2,DATOS_QR!$F$8=\"\"),\"\",T122)","v":""},450,"ROCA - MISIONES",13.2,33,"-",132]
[null,null,null,null,null,null,null,null,null,null,4964,"NEA - Chaco Oeste A",4964,"NUEVA POMPEYA","-",33,"-","-",{"$f":"IF(OR(DATOS_QR!$F$8=2,DATOS_QR!$F$8=\"\"),\"\",T123)","v":""},452,"RODEO DE LA CRUZ",13.2,"-","-",132]
[null,null,null,null,null,null,null,null,null,null,4573,"NEA - Chaco - Resistencia",4573,"CD5-CHACO",13.2,33,"-",132,{"$f":"IF(OR(DATOS_QR!$F$8=2,DATOS_QR!$F$8=\"\"),\"\",T124)","v":""},454,"ROJAS",13.2,33,"-",132]
[null,null,null,null,null,null,null,null,null,null,5078,"NEA - Chaco - Resistencia",5078,"LA LEONESA",13.2,33,"-",132,{"$f":"IF(OR(DATOS_QR!$F$8=2,DATOS_QR!$F$8=\"\"),\"\",T125)","v":""},456,"ROQUE SAENZ PENA",13.2,33,"-",132]
[null,null,null,null,null,null,null,null,null,null,46,"NEA - Chaco - Resistencia",46,"BARRANQUERAS",13.2,33,"-",132,{"$f":"IF(OR(DATOS_QR!$F$8=2,DATOS_QR!$F$8=\"\"),\"\",T126)","v":""},461,"RUFINO",13.2,33,"-",132]
[null,null,null,null,null,null,null,null,null,null,5081,"NEA - Chaco - Resistencia",5081,"PUERTO VILELAS",13.2,33,"-",132,{"$f":"IF(OR(DATOS_QR!$F$8=2,DATOS_QR!$F$8=\"\"),\"\",T127)","v":""},463,"S.CATALINA CTES",13.2,33,"-",132]
[null,null,null,null,null,null,null,null,null,null,5054,"NEA - Chaco - Bermejo",5054,"LA ESCONDIDA",13.2,33,"-",132,{"$f":"IF(OR(DATOS_QR!$F$8=2,DATOS_QR!$F$8=\"\"),\"\",T128)","v":""},466,"SALADILLO S.FE",13.2,33,"-",132]
[null,null,null,null,null,null,null,null,null,null,415,"NEA - Chaco - Bermejo",415,"PTE. DE LA PLAZA",13.2,33,"-",132,{"$f":"IF(OR(DATOS_QR!$F$8=2,DATOS_QR!$F$8=\"\"),\"\",T129)","v":""},470,"SALTO BS.AS.","-","-","-",132]
[null,null,null,null,null,null,null,null,null,null,489,"NEA - Chaco - Bermejo",489,"SAN MARTIN CHACO",13.2,33,"-",132,{"$f":"IF(OR(DATOS_QR!$F$8=2,DATOS_QR!$F$8=\"\"),\"\",T130)","v":""},473,"SAN CARLOS",13.2,33,"-",132]
[null,null,null,null,null,null,null,null,null,null,5457,"NEA - Chaco - Bermejo",5457,"PRESIDENCIA ROCA",13.2,33,"-",132,{"$f":"IF(OR(DATOS_QR!$F$8=2,DATOS_QR!$F$8=\"\"),\"\",T131)","v":""},474,"SAN CLEMENTE",13.2,33,"-","-"]
[null,null,null,null,null,null,null,null,null,null,456,"NEA - Chaco - Oeste",456,"ROQUE SAENZ PENA",13.2,33,"-",132,{"$f":"IF(OR(DATOS_QR!$F$8=2,DATOS_QR!$F$8=\"\"),\"\",T132)","v":""},475,"SAN FRANCISCO",13.2,"-",66,132]
[null,null,null,null,null,null,null,null,null,null,5077,"NEA - Chaco - Oeste",5077,"QUITILIPI",13.2,33,"-",132,{"$f":"IF(OR(DATOS_QR!$F$8=2,DATOS_QR!$F$8=\"\"),\"\",T133)","v":""},476,"SAN ISIDRO","-","-","-",132]
[null,null,null,null,null,null,null,null,null,null,4986,"NEA - Chaco - Oeste",4986,"TRES ISLETAS",13.2,33,"-",132,{"$f":"IF(OR(DATOS_QR!$F$8=2,DATOS_QR!$F$8=\"\"),\"\",T134)","v":""},480,"SAN JORGE",13.2,33,"-",132]
[null,null,null,null,null,null,null,null,null,null,97,"NEA - Chaco - Oeste",97,"CASTELLI CHACO",13.2,33,"-",132,{"$f":"IF(OR(DATOS_QR!$F$8=2,DATOS_QR!$F$8=\"\"),\"\",T135)","v":""},481,"SAN JOSE",13.2,33,"-",132]
[null,null,null,null,null,null,null,null,null,null,5391,"NEA - Chaco - S1",5391,"SAN BERNARDO CH",13.2,33,"-",132,{"$f":"IF(OR(DATOS_QR!$F$8=2,DATOS_QR!$F$8=\"\"),\"\",T136)","v":""},483,"SAN JUANCITO",13.2,33,"-",132]
[null,null,null,null,null,null,null,null,null,null,560,"NEA - Chaco - S1",560,"VILLA ANGELA",13.2,33,"-",132,{"$f":"IF(OR(DATOS_QR!$F$8=2,DATOS_QR!$F$8=\"\"),\"\",T137)","v":""},484,"SAN JUSTO S.FE",13.2,33,"-",132]
[null,null,null,null,null,null,null,null,null,null,5079,"NEA - Chaco - S2",5079,"PAMPA DEL INFIER",13.2,33,"-",132,{"$f":"IF(OR(DATOS_QR!$F$8=2,DATOS_QR!$F$8=\"\"),\"\",T138)","v":""},487,"SAN LUIS",13.2,33,"-",132]
[null,null,null,null,null,null,null,null,null,null,5055,"NEA - Chaco - S2",5055,"CAMPO LARGO",13.2,33,"-",132,{"$f":"IF(OR(DATOS_QR!$F$8=2,DATOS_QR!$F$8=\"\"),\"\",T139)","v":""},488,"SAN MARTIN",13.2,33,"-",132]
[null,null,null,null,null,null,null,null,null,null,112,"NEA - Chaco - S2",112,"CHARATA",13.2,33,"-",132,{"$f":"IF(OR(DATOS_QR!$F$8=2,DATOS_QR!$F$8=\"\"),\"\",T140)","v":""},489,"SAN MARTIN CHACO",13.2,33,"-",132]
[null,null,null,null,null,null,null,null,null,null,4952,"NEA - Formosa - Bermejo",4952,"ING. G. JUAREZ",13.2,33,"-",132,{"$f":"IF(OR(DATOS_QR!$F$8=2,DATOS_QR!$F$8=\"\"),\"\",T141)","v":""},497,"SAN PEDRO",13.2,33,"-",132]
[null,null,null,null,null,null,null,null,null,null,4843,"NEA - Formosa - Bermejo",4843,"LAS LOMITAS NEA",13.2,33,"-",132,{"$f":"IF(OR(DATOS_QR!$F$8=2,DATOS_QR!$F$8=\"\"),\"\",T142)","v":""},498,"SAN RAFAEL",13.2,33,66,132]
[null,null,null,null,null,null,null,null,null,null,1453,"NEA - Formosa - Bermejo",1453,"IBARRETA",13.2,33,"-",132,{"$f":"IF(OR(DATOS_QR!$F$8=2,DATOS_QR!$F$8=\"\"),\"\",T143)","v":""},500,"SAN SALVADOR",13.2,33,"-",132]
[null,null,null,null,null,null,null,null,null,null,404,"NEA - Formosa - Bermejo",404,"PIRANE",13.2,33,"-",132,{"$f":"IF(OR(DATOS_QR!$F$8=2,DATOS_QR!$F$8=\"\"),\"\",T144)","v":""},501,"SANTA ELENA ER",13.2,33,"-",132]
[null,null,null,null,null,null,null,null,null,null,1433,"NEA - Formosa - Bermejo",1433,"EL COLORADO",13.2,33,"-",132,{"$f":"IF(OR(DATOS_QR!$F$8=2,DATOS_QR!$F$8=\"\"),\"\",T145)","v":""},506,"SANTA ROSA LP",13.2,33,"-",132]
[null,null,null,null,null,null,null,null,null,null,5114,"NEA - Formosa - Picomayo",5114,"GUEMES FORMOSA",13.2,33,"-",132,{"$f":"IF(OR(DATOS_QR!$F$8=2,DATOS_QR!$F$8=\"\"),\"\",T146)","v":""},507,"SANTA ROSA S.LUIS",13.2,33,"-",132]
[null,null,null,null,null,null,null,null,null,null,4957,"NEA - Formosa - Picomayo",4957,"LAGUNA BLANCA",13.2,33,"-",132,{"$f":"IF(OR(DATOS_QR!$F$8=2,DATOS_QR!$F$8=\"\"),\"\",T147)","v":""},524,"SPEGAZZINI",13.2,"-","-",132]
[null,null,null,null,null,null,null,null,null,null,125,"NEA - Formosa - Picomayo",125,"CLORINDA",13.2,33,"-",132,{"$f":"IF(OR(DATOS_QR!$F$8=2,DATOS_QR!$F$8=\"\"),\"\",T148)","v":""},526,"SUNCHALES",13.2,33,"-",132]
[null,null,null,null,null,null,null,null,null,null,201,"NEA - Formosa - Ciudad",201,"FORMOSA I",13.2,33,"-",132,{"$f":"IF(OR(DATOS_QR!$F$8=2,DATOS_QR!$F$8=\"\"),\"\",T149)","v":""},527,"SUNCHO CORRAL",13.2,33,"-",132]
[null,null,null,null,null,null,null,null,null,null,1513,"LIT - Entre Rios - Uruguay",1513,"COLON E.R.",13.2,33,"-",132,{"$f":"IF(OR(DATOS_QR!$F$8=2,DATOS_QR!$F$8=\"\"),\"\",T150)","v":""},532,"TARTAGAL",13.2,33,"-",132]
[null,null,null,null,null,null,null,null,null,null,5139,"LIT - Entre Rios - Uruguay",5139,"VILLA ELISA",13.2,33,"-",132,{"$f":"IF(OR(DATOS_QR!$F$8=2,DATOS_QR!$F$8=\"\"),\"\",T151)","v":""},536,"TINOGASTA",13.2,33,"-",132]
[null,null,null,null,null,null,null,null,null,null,64,"LIT - Entre Rios - Uruguay",64,"C. DEL URUGUAY",13.2,33,"-",132,{"$f":"IF(OR(DATOS_QR!$F$8=2,DATOS_QR!$F$8=\"\"),\"\",T152)","v":""},540,"TORNQUIST",13.2,33,"-",132]
[null,null,null,null,null,null,null,null,null,null,481,"LIT - Entre Rios - Uruguay",481,"SAN JOSE",13.2,33,"-",132,{"$f":"IF(OR(DATOS_QR!$F$8=2,DATOS_QR!$F$8=\"\"),\"\",T153)","v":""},546,"BAJO RÍO TUNUYAN",13.2,"-",66,"-"]
[null,null,null,null,null,null,null,null,null,null,500,"LIT - Entre Rios - Uruguay",500,"SAN SALVADOR",13.2,33,"-",132,{"$f":"IF(OR(DATOS_QR!$F$8=2,DATOS_QR!$F$8=\"\"),\"\",T154)","v":""},553,"VENADO TUERTO",13.2,33,"-",132]
[null,null,null,null,null,null,null,null,null,null,1493,"LIT - Entre Rios - Uruguay",1493,"VILLAGUAY",13.2,33,"-",132,{"$f":"IF(OR(DATOS_QR!$F$8=2,DATOS_QR!$F$8=\"\"),\"\",T155)","v":""},560,"VILLA ANGELA",13.2,33,"-",132]
[null,null,null,null,null,null,null,null,null,null,221,"LIT - Entre Rios - Uruguay",221,"GUALEGUAY",13.2,33,"-",132,{"$f":"IF(OR(DATOS_QR!$F$8=2,DATOS_QR!$F$8=\"\"),\"\",T156)","v":""},562,"VILLA DOLORES",13.2,33,"-",132]
[null,null,null,null,null,null,null,null,null,null,174,"LIT - Entre Rios - Parana Norte",174,"EL PINGO",13.2,33,"-",132,{"$f":"IF(OR(DATOS_QR!$F$8=2,DATOS_QR!$F$8=\"\"),\"\",T157)","v":""},563,"VILLA GESELL",13.2,"-","-","-"]
[null,null,null,null,null,null,null,null,null,null,501,"LIT - Entre Rios - Parana Norte",501,"SANTA ELENA ER",13.2,33,"-",132,{"$f":"IF(OR(DATOS_QR!$F$8=2,DATOS_QR!$F$8=\"\"),\"\",T158)","v":""},565,"VILLA MARIA",13.2,"-",66,132]
[null,null,null,null,null,null,null,null,null,null,2273,"LIT - Entre Rios - Parana Norte",2273,"LA PAZ E.R.",13.2,33,"-","-",{"$f":"IF(OR(DATOS_QR!$F$8=2,DATOS_QR!$F$8=\"\"),\"\",T159)","v":""},566,"VILLA MERCEDES",13.2,33,"-",132]
[null,null,null,null,null,null,null,null,null,null,146,"LIT - Entre Rios - Parana Sur",146,"CRESPO-E.RIOS",13.2,33,"-",132,{"$f":"IF(OR(DATOS_QR!$F$8=2,DATOS_QR!$F$8=\"\"),\"\",T160)","v":""},568,"VILLA OCAMPO",13.2,33,"-",132]
[null,null,null,null,null,null,null,null,null,null,4994,"LIT - Entre Rios - Parana Sur",4994,"SEGUI","-",33,"-","-",{"$f":"IF(OR(DATOS_QR!$F$8=2,DATOS_QR!$F$8=\"\"),\"\",T161)","v":""},572,"YOCSINA",13.2,"-","-",132]
[null,null,null,null,null,null,null,null,null,null,4995,"LIT - Entre Rios - Parana Sur",4995,"VIALE","-",33,"-","-",{"$f":"IF(OR(DATOS_QR!$F$8=2,DATOS_QR!$F$8=\"\"),\"\",T162)","v":""},578,"AROCENA",13.2,33,"-",132]
[null,null,null,null,null,null,null,null,null,null,82,"LIT - Santa Fe - R 9",82,"CANADA DE GOMEZ",13.2,33,"-",132,{"$f":"IF(OR(DATOS_QR!$F$8=2,DATOS_QR!$F$8=\"\"),\"\",T163)","v":""},582,"MARANZANA II","-","-","-",132]
[null,null,null,null,null,null,null,null,null,null,5362,"LIT - Santa Fe - R 9",5362,"C.GOMEZ NORTE","-","-","-",132,{"$f":"IF(OR(DATOS_QR!$F$8=2,DATOS_QR!$F$8=\"\"),\"\",T164)","v":""},585,"MAR DE AJO",13.2,33,"-","-"]
[null,null,null,null,null,null,null,null,null,null,1613,"LIT - Santa Fe - R 9",1613,"LAS PAREJAS",13.2,33,"-",132,{"$f":"IF(OR(DATOS_QR!$F$8=2,DATOS_QR!$F$8=\"\"),\"\",T165)","v":""},627,"LAS HERAS","-","-",66,"-"]
[null,null,null,null,null,null,null,null,null,null,280,"LIT - Santa Fe - R 9",280,"LAS ROSAS",13.2,33,"-",132,{"$f":"IF(OR(DATOS_QR!$F$8=2,DATOS_QR!$F$8=\"\"),\"\",T166)","v":""},631,"TANCACHA","-",33,"-",132]
[null,null,null,null,null,null,null,null,null,null,5443,"LIT - Santa Fe - R 9",5443,"ROLDAN",13.2,33,"-",132,{"$f":"IF(OR(DATOS_QR!$F$8=2,DATOS_QR!$F$8=\"\"),\"\",T167)","v":""},635,"SAN ANTONIO OESTE",13.2,33,"-",132]
[null,null,null,null,null,null,null,null,null,null,5331,"LIT - Santa Fe - R 33",5331,"PEREZ","-","-","-",132,{"$f":"IF(OR(DATOS_QR!$F$8=2,DATOS_QR!$F$8=\"\"),\"\",T168)","v":""},636,"SAN ANTONIO ESTE","-",33,"-",132]
[null,null,null,null,null,null,null,null,null,null,4913,"LIT - Santa Fe - R 33",4913,"CHABAS",13.2,33,"-",132,{"$f":"IF(OR(DATOS_QR!$F$8=2,DATOS_QR!$F$8=\"\"),\"\",T169)","v":""},648,"VIEDMA",13.2,33,"-",132]
[null,null,null,null,null,null,null,null,null,null,94,"LIT - Santa Fe - R 33",94,"CASILDA",13.2,33,"-",132,{"$f":"IF(OR(DATOS_QR!$F$8=2,DATOS_QR!$F$8=\"\"),\"\",T170)","v":""},653,"CERES",13.2,33,"-",132]
[null,null,null,null,null,null,null,null,null,null,196,"LIT - Santa Fe - R 33",196,"FIRMAT",13.2,33,"-",132,{"$f":"IF(OR(DATOS_QR!$F$8=2,DATOS_QR!$F$8=\"\"),\"\",T171)","v":""},673,"V.C.RESIDENCIAL",13.2,33,"-",132]
[null,null,null,null,null,null,null,null,null,null,553,"LIT - Santa Fe - R 33",553,"VENADO TUERTO",13.2,33,"-",132,{"$f":"IF(OR(DATOS_QR!$F$8=2,DATOS_QR!$F$8=\"\"),\"\",T172)","v":""},1053,"ITA IBATE",13.2,33,"-",132]
[null,null,null,null,null,null,null,null,null,null,461,"LIT - Santa Fe - R 33",461,"RUFINO",13.2,33,"-",132,{"$f":"IF(OR(DATOS_QR!$F$8=2,DATOS_QR!$F$8=\"\"),\"\",T173)","v":""},1097,"SAN MARCOS SUD",13.2,"-",66,"-"]
[null,null,null,null,null,null,null,null,null,null,213,"LIT - Santa Fe - General",213,"GRAL. LAGOS",13.2,33,"-",132,{"$f":"IF(OR(DATOS_QR!$F$8=2,DATOS_QR!$F$8=\"\"),\"\",T174)","v":""},1098,"LA CARLOTA",13.2,"-",66,"-"]
[null,null,null,null,null,null,null,null,null,null,673,"LIT - Santa Fe - General",673,"V.C.RESIDENCIAL",13.2,33,"-",132,{"$f":"IF(OR(DATOS_QR!$F$8=2,DATOS_QR!$F$8=\"\"),\"\",T175)","v":""},1135,"VILLA ROSARIO",13.2,"-",66,"-"]
[null,null,null,null,null,null,null,null,null,null,4841,"LIT - Santa Fe - General",4841,"LA RIBERA",13.2,33,"-",132,{"$f":"IF(OR(DATOS_QR!$F$8=2,DATOS_QR!$F$8=\"\"),\"\",T176)","v":""},1195,"ANDALGALA",13.2,33,"-",132]
[null,null,null,null,null,null,null,null,null,null,484,"LIT - Santa Fe - General",484,"SAN JUSTO S.FE",13.2,33,"-",132,{"$f":"IF(OR(DATOS_QR!$F$8=2,DATOS_QR!$F$8=\"\"),\"\",T177)","v":""},1233,"VILLA UNION",13.2,33,"-",132]
[null,null,null,null,null,null,null,null,null,null,578,"LIT - Santa Fe - General",578,"AROCENA",13.2,33,"-",132,{"$f":"IF(OR(DATOS_QR!$F$8=2,DATOS_QR!$F$8=\"\"),\"\",T178)","v":""},1294,"BIALET MASSE",13.2,"-","-",132]
[null,null,null,null,null,null,null,null,null,null,30,"LIT - Santa Fe - R 34",30,"ARRUFO",13.2,33,"-",132,{"$f":"IF(OR(DATOS_QR!$F$8=2,DATOS_QR!$F$8=\"\"),\"\",T179)","v":""},1393,"SANTO TOME CORR",13.2,33,"-",132]
[null,null,null,null,null,null,null,null,null,null,653,"LIT - Santa Fe - R 34",653,"CERES",13.2,33,"-",132,{"$f":"IF(OR(DATOS_QR!$F$8=2,DATOS_QR!$F$8=\"\"),\"\",T180)","v":""},1394,"VIRASORO",13.2,33,"-",132]
[null,null,null,null,null,null,null,null,null,null,2933,"LIT - Santa Fe - R 34",2933,"SAN GUILLERMO",13.2,33,"-",132,{"$f":"IF(OR(DATOS_QR!$F$8=2,DATOS_QR!$F$8=\"\"),\"\",T181)","v":""},1433,"EL COLORADO",13.2,33,"-",132]
[null,null,null,null,null,null,null,null,null,null,183,"LIT - Santa Fe - R 34",183,"ESPERANZA",13.2,33,"-",132,{"$f":"IF(OR(DATOS_QR!$F$8=2,DATOS_QR!$F$8=\"\"),\"\",T182)","v":""},1434,"LA CRUZ",13.2,33,"-",132]
[null,null,null,null,null,null,null,null,null,null,317,"LIT - Santa Fe - R 34",317,"MARIA JUANA",13.2,33,"-",132,{"$f":"IF(OR(DATOS_QR!$F$8=2,DATOS_QR!$F$8=\"\"),\"\",T183)","v":""},1436,"A. DEL VALLE",13.2,33,"-",132]
[null,null,null,null,null,null,null,null,null,null,428,"LIT - Santa Fe - R 34",428,"RAFAELA OESTE",13.2,33,"-",132,{"$f":"IF(OR(DATOS_QR!$F$8=2,DATOS_QR!$F$8=\"\"),\"\",T184)","v":""},1437,"SAN VICENTE",13.2,33,"-",132]
[null,null,null,null,null,null,null,null,null,null,1633,"LIT - Santa Fe - R 34",1633,"RAFAELA SUR",13.2,33,"-",132,{"$f":"IF(OR(DATOS_QR!$F$8=2,DATOS_QR!$F$8=\"\"),\"\",T185)","v":""},1438,"POSADAS CENTRO",13.2,33,"-",132]
[null,null,null,null,null,null,null,null,null,null,473,"LIT - Santa Fe - R 34",473,"SAN CARLOS",13.2,33,"-",132,{"$f":"IF(OR(DATOS_QR!$F$8=2,DATOS_QR!$F$8=\"\"),\"\",T186)","v":""},1453,"IBARRETA",13.2,33,"-",132]
[null,null,null,null,null,null,null,null,null,null,480,"LIT - Santa Fe - R 34",480,"SAN JORGE",13.2,33,"-",132,{"$f":"IF(OR(DATOS_QR!$F$8=2,DATOS_QR!$F$8=\"\"),\"\",T187)","v":""},1493,"VILLAGUAY",13.2,33,"-",132]
[null,null,null,null,null,null,null,null,null,null,526,"LIT - Santa Fe - R 34",526,"SUNCHALES",13.2,33,"-",132,{"$f":"IF(OR(DATOS_QR!$F$8=2,DATOS_QR!$F$8=\"\"),\"\",T188)","v":""},1513,"COLON E.R.",13.2,33,"-",132]
[null,null,null,null,null,null,null,null,null,null,1573,"LIT - Santa Fe - R 34",1573,"TOSTADO",13.2,33,"-",132,{"$f":"IF(OR(DATOS_QR!$F$8=2,DATOS_QR!$F$8=\"\"),\"\",T189)","v":""},1573,"TOSTADO",13.2,33,"-",132]
[null,null,null,null,null,null,null,null,null,null,5363,"LIT - Santa Fe - Parana",5363,"VILLA OCAMPO SUR","-","-","-",132,{"$f":"IF(OR(DATOS_QR!$F$8=2,DATOS_QR!$F$8=\"\"),\"\",T190)","v":""},1613,"LAS PAREJAS",13.2,33,"-",132]
[null,null,null,null,null,null,null,null,null,null,568,"LIT - Santa Fe - Parana",568,"VILLA OCAMPO",13.2,33,"-",132,{"$f":"IF(OR(DATOS_QR!$F$8=2,DATOS_QR!$F$8=\"\"),\"\",T191)","v":""},1633,"RAFAELA SUR",13.2,33,"-",132]
[null,null,null,null,null,null,null,null,null,null,434,"LIT - Santa Fe - Parana",434,"RECONQUISTA S.FE",13.2,33,"-",132,{"$f":"IF(OR(DATOS_QR!$F$8=2,DATOS_QR!$F$8=\"\"),\"\",T192)","v":""},1873,"MACACHIN","-",33,"-",132]
[null,null,null,null,null,null,null,null,null,null,5199,"LIT - Santa Fe - Parana",5199,"AVELLANEDA S.FE",13.2,33,"-",132,{"$f":"IF(OR(DATOS_QR!$F$8=2,DATOS_QR!$F$8=\"\"),\"\",T193)","v":""},1903,"LULES",13.2,33,"-",132]
[null,null,null,null,null,null,null,null,null,null,5142,"LIT - Santa Fe - Parana",5142,"CHAPERO",13.2,33,"-",132,{"$f":"IF(OR(DATOS_QR!$F$8=2,DATOS_QR!$F$8=\"\"),\"\",T194)","v":""},2273,"LA PAZ E.R.",13.2,33,"-","-"]
[null,null,null,null,null,null,null,null,null,null,3233,"PBA - Centro",3233,"PUAN",13.2,33,"-",132,{"$f":"IF(OR(DATOS_QR!$F$8=2,DATOS_QR!$F$8=\"\"),\"\",T195)","v":""},2333,"GUINAZU",13.2,"-","-",132]
[null,null,null,null,null,null,null,null,null,null,466,"PBA - Centro",466,"SALADILLO S.FE",13.2,33,"-",132,{"$f":"IF(OR(DATOS_QR!$F$8=2,DATOS_QR!$F$8=\"\"),\"\",T196)","v":""},2833,"EL CARRIL","-","-",66,132]
[null,null,null,null,null,null,null,null,null,null,355,"PBA - Centro",355,"OLAVARRIA VIEJA",13.2,33,"-",132,{"$f":"IF(OR(DATOS_QR!$F$8=2,DATOS_QR!$F$8=\"\"),\"\",T197)","v":""},2933,"SAN GUILLERMO",13.2,33,"-",132]
[null,null,null,null,null,null,null,null,null,null,126,"PBA - Centro",126,"CNEL. DORREGO",13.2,33,"-",132,{"$f":"IF(OR(DATOS_QR!$F$8=2,DATOS_QR!$F$8=\"\"),\"\",T198)","v":""},3233,"PUAN",13.2,33,"-",132]
[null,null,null,null,null,null,null,null,null,null,540,"PBA - Centro",540,"TORNQUIST",13.2,33,"-",132,{"$f":"IF(OR(DATOS_QR!$F$8=2,DATOS_QR!$F$8=\"\"),\"\",T199)","v":""},3253,"LA PAMPITA","-","-","-",132]
[null,null,null,null,null,null,null,null,null,null,3253,"PBA - Centro",3253,"LA PAMPITA","-","-","-",132,{"$f":"IF(OR(DATOS_QR!$F$8=2,DATOS_QR!$F$8=\"\"),\"\",T200)","v":""},3353,"SANTIAGO OESTE",13.2,33,"-",132]
[null,null,null,null,null,null,null,null,null,null,348,"PBA - Centro",348,"NORTE II",13.2,33,"-",132,{"$f":"IF(OR(DATOS_QR!$F$8=2,DATOS_QR!$F$8=\"\"),\"\",T201)","v":""},3398,"BANDERA",13.2,33,"-",132]
[null,null,null,null,null,null,null,null,null,null,90,"PBA - Centro",90,"CARLOS CASARES",13.2,33,66,"-",{"$f":"IF(OR(DATOS_QR!$F$8=2,DATOS_QR!$F$8=\"\"),\"\",T202)","v":""},3399,"QUIMILI",13.2,33,"-",132]
[null,null,null,null,null,null,null,null,null,null,325,"PBA - AMBA",325,"MERLO",13.2,"-","-",132,{"$f":"IF(OR(DATOS_QR!$F$8=2,DATOS_QR!$F$8=\"\"),\"\",T203)","v":""},3513,"COBOS",13.2,33,"-",132]
[null,null,null,null,null,null,null,null,null,null,19,"PBA - AMBA",19,"ALMIRANTE BROWN",13.2,"-","-",132,{"$f":"IF(OR(DATOS_QR!$F$8=2,DATOS_QR!$F$8=\"\"),\"\",T204)","v":""},3613,"AMPAJANGO","-",33,"-","-"]
[null,null,null,null,null,null,null,null,null,null,61,"PBA - AMBA",61,"BURZACO",13.2,33,"-",132,{"$f":"IF(OR(DATOS_QR!$F$8=2,DATOS_QR!$F$8=\"\"),\"\",T205)","v":""},3953,"V. MERCEDES SUR",13.2,33,"-",132]
[null,null,null,null,null,null,null,null,null,null,524,"PBA - AMBA",524,"SPEGAZZINI",13.2,"-","-",132,{"$f":"IF(OR(DATOS_QR!$F$8=2,DATOS_QR!$F$8=\"\"),\"\",T206)","v":""},3973,"P.INDUST.S.LUIS",13.2,33,"-",132]
[null,null,null,null,null,null,null,null,null,null,563,"PBA -  Costa Atlántica",563,"VILLA GESELL",13.2,"-","-","-",{"$f":"IF(OR(DATOS_QR!$F$8=2,DATOS_QR!$F$8=\"\"),\"\",T207)","v":""},4033,"LAS TONINAS",13.2,33,"-","-"]
[null,null,null,null,null,null,null,null,null,null,4851,"PBA -  Costa Atlántica",4851,"VALERIA DEL MAR",13.2,"-","-","-",{"$f":"IF(OR(DATOS_QR!$F$8=2,DATOS_QR!$F$8=\"\"),\"\",T208)","v":""},4253,"ZAPATA",13.2,"-",66,"-"]
[null,null,null,null,null,null,null,null,null,null,402,"PBA -  Costa Atlántica",402,"PINAMAR",13.2,"-","-","-",{"$f":"IF(OR(DATOS_QR!$F$8=2,DATOS_QR!$F$8=\"\"),\"\",T209)","v":""},4573,"CD5-CHACO",13.2,33,"-",132]
[null,null,null,null,null,null,null,null,null,null,585,"PBA -  Costa Atlántica",585,"MAR DE AJO",13.2,33,"-","-",{"$f":"IF(OR(DATOS_QR!$F$8=2,DATOS_QR!$F$8=\"\"),\"\",T210)","v":""},4601,"CRUZ DEL EJE",13.2,"-",66,"-"]
[null,null,null,null,null,null,null,null,null,null,316,"PBA -  Costa Atlántica",316,"MAR DEL TUYU",13.2,"-","-","-",{"$f":"IF(OR(DATOS_QR!$F$8=2,DATOS_QR!$F$8=\"\"),\"\",T211)","v":""},4653,"WANDA",13.2,33,"-",132]
[null,null,null,null,null,null,null,null,null,null,4033,"PBA -  Costa Atlántica",4033,"LAS TONINAS",13.2,33,"-","-",{"$f":"IF(OR(DATOS_QR!$F$8=2,DATOS_QR!$F$8=\"\"),\"\",T212)","v":""},4693,"CHACABUCO IND.",13.2,33,"-",132]
[null,null,null,null,null,null,null,null,null,null,474,"PBA -  Costa Atlántica",474,"SAN CLEMENTE",13.2,33,"-","-",{"$f":"IF(OR(DATOS_QR!$F$8=2,DATOS_QR!$F$8=\"\"),\"\",T213)","v":""},4815,"LA RIOJA SUR",13.2,33,"-",132]
[null,null,null,null,null,null,null,null,null,null,161,"PBA -  Costa Atlántica",161,"DOLORES",13.2,33,"-",132,{"$f":"IF(OR(DATOS_QR!$F$8=2,DATOS_QR!$F$8=\"\"),\"\",T214)","v":""},4827,"A. SARAVIA",13.2,33,"-",132]
[null,null,null,null,null,null,null,null,null,null,339,"PBA -  Costa Atlántica",339,"NECOCHEA",13.2,"-","-",132,{"$f":"IF(OR(DATOS_QR!$F$8=2,DATOS_QR!$F$8=\"\"),\"\",T215)","v":""},4841,"LA RIBERA",13.2,33,"-",132]
[null,null,null,null,null,null,null,null,null,null,330,"PBA -  Costa Atlántica",330,"MIRAMAR",13.2,33,"-",132,{"$f":"IF(OR(DATOS_QR!$F$8=2,DATOS_QR!$F$8=\"\"),\"\",T216)","v":""},4842,"COLON BA 132",13.2,33,"-",132]
[null,null,null,null,null,null,null,null,null,null,4886,"PBA - Mercedes",4886,"LUJAN DOS - GBA","-","-","-",132,{"$f":"IF(OR(DATOS_QR!$F$8=2,DATOS_QR!$F$8=\"\"),\"\",T217)","v":""},4843,"LAS LOMITAS NEA",13.2,33,"-",132]
[null,null,null,null,null,null,null,null,null,null,321,"PBA - Mercedes",321,"MERCEDES BS.AS.",13.2,33,"-",132,{"$f":"IF(OR(DATOS_QR!$F$8=2,DATOS_QR!$F$8=\"\"),\"\",T218)","v":""},4851,"VALERIA DEL MAR",13.2,"-","-","-"]
[null,null,null,null,null,null,null,null,null,null,117,"PBA - Mercedes",117,"CHIVILCOY",13.2,33,"-",132,{"$f":"IF(OR(DATOS_QR!$F$8=2,DATOS_QR!$F$8=\"\"),\"\",T219)","v":""},4886,"LUJAN DOS - GBA","-","-","-",132]
[null,null,null,null,null,null,null,null,null,null,312,"PBA - Mercedes",312,"MALVINAS-BS.AS.",13.2,33,"-",132,{"$f":"IF(OR(DATOS_QR!$F$8=2,DATOS_QR!$F$8=\"\"),\"\",T220)","v":""},4898,"CAMPO GALLO",13.2,33,"-",132]
[null,null,null,null,null,null,null,null,null,null,301,"PBA - Lobos",301,"LUJAN- GBA",13.2,33,66,132,{"$f":"IF(OR(DATOS_QR!$F$8=2,DATOS_QR!$F$8=\"\"),\"\",T221)","v":""},4904,"MAURICIO MAYER",13.2,33,"-",132]
[null,null,null,null,null,null,null,null,null,null,627,"PBA - Lobos",627,"LAS HERAS","-","-",66,"-",{"$f":"IF(OR(DATOS_QR!$F$8=2,DATOS_QR!$F$8=\"\"),\"\",T222)","v":""},4913,"CHABAS",13.2,33,"-",132]
[null,null,null,null,null,null,null,null,null,null,296,"PBA - Lobos",296,"LOBOS","-",33,66,"-",{"$f":"IF(OR(DATOS_QR!$F$8=2,DATOS_QR!$F$8=\"\"),\"\",T223)","v":""},4920,"EL MARCADO",13.2,"-",66,"-"]
[null,null,null,null,null,null,null,null,null,null,388,"PBA - Arrecifes",388,"PERGAMINO",13.2,33,"-",132,{"$f":"IF(OR(DATOS_QR!$F$8=2,DATOS_QR!$F$8=\"\"),\"\",T224)","v":""},4921,"LAMBARÉ",13.2,"-",66,"-"]
[null,null,null,null,null,null,null,null,null,null,50388,"PBA - Arrecifes",50388,"PERGAMINO 66","-","-",66,132,{"$f":"IF(OR(DATOS_QR!$F$8=2,DATOS_QR!$F$8=\"\"),\"\",T225)","v":""},4933,"VALLE VIEJO",13.2,33,"-",132]
[null,null,null,null,null,null,null,null,null,null,26,"PBA - Arrecifes",26,"ARRECIFES",13.2,33,66,"-",{"$f":"IF(OR(DATOS_QR!$F$8=2,DATOS_QR!$F$8=\"\"),\"\",T226)","v":""},4947,"ENCADENADAS",13.2,33,"-",132]
[null,null,null,null,null,null,null,null,null,null,145,"PBA - Arrecifes",145,"CPTAN SARMIENTO",13.2,33,66,"-",{"$f":"IF(OR(DATOS_QR!$F$8=2,DATOS_QR!$F$8=\"\"),\"\",T227)","v":""},4952,"ING. G. JUAREZ",13.2,33,"-",132]
[null,null,null,null,null,null,null,null,null,null,470,"PBA -  O'Higgins",470,"SALTO BS.AS.","-","-","-",132,{"$f":"IF(OR(DATOS_QR!$F$8=2,DATOS_QR!$F$8=\"\"),\"\",T228)","v":""},4957,"LAGUNA BLANCA",13.2,33,"-",132]
[null,null,null,null,null,null,null,null,null,null,109,"PBA -  O'Higgins",109,"CHACABUCO",13.2,33,"-",132,{"$f":"IF(OR(DATOS_QR!$F$8=2,DATOS_QR!$F$8=\"\"),\"\",T229)","v":""},4964,"NUEVA POMPEYA","-",33,"-","-"]
[null,null,null,null,null,null,null,null,null,null,4693,"PBA -  O'Higgins",4693,"CHACABUCO IND.",13.2,33,"-",132,{"$f":"IF(OR(DATOS_QR!$F$8=2,DATOS_QR!$F$8=\"\"),\"\",T230)","v":""},4971,"TABACAL","-","-","-",132]
[null,null,null,null,null,null,null,null,null,null,253,"PBA -  O'Higgins",253,"JUNIN",13.2,33,"-",132,{"$f":"IF(OR(DATOS_QR!$F$8=2,DATOS_QR!$F$8=\"\"),\"\",T231)","v":""},4980,"LA CUMBRE",13.2,33,"-",132]
[null,null,null,null,null,null,null,null,null,null,294,"PBA -  O'Higgins",294,"LINCOLN",13.2,33,"-",132,{"$f":"IF(OR(DATOS_QR!$F$8=2,DATOS_QR!$F$8=\"\"),\"\",T232)","v":""},4986,"TRES ISLETAS",13.2,33,"-",132]
[null,null,null,null,null,null,null,null,null,null,237,"PBA -  O'Higgins",237,"I.M.S.A.",13.2,33,"-",132,{"$f":"IF(OR(DATOS_QR!$F$8=2,DATOS_QR!$F$8=\"\"),\"\",T233)","v":""},4989,"13 DE JULIO","-","-","-",132]
[null,null,null,null,null,null,null,null,null,null,454,"PBA -  O'Higgins",454,"ROJAS",13.2,33,"-",132,{"$f":"IF(OR(DATOS_QR!$F$8=2,DATOS_QR!$F$8=\"\"),\"\",T234)","v":""},4994,"SEGUI","-",33,"-","-"]
[null,null,null,null,null,null,null,null,null,null,4842,"PBA -  O'Higgins",4842,"COLON BA 132",13.2,33,"-",132,{"$f":"IF(OR(DATOS_QR!$F$8=2,DATOS_QR!$F$8=\"\"),\"\",T235)","v":""},4995,"VIALE","-",33,"-","-"]
[null,null,null,null,null,null,null,null,null,null,405,"COMAHUE - NEUQUÉN",405,"PLAYA PLANICIE BANDERITA",13.2,33,"-",132,{"$f":"IF(OR(DATOS_QR!$F$8=2,DATOS_QR!$F$8=\"\"),\"\",T236)","v":""},4996,"PANTANILLO",13.2,33,"-",132]
[null,null,null,null,null,null,null,null,null,null,43,"COMAHUE - RíO NEGRO - ALIPIBA",43,"BARILOCHE",13.2,33,"-",132,{"$f":"IF(OR(DATOS_QR!$F$8=2,DATOS_QR!$F$8=\"\"),\"\",T237)","v":""},5007,"CALINGASTA NUEVA",13.2,33,"-",132]
[null,null,null,null,null,null,null,null,null,null,401,"COMAHUE - RÍO NEGRO - ALIPIBA",401,"PILCANIYEU",13.2,33,"-",132,{"$f":"IF(OR(DATOS_QR!$F$8=2,DATOS_QR!$F$8=\"\"),\"\",T238)","v":""},5037,"ISCHIGUALASTO",13.2,33,"-",132]
[null,null,null,null,null,null,null,null,null,null,648,"COMAHUE - RÍO NEGRO - VIEDMA",648,"VIEDMA",13.2,33,"-",132,{"$f":"IF(OR(DATOS_QR!$F$8=2,DATOS_QR!$F$8=\"\"),\"\",T239)","v":""},5043,"LA CANDELARIA S.LUIS",13.2,33,"-",132]
[null,null,null,null,null,null,null,null,null,null,636,"COMAHUE - RÍO NEGRO - VIEDMA",636,"SAN ANTONIO ESTE","-",33,"-",132,{"$f":"IF(OR(DATOS_QR!$F$8=2,DATOS_QR!$F$8=\"\"),\"\",T240)","v":""},5054,"LA ESCONDIDA",13.2,33,"-",132]
[null,null,null,null,null,null,null,null,null,null,635,"COMAHUE - RÍO NEGRO - VIEDMA",635,"SAN ANTONIO OESTE",13.2,33,"-",132,{"$f":"IF(OR(DATOS_QR!$F$8=2,DATOS_QR!$F$8=\"\"),\"\",T241)","v":""},5055,"CAMPO LARGO",13.2,33,"-",132]
[null,null,null,null,null,null,null,null,null,null,159,"COMAHUE - RÍO NEGRO - MEDANITO",159,"DIVISADEROS",13.2,33,"-",132,{"$f":"IF(OR(DATOS_QR!$F$8=2,DATOS_QR!$F$8=\"\"),\"\",T242)","v":""},5062,"COLONIA BRUGNE",13.2,33,"-",132]
[null,null,null,null,null,null,null,null,null,null,320,"COMAHUE - RÍO NEGRO - MEDANITO",320,"MEDANITO","-",33,"-",132,{"$f":"IF(OR(DATOS_QR!$F$8=2,DATOS_QR!$F$8=\"\"),\"\",T243)","v":""},5073,"COPO",13.2,33,"-",132]
[null,null,null,null,null,null,null,null,null,null,432,"COMAHUE - LA PAMPA",432,"REALICO",13.2,33,"-",132,{"$f":"IF(OR(DATOS_QR!$F$8=2,DATOS_QR!$F$8=\"\"),\"\",T244)","v":""},5077,"QUITILIPI",13.2,33,"-",132]
[null,null,null,null,null,null,null,null,null,null,1873,"COMAHUE - LA PAMPA",1873,"MACACHIN","-",33,"-",132,{"$f":"IF(OR(DATOS_QR!$F$8=2,DATOS_QR!$F$8=\"\"),\"\",T245)","v":""},5078,"LA LEONESA",13.2,33,"-",132]
[null,null,null,null,null,null,null,null,null,null,4904,"COMAHUE - LA PAMPA",4904,"MAURICIO MAYER",13.2,33,"-",132,{"$f":"IF(OR(DATOS_QR!$F$8=2,DATOS_QR!$F$8=\"\"),\"\",T246)","v":""},5079,"PAMPA DEL INFIER",13.2,33,"-",132]
[null,null,null,null,null,null,null,null,null,null,205,"COMAHUE - LA PAMPA",205,"GENERAL PICO",13.2,33,"-",132,{"$f":"IF(OR(DATOS_QR!$F$8=2,DATOS_QR!$F$8=\"\"),\"\",T247)","v":""},5081,"PUERTO VILELAS",13.2,33,"-",132]
[null,null,null,null,null,null,null,null,null,null,5103,"COMAHUE - LA PAMPA",5103,"SANTA ROSA SUR",13.2,33,"-",132,{"$f":"IF(OR(DATOS_QR!$F$8=2,DATOS_QR!$F$8=\"\"),\"\",T248)","v":""},5094,"SENDA HACHADA",13.2,33,"-",132]
[null,null,null,null,null,null,null,null,null,null,506,"COMAHUE - LA PAMPA",506,"SANTA ROSA LP",13.2,33,"-",132,{"$f":"IF(OR(DATOS_QR!$F$8=2,DATOS_QR!$F$8=\"\"),\"\",T249)","v":""},5103,"SANTA ROSA SUR",13.2,33,"-",132]
[null,null,null,null,null,null,null,null,null,null,3398,"NOA - SANTIAGO - COPO",3398,"BANDERA",13.2,33,"-",132,{"$f":"IF(OR(DATOS_QR!$F$8=2,DATOS_QR!$F$8=\"\"),\"\",T250)","v":""},5104,"J. POSSE","-",33,"-",132]
[null,null,null,null,null,null,null,null,null,null,21,"NOA - SANTIAGO - COPO",21,"AÑATUYA",13.2,33,"-",132,{"$f":"IF(OR(DATOS_QR!$F$8=2,DATOS_QR!$F$8=\"\"),\"\",T251)","v":""},5114,"GUEMES FORMOSA",13.2,33,"-",132]
[null,null,null,null,null,null,null,null,null,null,527,"NOA - SANTIAGO - COPO",527,"SUNCHO CORRAL",13.2,33,"-",132,{"$f":"IF(OR(DATOS_QR!$F$8=2,DATOS_QR!$F$8=\"\"),\"\",T252)","v":""},5139,"VILLA ELISA",13.2,33,"-",132]
[null,null,null,null,null,null,null,null,null,null,193,"NOA - SANTIAGO - COPO",193,"FERNANDEZ",13.2,33,"-",132,{"$f":"IF(OR(DATOS_QR!$F$8=2,DATOS_QR!$F$8=\"\"),\"\",T253)","v":""},5141,"S. A. ARREDONDO",13.2,"-","-",132]
[null,null,null,null,null,null,null,null,null,null,3399,"NOA - SANTIAGO - COPO",3399,"QUIMILI",13.2,33,"-",132,{"$f":"IF(OR(DATOS_QR!$F$8=2,DATOS_QR!$F$8=\"\"),\"\",T254)","v":""},5142,"CHAPERO",13.2,33,"-",132]
[null,null,null,null,null,null,null,null,null,null,5073,"NOA - SANTIAGO - COPO",5073,"COPO",13.2,33,"-",132,{"$f":"IF(OR(DATOS_QR!$F$8=2,DATOS_QR!$F$8=\"\"),\"\",T255)","v":""},5143,"ALEJANDRO ROCA",13.2,"-",66,"-"]
[null,null,null,null,null,null,null,null,null,null,4898,"NOA - SANTIAGO - COPO",4898,"CAMPO GALLO",13.2,33,"-",132,{"$f":"IF(OR(DATOS_QR!$F$8=2,DATOS_QR!$F$8=\"\"),\"\",T256)","v":""},5188,"P. LIBRES NORTE",13.2,33,"-",132]
[null,null,null,null,null,null,null,null,null,null,3353,"NOA - SANTIAGO",3353,"SANTIAGO OESTE",13.2,33,"-",132,{"$f":"IF(OR(DATOS_QR!$F$8=2,DATOS_QR!$F$8=\"\"),\"\",T257)","v":""},5198,"ITAEMBE MINI",13.2,33,"-",132]
[null,null,null,null,null,null,null,null,null,null,255,"NOA - SANTIAGO",255,"LA BANDA (*)",13.2,33,"-",132,{"$f":"IF(OR(DATOS_QR!$F$8=2,DATOS_QR!$F$8=\"\"),\"\",T258)","v":""},5199,"AVELLANEDA S.FE",13.2,33,"-",132]
[null,null,null,null,null,null,null,null,null,null,202,"NOA - SANTIAGO",202,"FRIAS (*)",13.2,33,"-",132,{"$f":"IF(OR(DATOS_QR!$F$8=2,DATOS_QR!$F$8=\"\"),\"\",T259)","v":""},5204,"SAN LUIS CENTRO",13.2,33,"-",132]
[null,null,null,null,null,null,null,null,null,null,448,"NOA - SANTIAGO",448,"RIO HONDO",13.2,33,"-",132,{"$f":"IF(OR(DATOS_QR!$F$8=2,DATOS_QR!$F$8=\"\"),\"\",T260)","v":""},5205,"MERLO SAN LUIS",13.2,33,"-",132]
[null,null,null,null,null,null,null,null,null,null,14,"NOA - TUCUMÁN",14,"AGUILARES",13.2,33,"-",132,{"$f":"IF(OR(DATOS_QR!$F$8=2,DATOS_QR!$F$8=\"\"),\"\",T261)","v":""},5206,"TILISARAO S. LUIS",13.2,33,"-",132]
[null,null,null,null,null,null,null,null,null,null,204,"NOA - TUCUMÁN",204,"INDEPENDENCIA (*)",13.2,33,"-",132,{"$f":"IF(OR(DATOS_QR!$F$8=2,DATOS_QR!$F$8=\"\"),\"\",T262)","v":""},5223,"LA ESTRELLA","-",33,"-",132]
[null,null,null,null,null,null,null,null,null,null,1903,"NOA - TUCUMÁN",1903,"LULES",13.2,33,"-",132,{"$f":"IF(OR(DATOS_QR!$F$8=2,DATOS_QR!$F$8=\"\"),\"\",T263)","v":""},5257,"P.ROJAS","-",33,"-",132]
[null,null,null,null,null,null,null,null,null,null,5337,"NOA - SALTA",5337,"LA PUNA","-",33,"-","-",{"$f":"IF(OR(DATOS_QR!$F$8=2,DATOS_QR!$F$8=\"\"),\"\",T264)","v":""},5264,"AFISA",13.2,"-",66,132]
[null,null,null,null,null,null,null,null,null,null,225,"NOA - SALTA",225,"GUEMES",13.2,33,"-",132,{"$f":"IF(OR(DATOS_QR!$F$8=2,DATOS_QR!$F$8=\"\"),\"\",T265)","v":""},5272,"SANTA ELENA CBA","-",33,"-",132]
[null,null,null,null,null,null,null,null,null,null,3513,"NOA - SALTA",3513,"COBOS",13.2,33,"-",132,{"$f":"IF(OR(DATOS_QR!$F$8=2,DATOS_QR!$F$8=\"\"),\"\",T266)","v":""},5273,"V.DE MARIA SECO",13.2,"-",66,"-"]
[null,null,null,null,null,null,null,null,null,null,2833,"NOA - SALTA",2833,"EL CARRIL","-","-",66,132,{"$f":"IF(OR(DATOS_QR!$F$8=2,DATOS_QR!$F$8=\"\"),\"\",T267)","v":""},5290,"ADELIA MARIA",13.2,"-",66,"-"]
[null,null,null,null,null,null,null,null,null,null,357,"NOA - Tartagal",357,"ORAN",13.2,33,"-",132,{"$f":"IF(OR(DATOS_QR!$F$8=2,DATOS_QR!$F$8=\"\"),\"\",T268)","v":""},5294,"MORTEROS",13.2,"-","-",132]
[null,null,null,null,null,null,null,null,null,null,4971,"NOA - Tartagal",4971,"TABACAL","-","-","-",132,{"$f":"IF(OR(DATOS_QR!$F$8=2,DATOS_QR!$F$8=\"\"),\"\",T269)","v":""},5301,"PROMAIZ",13.2,"-",66,132]
[null,null,null,null,null,null,null,null,null,null,532,"NOA - Tartagal",532,"TARTAGAL",13.2,33,"-",132,{"$f":"IF(OR(DATOS_QR!$F$8=2,DATOS_QR!$F$8=\"\"),\"\",T270)","v":""},5313,"VILLA MARIA NORTE",13.2,"-",66,132]
[null,null,null,null,null,null,null,null,null,null,5094,"NOA - Tartagal",5094,"SENDA HACHADA",13.2,33,"-",132,{"$f":"IF(OR(DATOS_QR!$F$8=2,DATOS_QR!$F$8=\"\"),\"\",T271)","v":""},5321,"TIO PUJIO",13.2,"-",66,"-"]
[null,null,null,null,null,null,null,null,null,null,5223,"NOA - Libertador",5223,"LA ESTRELLA","-",33,"-",132,{"$f":"IF(OR(DATOS_QR!$F$8=2,DATOS_QR!$F$8=\"\"),\"\",T272)","v":""},5326,"RIO GRANDE",13.2,"-",66,"-"]
[null,null,null,null,null,null,null,null,null,null,4827,"NOA - Libertador",4827,"A. SARAVIA",13.2,33,"-",132,{"$f":"IF(OR(DATOS_QR!$F$8=2,DATOS_QR!$F$8=\"\"),\"\",T273)","v":""},5331,"PEREZ","-","-","-",132]
[null,null,null,null,null,null,null,null,null,null,248,"NOA - Libertador",248,"J.V. GONZALES",13.2,33,"-",132,{"$f":"IF(OR(DATOS_QR!$F$8=2,DATOS_QR!$F$8=\"\"),\"\",T274)","v":""},5336,"CAUCHARI","-",33,"-","-"]
[null,null,null,null,null,null,null,null,null,null,395,"NOA - Libertador",395,"PICHANAL",13.2,33,"-",132,{"$f":"IF(OR(DATOS_QR!$F$8=2,DATOS_QR!$F$8=\"\"),\"\",T275)","v":""},5337,"LA PUNA","-",33,"-","-"]
[null,null,null,null,null,null,null,null,null,null,5347,"NOA - Jujuy - Libertador",5347,"CAIMANCITO","-","-","-",132,{"$f":"IF(OR(DATOS_QR!$F$8=2,DATOS_QR!$F$8=\"\"),\"\",T276)","v":""},5342,"MALLIGASTA",13.2,33,"-",132]
[null,null,null,null,null,null,null,null,null,null,287,"NOA - Jujuy - Libertador",287,"LIBERTADOR",13.2,33,"-",132,{"$f":"IF(OR(DATOS_QR!$F$8=2,DATOS_QR!$F$8=\"\"),\"\",T277)","v":""},5347,"CAIMANCITO","-","-","-",132]
[null,null,null,null,null,null,null,null,null,null,497,"NOA - Jujuy - Libertador",497,"SAN PEDRO",13.2,33,"-",132,{"$f":"IF(OR(DATOS_QR!$F$8=2,DATOS_QR!$F$8=\"\"),\"\",T278)","v":""},5357,"ACHIRAS","-","-","-",132]
[null,null,null,null,null,null,null,null,null,null,483,"NOA - Jujuy",483,"SAN JUANCITO",13.2,33,"-",132,{"$f":"IF(OR(DATOS_QR!$F$8=2,DATOS_QR!$F$8=\"\"),\"\",T279)","v":""},5362,"C.GOMEZ NORTE","-","-","-",132]
[null,null,null,null,null,null,null,null,null,null,279,"NOA - Jujuy",279,"LAS MADERAS",13.2,33,"-",132,{"$f":"IF(OR(DATOS_QR!$F$8=2,DATOS_QR!$F$8=\"\"),\"\",T280)","v":""},5363,"VILLA OCAMPO SUR","-","-","-",132]
[null,null,null,null,null,null,null,null,null,null,252,"NOA - Jujuy",252,"JUJUY SUR",13.2,33,"-",132,{"$f":"IF(OR(DATOS_QR!$F$8=2,DATOS_QR!$F$8=\"\"),\"\",T281)","v":""},5374,"SOLAR ULLUM","-",33,"-",132]
[null,null,null,null,null,null,null,null,null,null,5336,"NOA - Jujuy",5336,"CAUCHARI","-",33,"-","-",{"$f":"IF(OR(DATOS_QR!$F$8=2,DATOS_QR!$F$8=\"\"),\"\",T282)","v":""},5391,"SAN BERNARDO CH",13.2,33,"-",132]
[null,null,null,null,null,null,null,null,null,null,111,"NOA - LA RIOJA",111,"CHAMICAL",13.2,33,"-",132,{"$f":"IF(OR(DATOS_QR!$F$8=2,DATOS_QR!$F$8=\"\"),\"\",T283)","v":""},5404,"OBERA II",13.2,33,"-",132]
[null,null,null,null,null,null,null,null,null,null,347,"NOA - LA RIOJA",347,"NONOGASTA","-","-",66,132,{"$f":"IF(OR(DATOS_QR!$F$8=2,DATOS_QR!$F$8=\"\"),\"\",T284)","v":""},5429,"GOYA OESTE",13.2,33,"-",132]
[null,null,null,null,null,null,null,null,null,null,15,"NOA - LA RIOJA",15,"AIMOGASTA",13.2,33,"-","-",{"$f":"IF(OR(DATOS_QR!$F$8=2,DATOS_QR!$F$8=\"\"),\"\",T285)","v":""},5443,"ROLDAN",13.2,33,"-",132]
[null,null,null,null,null,null,null,null,null,null,266,"NOA - LA RIOJA",266,"LA RIOJA NORTE (*)",13.2,33,"-",132,{"$f":"IF(OR(DATOS_QR!$F$8=2,DATOS_QR!$F$8=\"\"),\"\",T286)","v":""},5453,"LAS VARILLAS",13.2,"-","-",132]
[null,null,null,null,null,null,null,null,null,null,4815,"NOA - LA RIOJA",4815,"LA RIOJA SUR",13.2,33,"-",132,{"$f":"IF(OR(DATOS_QR!$F$8=2,DATOS_QR!$F$8=\"\"),\"\",T287)","v":""},5454,"YAPEYU",13.2,33,"-",132]
[null,null,null,null,null,null,null,null,null,null,378,"NOA - LA RIOJA",378,"PATQUIA",13.2,33,"-",132,{"$f":"IF(OR(DATOS_QR!$F$8=2,DATOS_QR!$F$8=\"\"),\"\",T288)","v":""},5457,"PRESIDENCIA ROCA",13.2,33,"-",132]
[null,null,null,null,null,null,null,null,null,null,1233,"NOA - LA RIOJA",1233,"VILLA UNION",13.2,33,"-",132,{"$f":"IF(OR(DATOS_QR!$F$8=2,DATOS_QR!$F$8=\"\"),\"\",T289)","v":""},5458,"PASO TALA",13.2,33,"-",132]
[null,null,null,null,null,null,null,null,null,null,5342,"NOA - LA RIOJA",5342,"MALLIGASTA",13.2,33,"-",132,{"$f":"IF(OR(DATOS_QR!$F$8=2,DATOS_QR!$F$8=\"\"),\"\",T290)","v":""},5468,"ITUZAINGO NORTE",13.2,33,"-",132]
[null,null,null,null,null,null,null,null,null,null,99,"NOA - Catamarca - 1",99,"CATAMARCA",13.2,33,"-",132,{"$f":"IF(OR(DATOS_QR!$F$8=2,DATOS_QR!$F$8=\"\"),\"\",T291)","v":""},5471,"PIRAYU",13.2,33,"-",132]
[null,null,null,null,null,null,null,null,null,null,4996,"NOA - Catamarca - 1",4996,"PANTANILLO",13.2,33,"-",132,{"$f":"IF(OR(DATOS_QR!$F$8=2,DATOS_QR!$F$8=\"\"),\"\",T292)","v":""},5492,"AGRELO",13.2,"-",66,"-"]
[null,null,null,null,null,null,null,null,null,null,4933,"NOA - Catamarca - 1",4933,"VALLE VIEJO",13.2,33,"-",132,{"$f":"IF(OR(DATOS_QR!$F$8=2,DATOS_QR!$F$8=\"\"),\"\",T293)","v":""},5493,"UGARTECHE",13.2,"-",66,"-"]
[null,null,null,null,null,null,null,null,null,null,435,"NOA - Catamarca - 2",435,"RECREO",13.2,33,"-",132,{"$f":"IF(OR(DATOS_QR!$F$8=2,DATOS_QR!$F$8=\"\"),\"\",T294)","v":""},5505,"STELLA MARIS",13.2,33,"-",132]
[null,null,null,null,null,null,null,null,null,null,488,"NOA - Catamarca - 2",488,"SAN MARTIN",13.2,33,"-",132,{"$f":"IF(OR(DATOS_QR!$F$8=2,DATOS_QR!$F$8=\"\"),\"\",T295)","v":""},5534,"P. I. ITUZAINGO",13.2,33,"-",132]
[null,null,null,null,null,null,null,null,null,null,3613,"NOA - Catamarca - 3",3613,"AMPAJANGO","-",33,"-","-",{"$f":"IF(OR(DATOS_QR!$F$8=2,DATOS_QR!$F$8=\"\"),\"\",T296)","v":""},50000,"LA PAZ",13.2,"-",66,"-"]
[null,null,null,null,null,null,null,null,null,null,536,"NOA - Catamarca - 4",536,"TINOGASTA",13.2,33,"-",132,{"$f":"IF(OR(DATOS_QR!$F$8=2,DATOS_QR!$F$8=\"\"),\"\",T297)","v":""},50001,"LAS CATITAS",13.2,"-",66,"-"]
[null,null,null,null,null,null,null,null,null,null,1195,"NOA - Catamarca - 4",1195,"ANDALGALA",13.2,33,"-",132,{"$f":"IF(OR(DATOS_QR!$F$8=2,DATOS_QR!$F$8=\"\"),\"\",T298)","v":""},50002,"SANTA ROSA",13.2,"-",66,"-"]
[null,null,null,null,null,null,null,null,null,null,51,"NOA - Catamarca - 4",51,"BELEN",13.2,33,"-",132,{"$f":"IF(OR(DATOS_QR!$F$8=2,DATOS_QR!$F$8=\"\"),\"\",T299)","v":""},50388,"PERGAMINO 66","-","-",66,132]